Workbook

Sheet Info
B2: Worksheet | C2: Description
B4: Master | C4: Reactions and additional gene information
B6: Reactions | C6: Reactions and reversibilities (grey highlighted information is directly compatible with CNA)
B8: Metabolites | C8: Metabolites and composistions (red highlighted metabolites were potential external metabolites, such as nutrients and carbon sources)
B10: BIOMASS_Myell | C10: Describes biomass formulation for Metalospheara biomass
B12: grfile | C12: Gene regulatory information for running RegEFMTool

Sheet Master
A2: ID | B2: Reaction Name | C2: Reaction | D2: Enzyme Commission | E2: Metacyc version of Reaction | F2: Name | G2: Product Name | H2: Reversible | I2: Gene Object ID | J2: Locus | K2: Protein | L2: Gene | N2: Reference Paper
C4: Autortrophy
A5: =IF(EXACT(H5,"N"),CONCATENATE("R",ROW()),IF(EXACT(H5,"Y"),CONCATENATE("R",ROW()),"")) -> R5 | B5: autotrophy_reduction | C5: Acetyl-CoA + 2 HCO3 + 3 ATP + 3 NADPH + 1 Proton = Succinyl-CoA + 2 ADP + 2 Phosphate + 3 NADP + AMP + PPi + H2O | H5: N
A7: =IF(EXACT(H7,"N"),CONCATENATE("R",ROW()),IF(EXACT(H7,"Y"),CONCATENATE("R",ROW()),"")) -> R7 | B7: autotrophy_regeneration | C7: Succinyl-CoA + 2 NADPH + Proton + ATP + NAD = 2 NADP + Acetoacetyl-CoA + NADH + AMP + PPi | H7: N
C9: TCA cycle / Fermentative pathways
A10: =IF(EXACT(H10,"N"),CONCATENATE("R",ROW()),IF(EXACT(H10,"Y"),CONCATENATE("R",ROW()),"")) -> R10 | B10: TCA_R01325 | C10: 1 Citrate = 1 Isocitrate | D10: 4.2.1.3 | G10: aconitate hydratase 1 | H10: Y | I10: 2508724220 | J10: MetMK1DRAFT_00025720 | K10: MKIEKSRIGDAYYYPLSKLSELGFNIDELPYSIKVLVENTLRNMDGDKIT EDDLEAIAGWKTGKDFAFMPTRVVMQDYTGVPLLVDLAAMRSELQRLGLD PTRVNPRIPSDLVIDHSIQVDYFGTGYSLAMNMRTEFERNQERYKFLKWA QGAFTNLRIVPPGNGIIHQVNLEFLSKVIDVREHGGVLTAFPEVVIGTDS HTTMVDGLGVLAWGVGGLEAESVMLGEPYYMSVPEVVGVKLKGEVRDGVT PTDVVLYLTELLRKKGVVGKFVEFFGPSLSLLSVPDRATIANMAPEYGAT VGYFPIDEVTLSYLRATDRDAEFVREYSKAQGLMYGREPRYSEVVEVDLG HVEPALAGPRNPDERVPLRKMAELKVGNKVGKKVKDGSVVIASITSCTNT SNPTVMLGAGILARKAVSLGLRVPDFVKTSTAPGSPIVVKYLEEAGLLPY LEALRFHIVGFGCTTCIGNSGPLPKEVEDDLRQGIEAYAVISGNRNFEGR IYPLLKGTYLASPILVVAYALAGRININFETEPIGIDPNGRPVFLKDVWP SLKEISKYMEIALNPQFFREQKSKIFEGDENWKKLPVSQGVTFSWDPSST YIVEPPWFRGESKPFQEIRDARILMILGDKITTDHISPAGPIAPDSDAGR YLKERGAKELNTFGARRGNHEVMLRGGFSNPKVKNLMVQREGGFTIHYPD GKIDTIFNVAAMYKKEGVPLVIFAGKQYGTGSSRDWAAKVTSLLGIRVVV AESFERIHRSNLVAMGVLPVEANWSGANLRGDELVDVILSDLKPRAEVTV RIKGGKGEREIRGIARVETKAEVEYLRHGGILNYVFTKIKSNSFV | L10: ATGAAAATCGAGAAATCTAGGATCGGAGACGCATATTATTATCCCCTTTC TAAGCTCTCGGAATTAGGTTTCAACATAGACGAACTCCCTTACTCTATCA AGGTCTTGGTCGAGAACACACTGAGAAATATGGATGGGGACAAAATAACG GAGGATGACCTGGAGGCGATAGCTGGTTGGAAGACAGGGAAGGATTTTGC ATTCATGCCGACTAGGGTCGTGATGCAAGATTACACTGGAGTCCCCCTAT TAGTCGACCTAGCTGCAATGAGATCTGAGCTTCAACGCTTAGGGTTAGAT CCGACGAGGGTTAATCCCAGGATTCCATCAGACCTAGTCATAGATCACTC AATCCAGGTGGATTACTTCGGTACTGGGTACTCCCTGGCAATGAACATGA GGACTGAGTTCGAAAGGAACCAGGAGAGGTATAAATTTCTCAAGTGGGCA CAAGGTGCCTTCACTAATCTCAGAATAGTTCCACCAGGAAACGGTATAAT ACATCAGGTCAATTTGGAGTTCTTGAGTAAGGTAATAGATGTCAGGGAGC ACGGCGGCGTCCTCACGGCCTTTCCCGAGGTTGTCATAGGCACTGACTCC CACACTACGATGGTAGACGGTTTAGGGGTCCTAGCTTGGGGAGTGGGAGG CTTAGAAGCGGAGTCTGTGATGCTAGGTGAACCGTATTACATGAGCGTCC CTGAGGTAGTGGGGGTCAAGCTTAAGGGAGAGGTTCGAGATGGCGTTACT CCAACAGATGTAGTGCTCTATTTAACCGAACTTCTGAGGAAAAAGGGAGT AGTTGGAAAGTTTGTTGAGTTCTTCGGTCCCTCTCTCTCACTACTCTCAG TTCCGGACAGAGCTACAATCGCCAATATGGCTCCAGAGTACGGAGCCACT GTGGGTTACTTCCCCATTGACGAGGTAACCCTCTCTTATTTGAGGGCCAC AGATAGGGACGCTGAATTCGTGAGGGAATACTCTAAGGCGCAAGGCCTGA TGTACGGAAGAGAGCCCAGATATTCTGAGGTAGTGGAGGTGGACTTGGGC CACGTGGAACCTGCCCTTGCTGGACCTAGGAACCCAGACGAAAGGGTTCC CCTGAGGAAAATGGCCGAATTGAAAGTAGGAAACAAGGTGGGGAAGAAGG TCAAGGACGGAAGCGTTGTAATAGCATCCATCACTAGCTGTACTAATACC TCCAATCCCACAGTCATGCTCGGAGCAGGAATACTGGCCAGAAAGGCTGT GAGTCTGGGACTTAGGGTGCCAGACTTCGTCAAGACTAGCACGGCTCCAG GTTCACCCATAGTCGTGAAGTACCTCGAGGAGGCTGGTCTCCTTCCATAC CTTGAGGCGTTGAGGTTCCATATTGTGGGCTTCGGCTGTACCACCTGTAT AGGTAATTCTGGTCCTCTCCCCAAGGAAGTGGAAGACGACCTCAGGCAAG GGATAGAGGCCTATGCAGTGATCAGCGGAAACAGGAACTTCGAAGGAAGG ATATACCCTCTCCTCAAGGGAACCTACTTGGCCTCTCCCATCCTTGTTGT TGCCTACGCTTTGGCTGGAAGGATCAACATTAACTTTGAGACTGAACCCA TAGGGATAGATCCTAACGGCAGGCCGGTATTCCTTAAGGATGTATGGCCC TCCCTCAAGGAGATATCGAAGTATATGGAGATTGCCCTCAATCCCCAGTT CTTCAGGGAACAGAAGAGCAAAATATTCGAGGGAGACGAGAATTGGAAAA AACTCCCTGTATCTCAGGGAGTGACATTCTCTTGGGATCCCTCCTCCACG TACATAGTGGAGCCTCCGTGGTTTAGGGGGGAATCAAAACCCTTCCAGGA GATCAGGGATGCGAGGATCCTAATGATCTTAGGCGATAAGATAACTACGG ATCATATATCTCCAGCGGGCCCCATAGCCCCAGACTCTGACGCAGGGAGG TACCTTAAGGAAAGGGGAGCAAAGGAGCTCAACACTTTCGGGGCCAGGAG AGGTAATCATGAGGTCATGCTCAGGGGAGGCTTCTCCAACCCCAAGGTGA AGAACCTCATGGTACAGAGGGAGGGAGGATTTACGATCCACTATCCTGAC GGGAAGATTGACACCATATTTAACGTAGCCGCTATGTATAAGAAAGAGGG CGTGCCCTTGGTGATATTTGCAGGAAAGCAATACGGTACTGGGAGCTCAA GGGACTGGGCAGCCAAGGTTACATCTCTCTTGGGGATAAGGGTAGTTGTA GCCGAGAGCTTCGAAAGGATACACAGGAGTAACTTAGTTGCCATGGGTGT TCTCCCTGTGGAGGCGAACTGGAGCGGGGCGAACTTAAGGGGTGATGAGC TGGTAGACGTTATCTTGAGCGACTTAAAGCCTAGAGCCGAGGTTACTGTG AGGATTAAAGGAGGAAAGGGAGAACGAGAGATAAGGGGAATAGCAAGGGT AGAGACTAAGGCAGAAGTGGAATATTTAAGACACGGTGGCATTCTGAATT ACGTCTTCACAAAGATTAAGAGCAACTCCTTTGTATAA
A12: =IF(EXACT(H12,"N"),CONCATENATE("R",ROW()),IF(EXACT(H12,"Y"),CONCATENATE("R",ROW()),"")) -> R12 | B12: TCA_R01899 | C12: NADP + Isocitrate = NADPH + CO2 + 2-Oxoglutarate | D12: 1.1.1.42 | G12: Isocitrate dehydrogenases | H12: N | I12: 2508722861 | J12: MetMK1DRAFT_00012130 | K12: MKTPEDGKKITFEGGKWKVPDKPIILYVEGDGIGPEIVSSAIKVINAAVE KAYKSKREIKWMEVLAGEKGEKVKGDRFPKETQEALLEYRVVLKGPLETP IGKGWKSVNVAIRMMLDLYANIRPVKYIEGIESPLKEPQKVDMVIFRENT DDLYRGIEYPYDTQEAKKIRDFMRRELKVEVEDDTGIGIKLISRFKTERI TRMAMNYAIAHGRKKVTIMHKGNVMKYTEGAFRDWAYDLIKREYRDKVVT EEEISKQYNGQVPPGKILVNDRIADNMFQQIITRPDEYDIILAPNVNGDY ISDAAGALVGNIGLLGGANVGDSGGMFEAIHGTAPKYAGKNVANPTGIIK SGELMLRFMGWTEAADLVERSILTAISSRKVTQDIARFMGVKPLTTSEYT NELINIIHTL | L12: ATGAAGACTCCTGAAGACGGGAAGAAGATCACATTTGAGGGAGGTAAATG GAAGGTTCCTGATAAGCCAATAATCCTCTACGTTGAGGGAGACGGAATAG GGCCTGAGATAGTCTCGTCTGCCATCAAGGTCATAAACGCTGCAGTGGAG AAGGCGTACAAATCCAAAAGGGAGATAAAGTGGATGGAAGTGTTGGCAGG AGAGAAGGGGGAGAAAGTGAAAGGTGACCGATTTCCCAAGGAGACACAGG AGGCTCTCCTCGAGTACCGAGTGGTCCTCAAGGGTCCCCTAGAGACCCCA ATAGGAAAGGGATGGAAATCGGTCAATGTGGCCATAAGGATGATGTTGGA CCTCTACGCAAACATAAGGCCGGTGAAGTATATAGAGGGGATAGAGAGTC CTCTCAAGGAGCCCCAGAAGGTGGACATGGTAATATTTAGGGAAAATACG GACGACCTCTATAGGGGGATAGAGTACCCTTATGACACCCAGGAGGCCAA GAAGATAAGGGACTTTATGAGGAGGGAACTGAAGGTTGAAGTGGAAGACG ACACCGGAATAGGTATCAAGCTGATAAGTCGTTTCAAGACGGAGAGGATA ACCAGGATGGCCATGAATTACGCCATAGCCCACGGAAGGAAGAAGGTGAC CATCATGCACAAAGGGAACGTCATGAAGTATACGGAGGGTGCCTTCAGGG ATTGGGCCTACGATCTCATTAAGAGGGAGTACAGGGATAAGGTGGTGACC GAAGAGGAGATATCTAAGCAGTATAACGGTCAGGTTCCGCCTGGGAAGAT CCTGGTAAACGACAGGATAGCAGACAATATGTTCCAACAGATAATAACCA GACCGGACGAATACGACATAATCCTAGCCCCGAACGTCAATGGAGATTAC ATATCCGATGCTGCAGGTGCATTGGTAGGGAACATAGGATTGTTGGGTGG TGCAAACGTCGGTGACTCAGGTGGGATGTTCGAGGCCATACACGGCACCG CCCCCAAGTACGCAGGGAAGAACGTGGCGAACCCCACAGGTATAATAAAG AGTGGGGAGCTAATGCTCAGGTTTATGGGGTGGACTGAAGCTGCAGACCT TGTGGAGAGGTCAATACTCACTGCCATTTCCTCCAGAAAAGTCACCCAGG ATATAGCGAGGTTCATGGGAGTGAAGCCATTAACTACCAGCGAGTATACC AACGAGCTTATAAACATAATACACACCCTCTGA
A14: =IF(EXACT(H14,"N"),CONCATENATE("R",ROW()),IF(EXACT(H14,"Y"),CONCATENATE("R",ROW()),"")) -> R14 | B14: TCA_R01197_assumed | C14: CoA + 2-Oxoglutarate + 1 NAD = CO2 + Succinyl-CoA + 1 NADH | D14: 1.2.7.3 | G14: 2-oxoacid:acceptor oxidoreductase, alpha subunit | H14: N | I14: 2508723055 | J14: MetMK1DRAFT_00014070 | K14: MRISWEIGGPQGTGVDTSANIFGAAIAAAGYYIYGNREYYSNIKGRHSYF NLTISDRRARSISSTVDILASFDAETVFQHFQEVKGVIIYHKGVKGTSIE RVQSMEPEIQERLTHFLKSQGLGTTVADALKYAESKGVKLIELDYDEIVK KTADAVGVPMSVAERAKNTAAIAASYALLGLRKEYFMDAVKRTFKQETFV KINSIATELVMSTVKPMFQLRELPKTGKRIQVDGNTAVAMGKIYGGLSFQ SYYPITPASDESVYIEAHQEVMALDPETGDKRKRPIVVVQAEDELAAINM ASGAALTGVRSATATSGPGFSLMAEGIGWAGMNEVPVVITYYIRGGPSTG QPTRTSQADLLFAMNVSHGEFPRIVIASGDHVEAFQDAIWAFNLAERYQT PVIHLVEKAIANAYSIFDVSELKLDSLRAERGKLVESPDGEFKRFKFTED GISPRVALGKAYVFYTGDEHNEIGHISEDSENRTKMYEKRIRKLDTADKE IPEEERLKVFGDQDAKVAVITWGSPKGSVLDAVEQLESEGTKVQVIQLRM FNPFPKSLTKKLLSGKEAIIDIEGNYEGQAGLVLKLNTGIEPTHHILKWN GRPMAWDEVYTGLKSVLNGQRRVILNGGA | L14: ATGAGGATTAGTTGGGAAATTGGAGGCCCACAGGGGACTGGAGTGGACAC CTCTGCTAACATTTTTGGGGCGGCAATAGCAGCTGCCGGATACTACATCT ACGGAAACAGGGAATATTACTCTAACATCAAGGGGCGGCACAGCTACTTC AACCTCACCATAAGCGACAGAAGGGCAAGAAGTATCTCCAGTACTGTGGA CATCCTGGCCAGCTTCGACGCCGAGACCGTGTTTCAGCACTTTCAGGAAG TGAAGGGAGTCATTATATATCACAAGGGAGTGAAGGGAACCAGCATAGAG AGAGTACAAAGTATGGAGCCCGAGATCCAGGAGAGATTGACCCACTTCCT GAAGTCTCAGGGCCTAGGAACCACAGTAGCTGACGCGTTGAAATATGCAG AGTCAAAAGGTGTGAAACTAATCGAGCTGGACTACGACGAGATAGTGAAG AAGACCGCTGACGCCGTGGGTGTACCCATGTCGGTTGCGGAGAGGGCAAA GAACACTGCTGCCATAGCGGCCTCCTACGCTCTTCTCGGACTGAGGAAGG AATACTTCATGGACGCTGTTAAAAGGACCTTCAAACAGGAGACCTTCGTC AAGATAAACTCCATAGCCACAGAGCTGGTGATGAGTACCGTAAAGCCCAT GTTTCAGCTGAGGGAATTACCTAAGACCGGGAAGAGGATACAGGTGGATG GAAACACCGCTGTGGCCATGGGGAAGATATACGGAGGTCTAAGCTTCCAA AGCTATTATCCCATAACTCCGGCATCAGATGAGAGCGTCTACATAGAGGC TCACCAGGAAGTGATGGCCCTTGACCCCGAGACTGGGGATAAGAGGAAGA GGCCCATAGTCGTGGTGCAGGCCGAGGACGAGTTGGCTGCCATAAACATG GCAAGCGGGGCAGCCCTGACCGGCGTGAGGTCAGCCACTGCAACCTCAGG TCCTGGCTTCTCACTCATGGCCGAGGGTATAGGATGGGCCGGGATGAACG AGGTTCCAGTAGTGATCACGTACTACATTAGAGGCGGTCCGTCTACTGGG CAACCTACTAGGACTTCTCAGGCTGACCTACTCTTTGCCATGAACGTTAG TCACGGAGAGTTCCCCAGGATCGTCATCGCTTCTGGTGATCACGTGGAGG CCTTTCAGGATGCTATATGGGCCTTCAACCTGGCAGAGAGGTATCAAACA CCTGTTATCCATCTTGTGGAGAAGGCTATTGCTAACGCTTACAGTATATT TGACGTCTCGGAACTCAAGTTGGATTCCCTCAGGGCGGAAAGAGGCAAGT TGGTTGAGTCACCTGATGGTGAGTTTAAGAGATTCAAGTTCACCGAAGAC GGTATATCCCCAAGGGTGGCACTAGGAAAGGCCTACGTGTTCTACACAGG AGACGAGCACAACGAGATAGGACATATCTCTGAAGACTCCGAGAACAGGA CGAAAATGTATGAGAAGAGGATACGTAAACTAGACACCGCAGATAAGGAA ATACCCGAGGAGGAGAGATTGAAGGTGTTCGGGGATCAGGACGCCAAGGT TGCCGTGATAACTTGGGGTTCACCTAAGGGTTCAGTGTTAGACGCCGTGG AGCAACTTGAAAGTGAGGGAACCAAGGTTCAGGTGATTCAGTTGAGGATG TTCAATCCCTTCCCTAAGTCCCTGACCAAGAAGCTGTTATCTGGGAAGGA GGCCATAATAGACATTGAGGGTAACTACGAGGGTCAGGCTGGACTCGTGT TGAAACTGAACACGGGTATAGAACCAACTCATCACATCCTCAAGTGGAAC GGTAGACCCATGGCCTGGGACGAGGTCTACACCGGGTTGAAATCCGTCCT GAACGGACAGAGGAGGGTGATCTTAAATGGTGGTGCCTAA
A15: =IF(EXACT(H15,"N"),CONCATENATE("R",ROW()),IF(EXACT(H15,"Y"),CONCATENATE("R",ROW()),"")) | G15: 2-oxoacid:acceptor oxidoreductase, beta subunit, pyruvate/2-ketoisovalerate family | I15: 2508723056 | J15: MetMK1DRAFT_00014080 | K15: MVVPKVWVPEWNDWCPGCGNFGILNAEQQAITELGLTHEDVVVVSGIGCS GKTPHFFRLPISGVHTLHGRALTFATGIKLSNPELTVIVNGGDGDQLGIG VGHFVSAGRRNVDMLVILHDNGVYGLTKGQASPTLRRGEKTKSLPRPNVN DNVNPIALAISSGFTFVARSYAYDVKHLKELIKMGIKHKGLALIDVLQPC PTYNDIHTKEYFDKRVYKLDSDPSWDPVVRKPEEEGEKMSRAILKSLEWG EKIPIGLFYQNELVPPYEERIASNAPSYKERTPAKTKIEAEGKLLTLLDD ILREKEI | L15: ATGGTGGTGCCTAAGGTCTGGGTTCCCGAGTGGAACGACTGGTGTCCTGG CTGTGGTAACTTCGGGATACTGAACGCAGAACAACAGGCAATAACGGAGC TAGGCCTGACCCATGAAGATGTGGTGGTGGTGTCCGGGATAGGATGTTCG GGCAAGACTCCACATTTCTTCAGGCTACCCATCTCGGGAGTCCACACGCT CCACGGGAGGGCCCTGACTTTCGCCACAGGGATAAAGCTATCAAACCCAG AGCTGACCGTAATAGTCAACGGAGGAGACGGCGATCAGTTGGGAATAGGC GTGGGACACTTCGTGAGTGCAGGGAGGAGAAACGTAGACATGCTGGTTAT ACTCCACGACAATGGTGTCTACGGTCTCACAAAAGGTCAGGCCTCCCCCA CCCTCAGGAGGGGCGAGAAGACCAAATCGCTACCTAGGCCAAACGTCAAC GATAACGTCAACCCCATAGCCTTAGCCATATCCTCTGGTTTCACCTTCGT CGCGAGGTCTTACGCCTACGACGTTAAGCACCTGAAGGAGTTGATAAAGA TGGGAATAAAACACAAGGGCCTAGCGTTAATAGACGTATTACAACCCTGT CCGACCTACAACGACATCCACACAAAGGAGTATTTCGACAAGAGGGTCTA CAAATTAGACTCCGACCCCTCATGGGATCCTGTCGTGAGGAAGCCAGAGG AGGAAGGAGAGAAGATGTCTAGGGCCATCCTGAAATCCCTGGAGTGGGGG GAGAAGATACCCATAGGCCTGTTCTATCAGAACGAGTTAGTTCCACCCTA TGAGGAGAGGATAGCGTCCAACGCTCCCAGCTATAAGGAGAGGACACCAG CGAAGACCAAGATAGAAGCTGAGGGCAAACTCCTGACCCTGTTGGACGAT ATCCTAAGGGAGAAGGAAATCTAA
A17: =IF(EXACT(H17,"N"),CONCATENATE("R",ROW()),IF(EXACT(H17,"Y"),CONCATENATE("R",ROW()),"")) -> R17 | B17: TCA_R00405 | C17: 1 ADP + 1 Phosphate + 1 Succinyl-CoA = 1 ATP + 1 CoA + 1 Succinate | D17: 6.2.1.5 | G17: succinyl-CoA synthetase, alpha subunit | H17: Y | I17: 2508724340 | J17: MetMK1DRAFT_00026920 | K17: VNSNTKVLVQGITGKEGSFHTSLMLKYGTKIVAGVSPGKGGSKLNGVPVY DTVAEAAKEHEIDASIIFVPAKYAPEAVYEAVDSGVKLVVIITEHIPVVE VAKFVRYAKVRGTRIVGPNCPGLIAPGESLIGILPSKYFNRGMVGIVSRS GTLTYEVASILRQYGQSTVIGIGGDPIIGTPMQEAVLDFQDDPETEAIVV IGEIGGTMEERVAQLKKAGKITKPVVAYIAGMTAPREKRMGHAGAVVYMG MGTFESKVNAFREAGIPLAKTPYEVKDLIEKVLRK | L17: GTGAATTCCAATACTAAGGTACTGGTCCAGGGAATAACCGGGAAGGAAGG TAGCTTTCATACCTCTCTCATGTTAAAGTATGGAACAAAGATAGTTGCTG GAGTGAGCCCTGGAAAAGGAGGTTCTAAGCTCAACGGAGTACCAGTCTAT GACACTGTAGCTGAGGCCGCAAAGGAGCACGAAATAGATGCTTCCATAAT TTTTGTACCAGCTAAATATGCCCCAGAGGCTGTTTATGAGGCCGTGGACT CAGGTGTGAAGCTCGTGGTTATAATTACGGAACATATACCCGTAGTGGAG GTAGCGAAGTTTGTGAGGTATGCTAAAGTAAGAGGTACAAGGATAGTGGG CCCTAATTGCCCAGGTCTTATAGCACCAGGCGAATCCCTCATAGGCATAC TTCCCTCTAAATATTTCAACAGGGGAATGGTAGGCATAGTGTCCAGATCT GGAACTCTGACCTATGAGGTGGCAAGTATCCTGAGGCAATACGGTCAGTC TACTGTTATAGGTATAGGAGGAGATCCTATAATAGGTACCCCAATGCAAG AGGCCGTTCTCGATTTCCAAGACGACCCTGAGACTGAGGCCATAGTTGTT ATAGGTGAAATAGGAGGTACTATGGAAGAACGCGTAGCTCAGCTCAAAAA GGCTGGTAAAATAACGAAACCGGTGGTAGCTTATATAGCGGGGATGACGG CACCTAGGGAAAAACGAATGGGGCACGCAGGAGCCGTAGTTTATATGGGT ATGGGGACTTTCGAAAGTAAAGTCAATGCCTTCAGGGAAGCAGGGATTCC ACTGGCAAAGACTCCGTACGAAGTCAAAGACTTAATAGAGAAGGTACTAA GAAAATAA
A18: =IF(EXACT(H18,"N"),CONCATENATE("R",ROW()),IF(EXACT(H18,"Y"),CONCATENATE("R",ROW()),"")) | G18: Succinyl-CoA synthetase, beta subunit | I18: 2508724341 | J18: MetMK1DRAFT_00026930 | K18: MKLYEYEGKLLFKKVGIRVPKGVVTKEPIKWDGKAVVKAQLLEGARGKRG LVKVTDDVYSTILEMRAQGIGTFLVEEFIPHTREIYLSTMMDRESGNPMI VASPFGGINIEESKEVRTFKIPLDRRVMRFDVEAVEKYLGVRGLETVLRG LLDLVLTYDAELAEINPLAVTEEGLLALDSKVILDDNALYRHEDIISELG RKEESDSYVELDGDIGIIGNGAGLTMATMDLVKIMGGSPANFLDVGGGAD AEKIAKSILRVGNNSKVKKIVVNIFGGITRCDDVARGIIEAYKQIGKPIF VRLTGTNEEEGKRILQTYGIKTYEDAISAIGDALRM | L18: ATGAAGTTGTACGAGTATGAGGGAAAGCTTCTCTTTAAAAAAGTGGGAAT ACGGGTACCTAAGGGCGTTGTCACTAAGGAACCCATCAAATGGGATGGAA AGGCTGTAGTTAAAGCTCAACTCCTAGAGGGTGCGAGAGGAAAGAGAGGC CTAGTAAAGGTAACCGATGACGTGTATTCAACAATTCTCGAAATGAGAGC TCAGGGCATTGGAACCTTTCTCGTAGAGGAGTTTATACCCCATACACGGG AGATATATCTCTCCACCATGATGGACAGGGAATCTGGGAACCCCATGATA GTAGCCTCGCCTTTTGGCGGGATAAATATAGAGGAGAGTAAGGAGGTCAG GACGTTCAAGATCCCCTTGGATAGAAGGGTTATGAGATTCGATGTCGAAG CTGTAGAGAAGTATCTCGGTGTCAGGGGCTTAGAGACTGTACTCCGAGGC TTGCTAGACCTCGTTCTAACATATGATGCAGAGTTAGCTGAGATAAATCC TCTCGCCGTGACTGAGGAAGGTCTACTTGCCTTGGACTCTAAGGTTATAT TGGATGACAATGCGCTCTATAGGCACGAAGACATAATCAGTGAACTGGGA AGGAAAGAGGAGAGTGACTCATATGTGGAACTGGATGGAGATATAGGGAT AATAGGCAACGGTGCTGGTCTAACCATGGCAACTATGGATCTGGTTAAGA TAATGGGAGGTAGTCCAGCGAACTTCTTAGATGTGGGGGGAGGAGCAGAT GCAGAAAAGATAGCCAAATCCATACTGCGTGTAGGGAATAACTCAAAGGT GAAGAAGATCGTCGTTAATATCTTCGGTGGAATAACGAGATGTGACGACG TCGCTAGAGGAATAATAGAGGCCTACAAACAGATAGGTAAACCCATTTTC GTTAGGCTCACTGGAACTAACGAAGAGGAAGGAAAGAGAATTCTCCAGAC GTACGGAATAAAGACATACGAAGACGCCATCAGTGCCATAGGTGATGCAC TACGTATGTGA
A20: =IF(EXACT(H20,"N"),CONCATENATE("R",ROW()),IF(EXACT(H20,"Y"),CONCATENATE("R",ROW()),"")) -> R20 | B20: TCA_complex_II-EC-1.3.99.1_assumed | C20: 1 ubiquinone + 1 Succinate = 1 ubiquinol + 1 Fumarate | D20: 1.3.99.1 | G20: succinate dehydrogenase and fumarate reductase iron-sulfur protein | H20: Y | I20: 2508721745 | J20: MetMK1DRAFT_00000970 | K20: VGKLVVKVLEGKEKREKQYEVMREELDPYTTVLELLLKIREEQDPSLVLR YSCRMALCGSCGMIINGRPRLACLTKMKDLDEPIRIEPLKNVGTIRGLVP DLSSFFSKYRKVRPFLVAKDEEEQESPKSPYRQTDEEVKRYLQFNYCIQC GLCYSACPVVSSNPNFLGPAAINVAYRYTADSRDSDKLRVLLLDTPNGVW SCRVAGSCSVVCPKGVDPSLSIQLAKSLILRRKI | L20: GTGGGGAAGTTAGTCGTCAAGGTATTGGAAGGAAAGGAGAAGAGAGAGAA GCAGTACGAAGTGATGAGGGAGGAGCTGGACCCATACACTACGGTCCTCG AGCTACTCCTTAAGATAAGGGAAGAACAGGATCCCTCTCTAGTGCTTAGA TATTCTTGTAGGATGGCGCTCTGCGGATCCTGTGGGATGATAATTAACGG AAGGCCAAGGTTAGCCTGTCTCACCAAGATGAAGGACTTAGACGAACCCA TAAGGATCGAGCCTTTGAAGAACGTGGGAACTATCAGGGGACTCGTCCCA GACCTCTCATCGTTCTTCTCCAAGTATAGAAAGGTCAGGCCTTTCCTCGT GGCTAAAGATGAGGAGGAACAAGAGAGTCCCAAATCTCCCTACAGACAAA CTGACGAGGAGGTCAAGAGATACCTTCAGTTCAATTACTGCATCCAGTGT GGCCTGTGCTACTCTGCCTGTCCTGTGGTGTCCTCAAACCCCAACTTCCT GGGCCCTGCTGCAATAAACGTAGCTTATAGGTACACTGCTGACTCGAGGG ACTCGGATAAGCTTCGAGTACTACTTCTGGACACTCCCAACGGAGTATGG TCATGTAGGGTTGCAGGCTCCTGTTCAGTGGTCTGTCCCAAGGGAGTTGA TCCATCTCTCTCCATTCAACTGGCTAAGTCCCTCATCCTTAGGAGAAAGA TCTAA
A21: =IF(EXACT(H21,"N"),CONCATENATE("R",ROW()),IF(EXACT(H21,"Y"),CONCATENATE("R",ROW()),"")) | G21: succinate dehydrogenase, cytochrome b556 subunit | I21: 2508721747 | J21: MetMK1DRAFT_00000990 | K21: MGTSEWFKVRGWNIERLLFALHRITGWGLTAFIVLHVLFVHQVTYGERAW NSLLSLDSTFLGRVVLLLVVVALIFHGLNGVRIMLIEFGYLLTEPKEQEY PYQVWLKNRRHRGYVLFMGILGIFLTIVAGVILL | L21: ATGGGAACATCAGAATGGTTTAAGGTGAGAGGGTGGAACATAGAGAGGCT ACTCTTCGCCCTCCATAGGATAACGGGCTGGGGGCTAACTGCCTTCATCG TCCTTCACGTTCTCTTCGTACATCAAGTAACCTACGGAGAAAGAGCTTGG AATTCTCTCCTATCGTTGGACTCCACATTTCTAGGTAGGGTGGTCCTTCT CCTCGTCGTGGTTGCCCTGATCTTCCATGGACTCAATGGGGTCAGAATAA TGTTGATCGAGTTTGGTTACCTCCTCACCGAACCTAAGGAACAGGAGTAC CCATATCAAGTTTGGCTCAAGAACAGAAGACATAGGGGTTACGTGCTCTT CATGGGGATCTTGGGGATATTCCTTACCATAGTAGCGGGGGTGATACTCC TATGA
A22: =IF(EXACT(H22,"N"),CONCATENATE("R",ROW()),IF(EXACT(H22,"Y"),CONCATENATE("R",ROW()),"")) | G22: succinate dehydrogenase or fumarate reductase, flavoprotein subunitGram-negative/mitochondrial subgroup | I22: 2508721748 | J22: MetMK1DRAFT_00001000 | K22: MEPEVIKTDLVVLGSGLAGLRAAIEFDKLARGKYEVSVLSKVQVMRSHSV APEGGAAAVMQRGDSFEQHAYDTVKGSDFLADQDAVESFVRDAPSEILQL EHWGMPWARDKEGNLLARAFGAHEVPRTFFAYDRTGFFLMKTLYDRALKG NNVKFYHEYFATAIISTEGKFRGLLAIDRATGSFYLFKAKALIIATGGIG RIYKYVTYSHTVTGDGLAMAYRAGIPLKDMEFIQWLPTTLVPYGIPATEA LRGHGAILLNNEGERFMRKYAPNKMELAARDIVTRAILTEIKEGKGLEGP RGMKAVLLDTRPVGEERLKTIYKTFRENSIQFLGKDPLDEPIPVLPAAHY SMGGIHVLGTDLSTPLKGVFAAGEVANVSLHGANRLGSNSLPACLVMGKW AGRSAFTYLESETEPTTDRLNEVVEKEVERSFSLIRREKGSHTPYEIRNS LQNIMEVGVGVFRSEEGLTSALKSIRGLKTSLSDLYVRDRAFEYNLEWIH AHEVMNLIEMAEVIATSALERRESRGAHFRVDFPARDDQNFLKHTLAKFS LEGPVIDYHPVTITKWKPTARVY | L22: ATGGAGCCGGAGGTAATAAAGACAGACTTGGTGGTACTTGGGAGCGGGCT GGCAGGACTTAGGGCAGCCATAGAGTTCGACAAGTTGGCCCGTGGTAAGT ACGAAGTTTCAGTACTCTCCAAGGTACAGGTGATGAGATCTCACTCTGTG GCCCCAGAGGGAGGAGCGGCAGCCGTGATGCAGAGAGGCGACTCCTTTGA GCAACACGCTTACGACACTGTGAAGGGATCTGATTTCCTAGCTGACCAAG ACGCTGTAGAGTCGTTCGTCCGTGACGCACCGAGCGAAATACTACAACTT GAGCACTGGGGAATGCCGTGGGCCAGAGACAAGGAGGGAAACCTACTGGC TAGGGCATTTGGAGCTCACGAAGTTCCTAGGACGTTCTTCGCTTACGATA GGACTGGGTTCTTCTTGATGAAGACTCTCTACGATAGGGCACTGAAGGGC AATAACGTAAAGTTCTACCACGAGTACTTCGCCACGGCAATAATTTCAAC GGAAGGAAAGTTTAGGGGTCTTCTGGCCATAGATAGGGCTACGGGTTCCT TCTACCTGTTTAAGGCGAAGGCTCTGATAATCGCCACTGGGGGAATAGGG AGGATATACAAGTACGTAACTTACTCGCACACGGTCACTGGAGACGGTCT CGCCATGGCATACAGGGCTGGGATACCCCTCAAGGATATGGAATTCATTC AGTGGTTGCCCACCACCCTGGTGCCCTATGGAATACCCGCTACAGAGGCA TTGAGAGGTCACGGCGCGATCTTACTAAACAATGAAGGGGAGAGGTTCAT GAGGAAGTACGCCCCGAATAAGATGGAATTGGCAGCTAGGGACATCGTAA CTAGGGCAATTTTGACTGAGATAAAGGAAGGTAAGGGACTAGAAGGACCT AGAGGAATGAAGGCGGTACTTCTTGATACTAGACCAGTAGGGGAGGAGAG GTTAAAGACAATTTACAAGACCTTCAGGGAGAATTCGATTCAGTTCTTGG GAAAGGATCCTCTCGACGAACCGATTCCTGTGTTGCCAGCAGCCCACTAC TCCATGGGTGGGATCCATGTTTTAGGAACAGATCTCTCTACCCCACTCAA GGGGGTCTTCGCGGCAGGAGAGGTCGCTAACGTGAGTCTGCATGGAGCCA ACAGGTTAGGCTCCAATTCCCTTCCCGCATGTTTAGTCATGGGTAAGTGG GCTGGAAGAAGCGCCTTCACCTACCTGGAGTCCGAAACGGAGCCCACTAC GGATAGACTGAACGAGGTGGTCGAGAAAGAGGTAGAGAGGTCCTTCTCTC TCATCAGGAGGGAGAAGGGATCCCACACCCCCTATGAGATAAGGAACTCA TTGCAGAACATTATGGAAGTTGGGGTCGGAGTGTTCCGGAGTGAAGAAGG ACTTACCTCAGCCTTAAAGTCCATTAGGGGACTCAAGACGTCGCTAAGTG ACCTTTACGTTAGGGATAGGGCGTTCGAGTACAACCTAGAGTGGATCCAT GCCCACGAGGTCATGAACTTAATTGAGATGGCGGAGGTCATAGCCACGTC GGCTTTGGAGAGGAGGGAGTCGAGGGGCGCACACTTTCGTGTAGACTTCC CGGCTAGGGACGACCAGAACTTCCTCAAACACACCCTAGCTAAGTTCTCA CTGGAAGGACCTGTAATAGATTACCACCCAGTGACCATAACCAAGTGGAA GCCCACGGCTAGGGTGTACTGA
A23: =IF(EXACT(H23,"N"),CONCATENATE("R",ROW()),IF(EXACT(H23,"Y"),CONCATENATE("R",ROW()),"")) | G23: Heterodisulfide reductase, subunit B | I23: 2508722838 | J23: MetMK1DRAFT_00011900 | K23: MKVAYYPGCATHGLSKDVDIATKKVAELLGLELVEVEDWNCCGGGFLDEY DERAHVALNLRNLSKVEKMGLKKMATPCSVCLNSHRLATAKFSEDKEIRK EVTQRLQSASLQYNGTVDAEHIVWVLVRDVGVERIKSMVKRPLTNLKVGA YYGCQMLRPEQIMGFEPAYNPHSLEDLISATGATPVRFPMSTSCCGFPLM GSNPKGGLKLAYNVLSSARSAGADLVVHPCSLCHLQMDVTQFKVMEEFKT GWTMPTIYVTQLLAIAFGISPKELGLSRIALKALEERGIT | L23: ATGAAAGTAGCTTACTATCCAGGATGTGCAACTCACGGCCTCTCCAAGGA CGTTGATATAGCGACCAAGAAGGTGGCAGAACTGTTGGGACTGGAGTTGG TGGAGGTAGAAGATTGGAACTGCTGCGGCGGTGGGTTTCTGGACGAGTAT GATGAGAGGGCCCACGTAGCACTCAACCTGAGGAACCTCTCTAAGGTCGA GAAGATGGGACTGAAGAAGATGGCAACCCCTTGTAGTGTCTGTCTTAACA GTCACAGGTTAGCAACTGCAAAATTCAGCGAAGATAAGGAGATCAGGAAG GAGGTAACCCAGAGACTTCAATCAGCTTCACTTCAGTATAACGGTACAGT GGACGCTGAGCACATAGTCTGGGTATTGGTGAGAGACGTAGGAGTCGAGA GGATAAAGTCCATGGTCAAGAGACCTCTGACCAACCTCAAGGTAGGAGCG TACTATGGTTGTCAAATGCTGAGGCCAGAGCAGATAATGGGCTTCGAGCC AGCTTATAATCCTCACAGCCTCGAGGACCTGATATCAGCCACTGGAGCAA CTCCGGTGAGGTTTCCCATGTCCACCTCCTGTTGCGGTTTTCCTCTAATG GGTAGTAACCCTAAGGGAGGGCTGAAGCTGGCATACAACGTCTTATCCTC AGCTAGATCGGCTGGAGCGGACTTGGTGGTTCATCCCTGCAGTCTTTGCC ATCTTCAGATGGACGTAACGCAGTTTAAGGTCATGGAGGAGTTCAAGACT GGATGGACTATGCCTACCATCTATGTCACTCAACTGTTGGCCATAGCCTT CGGGATAAGTCCTAAGGAACTTGGGTTGAGCAGGATAGCATTGAAGGCCC TGGAGGAGAGGGGGATAACTTGA
A24: =IF(EXACT(H24,"N"),CONCATENATE("R",ROW()),IF(EXACT(H24,"Y"),CONCATENATE("R",ROW()),"")) | G24: succinate dehydrogenase and fumarate reductase iron-sulfur protein | I24: 2508722839 | J24: MetMK1DRAFT_00011910 | K24: MEAQTLATNLEQREITVRVKRFNEDKGEFWSEYKLSVDRFTQITEVLRRI KTEQDPTLAYRASCHMAVCGSCSMKINGEPRLACKTLALDVVKKFNTDVI TLEPMDYFKPLKDLIVDMGDFYTRMFKVKPRLYPAEEVVKGVAEQRLKPE DQRELWKFAQCIWCGLCVSACPAVKEDERFLGPAAHAKGYRFLADPRDTL YEERLKILLDSSWRCTYCYQCFHVCPRDVEPVTTIKKTRAHTKFSKEKTD VMSTGERHVKAIYESIKETGILQEAKVYISTYGLATAITDMLHTMRNGKM KYALIREKKVNEIEQIRKLLGD | L24: ATGGAGGCTCAAACCTTGGCTACGAACCTGGAGCAGAGGGAAATAACGGT AAGGGTCAAAAGGTTTAACGAGGACAAGGGAGAGTTCTGGAGCGAGTATA AGCTCTCCGTGGATAGGTTCACTCAGATCACCGAAGTACTTAGACGGATA AAGACGGAGCAGGATCCAACGTTAGCCTACAGGGCATCGTGTCATATGGC TGTGTGTGGTAGTTGTTCCATGAAGATTAACGGAGAGCCCAGGCTTGCGT GTAAGACCTTAGCCCTAGACGTTGTAAAGAAATTCAACACCGACGTCATA ACCCTAGAGCCCATGGACTACTTCAAACCCTTGAAGGACCTCATTGTGGA CATGGGGGATTTCTACACACGCATGTTCAAGGTCAAGCCCAGGCTATATC CAGCAGAGGAGGTCGTCAAAGGAGTTGCAGAGCAGAGGCTGAAGCCAGAG GATCAAAGGGAGTTATGGAAGTTCGCCCAGTGTATATGGTGTGGTCTATG CGTTTCGGCCTGTCCGGCTGTGAAGGAGGATGAGAGATTCTTAGGACCAG CAGCTCACGCTAAAGGTTACAGGTTCTTGGCGGACCCAAGGGACACATTG TATGAGGAGAGACTAAAGATCCTTCTGGACAGCTCCTGGAGATGTACTTA CTGCTATCAATGCTTCCACGTCTGCCCAAGGGACGTAGAGCCCGTGACCA CAATAAAGAAGACCAGGGCTCACACGAAGTTCTCCAAGGAGAAGACAGAT GTGATGAGTACAGGAGAGAGACACGTTAAAGCAATATATGAGAGCATCAA GGAGACCGGGATACTACAGGAGGCCAAGGTATACATATCCACGTATGGTC TTGCCACAGCCATTACAGACATGCTTCACACCATGAGAAATGGGAAGATG AAGTACGCGCTAATAAGGGAGAAGAAGGTAAATGAGATAGAACAGATAAG GAAGCTCCTGGGTGATTGA
A25: =IF(EXACT(H25,"N"),CONCATENATE("R",ROW()),IF(EXACT(H25,"Y"),CONCATENATE("R",ROW()),"")) | G25: succinate dehydrogenase or fumarate reductase, flavoprotein subunitGram-negative/mitochondrial subgroup | I25: 2508722840 | J25: MetMK1DRAFT_00011920 | K25: MDKLHYDAVVLGGGLAGLMAAHEIATAGFKVAVVSKVFPTRSHSSSAEGG IAAYVPGNSDPNDDPDYMTYDTVKGGDYLVDQDAAELLSVKSGEIVDLME RWGTLFNRQPDGRVALRYFGGQTYPRTRFVGDKTGMALLHTLFERVSGLD VDFYNEWFAVDLVTDERRVTGVLALDMKNMDPAFFKARAVVAATGGMGML YAHTTNAYINTGDGYGMALRAGAAIKDPEFVQFHPTALYPSDILISEAAR GEGGILRNNKGERFMAKYAPKKLDLAPRDIASRSIMIEIREGRGFPGGYV GLDLTHLGESYIKERLALAYEAAMNFAGVDATKEPIPVRPAQHYYMGGID VDTNGINTDLQGLFAAGEAACVSVHGANRLGSNSLLETLVFGRETGKTVV EYLRKHEEVSSPSLDKEAERLLSEAYSFVKSESGVHFGEVLNKLRGVMWD KVGIFRDEDMLKSALTEIEKLRGQVREMYVTDKGKTYNTEFYNALELRNM LDLAVVIAKSALMRTESRGAHFRTDFPERDDKNWLKHTLAYLKGNQVEIG FKPVRMTKWKPEARVY | L25: ATGGATAAACTCCATTATGACGCAGTAGTGCTCGGGGGAGGACTCGCGGG ACTCATGGCTGCGCACGAGATCGCCACTGCAGGTTTTAAGGTCGCGGTGG TCTCTAAGGTATTCCCAACGAGGTCGCACTCTAGCTCCGCCGAGGGAGGG ATAGCTGCTTACGTGCCTGGCAACTCCGATCCCAACGATGACCCAGATTA CATGACCTACGACACAGTTAAGGGCGGAGATTATCTGGTAGATCAGGACG CGGCGGAGCTGCTTTCAGTCAAATCTGGGGAGATAGTGGATTTGATGGAG AGGTGGGGGACATTATTTAATAGGCAACCAGACGGCAGGGTTGCCCTGAG GTACTTCGGAGGCCAAACCTACCCCAGAACGAGGTTTGTTGGGGATAAGA CTGGGATGGCACTCCTTCACACGCTCTTCGAAAGGGTCTCAGGCTTAGAT GTGGACTTCTACAATGAGTGGTTCGCAGTGGATCTGGTGACAGATGAGAG AAGGGTAACTGGAGTGCTGGCCTTAGACATGAAAAACATGGATCCAGCCT TCTTCAAGGCTAGGGCGGTAGTAGCAGCTACCGGTGGGATGGGAATGCTT TACGCTCATACCACTAACGCCTACATAAACACGGGTGACGGATATGGTAT GGCCTTGAGGGCAGGTGCCGCAATAAAGGATCCTGAGTTCGTTCAGTTCC ACCCTACGGCCCTCTACCCGTCGGACATCCTAATAAGTGAGGCTGCCAGG GGTGAGGGAGGAATATTGAGGAACAACAAGGGAGAGAGATTTATGGCAAA ATACGCTCCCAAGAAGTTGGATCTTGCACCCAGAGACATTGCCTCCAGAT CCATCATGATTGAGATAAGGGAAGGGAGAGGATTTCCCGGTGGTTATGTC GGATTGGATCTGACACATCTGGGGGAGTCCTACATAAAGGAGAGGCTGGC CCTAGCCTACGAGGCAGCAATGAACTTTGCTGGAGTGGATGCAACCAAGG AGCCTATACCGGTGAGGCCAGCACAACACTATTACATGGGGGGTATAGAC GTGGATACCAATGGGATCAATACCGACCTTCAGGGCCTCTTTGCAGCAGG AGAGGCAGCTTGTGTTTCCGTACACGGGGCTAACAGACTGGGCTCAAACT CCCTGCTAGAGACTCTGGTGTTCGGCAGGGAGACCGGTAAAACCGTAGTG GAGTACCTCAGAAAACATGAAGAGGTCTCCTCTCCCTCCTTGGACAAGGA GGCAGAGAGGTTACTCAGTGAGGCTTATTCCTTTGTCAAGAGCGAGAGTG GAGTTCACTTCGGGGAAGTCCTGAACAAACTGAGAGGAGTCATGTGGGAC AAGGTGGGAATATTCAGGGATGAGGATATGTTGAAGAGTGCATTGACAGA AATAGAGAAACTAAGGGGACAAGTTAGGGAGATGTACGTGACCGATAAGG GCAAGACATACAACACTGAGTTCTATAACGCCCTGGAACTCAGGAACATG CTGGATTTAGCCGTAGTCATAGCTAAGTCAGCCCTCATGAGGACGGAATC TAGGGGGGCTCACTTCAGAACAGATTTTCCTGAGAGAGACGACAAGAACT GGTTGAAGCATACCTTAGCTTACCTGAAAGGTAATCAAGTGGAAATAGGT TTCAAACCGGTAAGGATGACCAAATGGAAGCCGGAGGCAAGGGTGTATTA A
A27: =IF(EXACT(H27,"N"),CONCATENATE("R",ROW()),IF(EXACT(H27,"Y"),CONCATENATE("R",ROW()),"")) -> R27 | B27: TCA_R01082 | C27: 1 Fumarate + 1 H2O = 1 L-Malate | D27: 4.2.1.2 | G27: hydro-lyases, Fe-S type, tartrate/fumarate subfamily, beta region | H27: Y | I27: 2508721749 | J27: MetMK1DRAFT_00001010 | K27: LKELKTPLDEGSIEGLKLGDTVYLTGYIYIMRDATLRRIFEEKVKPPEDL TGQVILFGAPSFIKEGERYSILSVGVTTSQRMEKYIPSLLSLGVRGLIGK GELSEIVTPEFRNRKALYFLFVGGAAALVTSAIERVERVWWEDLYGEALF KVKVNALGPAFVAIDTLGNNLLLNTKRQVSDNLKNLLQEI | L27: TTGAAAGAGTTGAAAACTCCACTGGATGAGGGATCCATTGAGGGACTCAA GCTAGGCGATACCGTTTACCTCACAGGATACATATACATAATGAGGGACG CGACACTCCGTAGGATCTTCGAGGAGAAAGTCAAACCACCTGAGGATCTC ACCGGACAAGTGATCTTGTTCGGGGCTCCAAGTTTCATTAAGGAAGGTGA AAGGTACAGTATACTCTCAGTGGGGGTCACTACTTCACAGAGGATGGAGA AATATATCCCATCCCTTCTCTCCCTCGGTGTGAGGGGATTGATCGGGAAG GGAGAGCTGAGCGAAATCGTGACACCGGAGTTCAGGAATCGTAAAGCGCT CTACTTCCTGTTTGTGGGGGGCGCTGCGGCCCTGGTCACCTCAGCCATAG AGAGGGTGGAGAGAGTATGGTGGGAGGATTTGTACGGGGAGGCTCTCTTT AAAGTCAAAGTCAACGCTCTGGGACCTGCCTTTGTGGCAATAGACACGTT AGGGAACAATTTACTCCTGAACACGAAGAGGCAAGTCTCTGACAACCTCA AGAATCTACTCCAGGAGATTTGA
A28: =IF(EXACT(H28,"N"),CONCATENATE("R",ROW()),IF(EXACT(H28,"Y"),CONCATENATE("R",ROW()),"")) | G28: hydro-lyases, Fe-S type, tartrate/fumarate subfamily, alpha region | I28: 2508721750 | J28: MetMK1DRAFT_00001020 | K28: MGFTSEFYEKVREVSEALYYRALTVIPKDVVEKIRLSYDTEDSPLGKEVM DTIIKNIEVARKRSLLVCQDTGTPVYLVELGDVEISLPKLIRAIKEGVRD ATVKNHLRPNMVHPITRVNTGDNTGRSSPIVHVELNEGLKGVMKIVALPK GSGSENMSALAMLRPADGLKGVKRFVLETVANAGGKGCPPYIVGVGIGGD FEQVTYLAKKGALRPLGSRSEDEIGRKMEDELFLLINKLGVGPMGVGGKI TALGVNVEIAETHISSLPVAVNIQCWRGERAEAIIGEDLSIKYLGG | L28: ATGGGGTTTACTTCTGAATTTTACGAGAAAGTGAGAGAGGTCTCAGAGGC CCTCTACTATAGGGCCCTCACCGTGATCCCTAAGGACGTTGTTGAAAAGA TAAGGCTATCCTACGATACCGAGGATAGCCCGCTAGGTAAGGAGGTGATG GATACCATAATAAAGAATATCGAAGTGGCGAGAAAGCGCAGCCTCCTAGT GTGCCAAGATACTGGGACGCCTGTTTACCTGGTTGAGCTGGGGGACGTAG AGATCTCACTGCCTAAACTGATAAGGGCCATAAAGGAGGGGGTTAGGGAT GCCACAGTTAAGAACCACTTGAGACCCAACATGGTTCATCCCATTACTAG AGTGAACACTGGAGATAACACTGGGAGGAGTTCACCCATAGTACACGTCG AGCTGAATGAGGGACTGAAAGGGGTCATGAAAATCGTGGCGTTACCCAAG GGGTCAGGATCTGAGAACATGAGTGCGTTGGCCATGCTGAGACCGGCGGA CGGATTGAAGGGTGTCAAGAGGTTCGTATTAGAGACTGTGGCCAACGCTG GAGGAAAGGGTTGTCCTCCCTACATAGTAGGGGTGGGAATAGGGGGAGAC TTCGAACAGGTAACTTACCTGGCCAAGAAGGGAGCGTTGAGACCTCTCGG TTCCAGAAGCGAGGACGAAATTGGAAGGAAAATGGAAGATGAACTATTCC TTCTAATAAACAAGTTGGGTGTAGGCCCAATGGGTGTAGGTGGAAAGATT ACAGCCCTGGGAGTAAACGTAGAGATAGCAGAAACACACATAAGTAGCCT CCCTGTGGCCGTGAACATACAGTGCTGGAGAGGAGAGAGAGCTGAGGCCA TAATAGGTGAGGACCTCAGCATAAAATATCTGGGGGGATAG
A29: =IF(EXACT(H29,"N"),CONCATENATE("R",ROW()),IF(EXACT(H29,"Y"),CONCATENATE("R",ROW()),"")) | G29: Fumarase | I29: 2508724198 | J29: MetMK1DRAFT_00025500 | K29: MKYTETAPKLFMNTGTKFHRSIIWAMGVVKLAAARANASLGLLDSRVAEG IEKAAREIMEGNLDNLITLDVFQTGSGTGLNMNVNEVIAERASQLTGLRV HPNDHVNMGQSSNDTVPTAIRIAATKQVVEKLRPALTEIVTSLRSKGDEY ASVVKAGRTHLRDAMPVTFGQELHAYADAFDHDISLLSSTLEYVKELPLG GTATGTGANSHPKFRELAIQMINEVTGLSFKPGHTFRGMRFLTDLLTLSG VMRTVAVELFRVAQDFRLMFSGPFTAIGEIDLPTQEEIAGSSIMPGKTNP VTVEASMLISAQVIGLDHANQFASSLGEFELAMGVPLIGQNVVTQVDLLS EGLNKFNQLVIKGVVPNVDRMRRYAESSPALVTAISPLVGYDKASQIGKM LIKGMSIREALKELGIDNSKIDEILDLRKLVKPGLQK | L29: ATGAAATACACCGAGACCGCTCCGAAGCTGTTTATGAACACTGGAACGAA GTTTCATAGGTCCATAATCTGGGCTATGGGAGTAGTGAAGCTAGCCGCTG CAAGAGCTAACGCATCCCTCGGGCTTTTAGATAGCAGAGTGGCCGAGGGG ATAGAGAAGGCAGCGAGGGAGATCATGGAAGGGAACCTGGACAATTTAAT CACGTTAGACGTCTTCCAGACCGGATCAGGAACGGGACTGAATATGAACG TGAATGAGGTAATAGCCGAGAGGGCATCTCAACTCACGGGACTCAGGGTA CATCCAAACGATCACGTGAACATGGGTCAGTCGTCCAATGACACCGTACC CACAGCCATAAGGATAGCTGCAACCAAACAGGTAGTAGAAAAACTCCGTC CTGCTTTGACAGAGATAGTCACGTCGCTGAGATCCAAGGGAGACGAGTAT GCCTCTGTTGTTAAGGCTGGAAGGACTCACCTTAGAGATGCCATGCCGGT AACCTTCGGTCAGGAACTCCACGCCTATGCAGACGCTTTCGATCACGATA TAAGTCTCCTATCGTCCACTCTCGAATACGTAAAGGAACTCCCCCTTGGA GGTACAGCCACAGGAACCGGGGCCAACTCCCACCCTAAGTTCAGGGAATT AGCAATCCAGATGATCAATGAGGTAACTGGACTCTCCTTCAAACCTGGAC ATACCTTCAGAGGTATGAGATTCCTTACCGACCTCCTGACGCTGAGTGGG GTCATGAGGACGGTAGCCGTGGAACTGTTCAGGGTGGCTCAGGACTTCAG GCTCATGTTCTCAGGACCTTTCACAGCTATAGGTGAGATAGACCTACCCA CACAGGAGGAAATAGCTGGGAGTAGTATCATGCCGGGCAAAACTAATCCA GTCACTGTAGAGGCCTCCATGCTGATCTCGGCTCAGGTTATTGGACTAGA CCACGCAAACCAATTCGCATCATCCCTGGGAGAGTTCGAACTGGCCATGG GCGTTCCCCTGATAGGACAAAACGTAGTGACCCAAGTGGATCTCCTAAGC GAGGGATTGAACAAGTTCAATCAACTTGTAATCAAGGGAGTTGTACCCAA CGTTGATAGGATGCGGAGATACGCCGAGAGTAGCCCGGCCCTCGTAACTG CCATCTCCCCCTTGGTGGGCTACGATAAGGCTTCCCAGATAGGAAAGATG TTGATCAAGGGGATGTCCATAAGAGAGGCTCTCAAGGAGCTAGGCATTGA CAATTCCAAGATAGATGAGATCCTCGACCTGAGGAAGTTGGTAAAACCTG GCCTACAGAAATGA
A31: =IF(EXACT(H31,"N"),CONCATENATE("R",ROW()),IF(EXACT(H31,"Y"),CONCATENATE("R",ROW()),"")) -> R31 | B31: TCA_R00342 | C31: 1 L-Malate + 1 NAD = 1 NADH + 1 Oxaloacetate + 1 Proton | D31: 1.1.1.37 | G31: Malate/lactate dehydrogenases | H31: Y | I31: 2508723163 | J31: MetMK1DRAFT_00015150 | K31: MSKVGFIGVGKIGQTIVYSSIVSGAVDEAVIYDIIPELPEKFEHELRHAF ATKGIKTEILGTNNLDDVAGMDMVVISAGKPRKPGMSRRDLFVDNAKIMM DLAGKLAPKNPGAIYLMVANPVDMMASVFMKYSKEYTISTGDQVETMRMR SYIAKKLKVPVTQVDGFVGGEHGEDAVVLWSTVKVKGKPIDNFNINKQEV EDYVKKIPGEIIRVMGGTTWGPGTIIADIIKAVSLNENRVMSIATPRQYE GQIIHVSSPIVVSSSIGPSLETLLDEKDRWHLNSAMKDFYEAYMENMKQL EQSLKPT | L31: ATGTCCAAGGTAGGATTCATAGGAGTAGGCAAGATAGGACAGACCATAGT CTACTCGTCGATAGTGAGTGGAGCTGTGGATGAGGCGGTGATTTATGATA TAATTCCCGAACTTCCCGAAAAATTTGAACATGAGCTTAGACACGCCTTC GCAACTAAAGGGATAAAGACCGAAATCCTTGGAACCAATAACCTAGACGA CGTGGCAGGGATGGACATGGTAGTGATCTCGGCAGGAAAACCGAGGAAGC CGGGCATGAGCAGGAGGGACTTATTCGTTGATAATGCCAAGATAATGATG GATTTGGCAGGTAAGCTTGCCCCTAAGAACCCAGGGGCCATCTACCTCAT GGTCGCGAACCCCGTGGACATGATGGCCTCGGTCTTCATGAAGTACTCGA AAGAGTACACGATAAGCACCGGTGACCAAGTGGAGACCATGAGGATGAGG TCGTACATAGCCAAGAAACTTAAAGTTCCTGTGACCCAGGTGGATGGGTT CGTCGGCGGTGAACACGGGGAAGATGCGGTAGTTCTATGGAGCACTGTGA AGGTTAAGGGAAAACCCATCGATAACTTCAACATCAATAAACAGGAAGTA GAGGACTACGTGAAAAAGATACCCGGAGAGATAATCAGAGTCATGGGAGG TACCACTTGGGGACCTGGGACCATAATAGCTGACATCATAAAGGCTGTGT CTCTAAACGAGAACAGAGTCATGAGTATAGCAACTCCCAGACAGTATGAG GGACAGATAATACACGTCAGCTCACCCATAGTAGTGAGTTCCAGCATAGG GCCTAGTCTTGAGACTCTACTGGACGAGAAGGATAGATGGCACCTCAACT CTGCCATGAAGGACTTCTATGAGGCCTACATGGAGAACATGAAACAGTTA GAGCAATCCCTGAAGCCAACCTAA
A33: =IF(EXACT(H33,"N"),CONCATENATE("R",ROW()),IF(EXACT(H33,"Y"),CONCATENATE("R",ROW()),"")) -> R33 | B33: TCA_R00351 | C33: 1 Acetyl-CoA + 1 H2O + 1 Oxaloacetate = 1 Citrate + 1 CoA + 1 Proton | D33: 2.3.3.1 | G33: 2-methylcitrate synthase/citrate synthase II | H33: Y | I33: 2508723561 | J33: MetMK1DRAFT_00019130 | K33: MSQISRGLENVYIKTTSLTYIDGENGILRYGGYDIDDLVDHTTFEEVVYL MLYGDLPNKIQLQRIRVLLNEGYEIPQQVIDMIYGLPRDSDAVGMMETAF SALSSIYGSPWNKVTNRETAIKVIARASTVVTNVLRAKEGKKPRIPEPSD SFARSFLEASFNRTPSTEEVKAMDASLILYADHEVPASTTAALVTSSTLS DMYSCVVAALAALKGPLHGGAAEEAFKQFLEIGSPENTDQWFQKKIVEGK ARLMGFGHRVYKTYDPRAKLFKRFAKQLSERNQEAKKYFEIAQKVEELGI QMFSQKHIFPNTDFYSGVVFYALGFPVYMFTSLFALSRTLGWTAHVIEYV EEQHRLIRPRALYVGPIRREVIPIELRG | L33: ATGAGCCAGATAAGCAGAGGTCTAGAGAACGTTTACATTAAGACGACTTC GCTCACATATATTGATGGAGAGAACGGCATCCTCAGGTACGGGGGGTACG ACATTGATGACTTGGTGGATCACACAACCTTCGAAGAAGTAGTGTACCTT ATGCTTTACGGTGATCTCCCCAACAAGATTCAGTTGCAGAGAATAAGGGT TCTCCTGAATGAGGGTTATGAGATTCCCCAGCAGGTTATTGATATGATCT ACGGTCTTCCAAGGGACTCAGACGCAGTTGGGATGATGGAGACCGCTTTC TCCGCTCTTTCTTCCATATATGGATCTCCTTGGAACAAGGTCACCAACAG GGAGACTGCAATAAAGGTGATAGCCAGGGCCTCCACGGTCGTCACTAACG TGTTGAGGGCAAAGGAAGGAAAGAAGCCGAGGATACCTGAACCTTCTGAC AGTTTCGCTAGGAGCTTCCTGGAGGCCTCTTTTAATAGGACACCCTCCAC AGAGGAGGTGAAAGCCATGGATGCTTCCCTAATACTTTACGCCGATCACG AGGTTCCAGCGTCTACCACTGCAGCTTTAGTAACTTCCTCTACGCTCTCC GATATGTACTCCTGTGTAGTCGCCGCGTTAGCTGCCCTGAAGGGACCTCT CCACGGGGGTGCAGCAGAGGAGGCGTTCAAACAGTTCTTAGAAATAGGTT CTCCAGAGAATACAGATCAGTGGTTCCAGAAGAAGATAGTGGAAGGGAAG GCAAGGCTCATGGGATTCGGCCACAGGGTTTACAAGACATATGATCCCAG GGCAAAATTATTCAAAAGATTTGCGAAACAGCTATCGGAGAGGAATCAGG AGGCCAAGAAATACTTCGAGATAGCACAGAAGGTGGAAGAACTAGGGATC CAGATGTTTTCTCAGAAACACATCTTTCCCAACACAGACTTCTACTCTGG CGTAGTGTTCTACGCCCTAGGCTTTCCGGTATACATGTTCACGTCTCTCT TCGCCCTTTCAAGAACACTAGGGTGGACAGCACACGTAATAGAGTATGTG GAGGAACAACATAGGCTAATAAGGCCCAGAGCATTATACGTAGGTCCAAT AAGGAGGGAAGTAATACCCATAGAGCTGAGAGGTTAG
A34: =IF(EXACT(H34,"N"),CONCATENATE("R",ROW()),IF(EXACT(H34,"Y"),CONCATENATE("R",ROW()),"")) | G34: 2-methylcitrate synthase/citrate synthase II | I34: 2508724277 | J34: MetMK1DRAFT_00026290 | K34: LELKKGLEDVAIKETSITFIDGELGRLYYRGYSVYDLASFSNFEEVAYLI WYGKLPTRKELEDFRKLMAEERKVPDHISSFVRQVSRNANPMDVLRTAVS MMGLEDSRDGDTIQKAIKITSKMPTIVAQIQRTRRGQDLVEPDPNLSHAE NFLFMLHGEKPSSTDVRSMDVSLTLHVDHEMNASTFACLVVASTLSDIYS SVVAGISALKGPLHGGANSEALKQFLEIGSPDNVEKYVLSRLSSGQRLMG FGHRVYKTMDPRAKILREYAKQLSTEKGLGELFEIAQRVEEIGIKILGNR GIYPNVDFYSGLVFYALGFDPDVFPTIFASARVVGWTAHVDEYLKDNKLI RPKAIYVGDLGRRYVPIDER | L34: TTGGAGTTAAAGAAGGGACTTGAGGACGTAGCAATCAAGGAGACCTCAAT AACTTTCATAGATGGTGAGTTGGGAAGACTTTACTACAGGGGATACTCCG TATATGATTTGGCTAGTTTCTCCAACTTCGAGGAGGTAGCATATCTAATC TGGTACGGAAAGTTGCCTACGAGGAAGGAACTAGAGGACTTCAGGAAATT AATGGCCGAGGAGAGGAAAGTGCCAGATCATATTTCTAGCTTCGTCAGGC AGGTGTCTAGGAACGCCAATCCCATGGACGTGCTTAGAACAGCGGTCAGC ATGATGGGACTAGAAGACTCAAGAGATGGGGACACTATTCAGAAGGCCAT CAAGATAACATCAAAAATGCCAACTATAGTTGCTCAAATACAGAGGACCA GGAGAGGACAGGACCTTGTGGAACCTGACCCTAATCTGAGCCACGCGGAA AACTTCCTTTTCATGCTTCACGGAGAGAAGCCGTCCTCCACCGATGTGAG ATCCATGGATGTATCCCTTACCCTACACGTCGATCATGAAATGAATGCGT CCACGTTCGCTTGTCTAGTAGTGGCGTCGACGCTCTCGGACATCTATTCC TCCGTGGTGGCTGGAATATCTGCACTTAAAGGTCCGCTTCATGGGGGAGC AAATTCTGAGGCATTAAAACAGTTCCTTGAGATTGGATCCCCAGATAACG TGGAGAAATACGTCCTGAGTAGGTTAAGCTCTGGCCAAAGACTCATGGGG TTTGGACACAGGGTCTACAAGACCATGGATCCCAGAGCAAAGATTCTACG GGAGTATGCCAAACAGTTATCGACTGAGAAGGGGTTAGGGGAACTGTTTG AGATTGCCCAACGTGTAGAGGAGATAGGTATCAAGATACTTGGGAACAGA GGAATATATCCCAACGTAGACTTCTACTCAGGTCTAGTGTTTTACGCCCT GGGATTCGACCCAGATGTATTCCCTACGATCTTTGCCTCAGCCAGGGTCG TAGGTTGGACCGCTCACGTAGACGAATACCTCAAGGATAACAAACTCATC AGACCTAAGGCAATATATGTAGGGGATTTAGGAAGAAGATATGTCCCCAT AGACGAAAGGTAA
A35: =IF(EXACT(H35,"N"),CONCATENATE("R",ROW()),IF(EXACT(H35,"Y"),CONCATENATE("R",ROW()),""))
A36: =IF(EXACT(H36,"N"),CONCATENATE("R",ROW()),IF(EXACT(H36,"Y"),CONCATENATE("R",ROW()),"")) -> R36 | B36: Pyruvate_R00344 | C36: ADP + Phosphate + Oxaloacetate + 2 Proton = ATP + Pyruvate + H2CO3 | H36: N
A37: =IF(EXACT(H37,"N"),CONCATENATE("R",ROW()),IF(EXACT(H37,"Y"),CONCATENATE("R",ROW()),""))
A38: =IF(EXACT(H38,"N"),CONCATENATE("R",ROW()),IF(EXACT(H38,"Y"),CONCATENATE("R",ROW()),"")) -> R38 | B38: G-G_R00341_assumedfor_R00726 | C38: ATP + Oxaloacetate = ADP + CO2 + Phosphoenolpyruvate | D38: 4.1.1.32 | G38: Phosphoenolpyruvate carboxykinase (GTP) | H38: Y | I38: 2508724176 | J38: MetMK1DRAFT_00025280 | K38: MEIPNLLKGKLTDEMFLRLMELKNESVLDFLSWVVGHCDPESVYVLKGTR EDQEYVKRRALETGEEIPLRVPGHTIHFDKPSDQARAREDTFILSEPIPF VNTKPRQEGLNEVMELLRGSMRGREMFVGFYALGPKSSPFQILAIQVTDS PYVIHSENILYRSAYDEFVKVGGNVEFLRFVHSKGTGDVKKRRIVIDFGG TVYSVNTTYAGNSVGLKKLALRLTLRRAVNEGWLSEHMAIVGLEGKETTH YVTAAFPSGSGKTSTSMMGKLVSDDLAFIRESQGIARAVNPEIGVFGIIQ GINKRDDPIIWEVLHTPGEVIFSNVLMTESGEVYWVGSEEPVPRKGINYA GEWWPGKTNSEGVEIPPSHPNARFTAPLKSFRNADPRIDDPRGVEIEAMI FGVRDYTTVVPIAEAFSWAHGVVTMGASMESARTSAVVGKLDEMEFNPMA LLDFISVSLGEYLRNYLEFGKKLRLQPRIYGANYFLKDMEGRYLNSKEDK RVWLRWITERLEGRADHLRTAVGLIPTYEDLRRLFKEVLNKEYMKQQYEL QFSIRLKEYKNKYLRIRELYSRVKDTPREVLEILDEQIGRIDKDIQRYGD TFSPFNI | L38: ATGGAGATACCCAATCTCCTAAAGGGAAAGTTGACCGATGAGATGTTCCT ACGTCTCATGGAGTTAAAGAACGAGAGTGTATTGGATTTTCTATCGTGGG TTGTGGGGCACTGTGATCCCGAATCAGTTTATGTCTTGAAGGGCACACGT GAGGACCAGGAGTATGTTAAAAGACGGGCTCTGGAGACAGGAGAGGAGAT CCCCCTCAGGGTTCCTGGACATACTATACACTTTGACAAACCCTCAGATC AGGCCAGAGCGAGGGAGGATACCTTCATCTTGTCCGAGCCTATTCCCTTC GTTAACACGAAACCCAGGCAAGAGGGTCTAAATGAGGTCATGGAGCTCTT GAGGGGGTCCATGAGGGGGAGGGAAATGTTCGTGGGATTCTATGCCCTGG GTCCGAAATCCTCTCCCTTTCAGATCCTGGCGATCCAAGTGACTGACTCC CCGTATGTCATCCATAGTGAGAACATCCTATACAGAAGCGCTTACGATGA GTTTGTAAAGGTAGGGGGTAACGTTGAATTCCTGAGGTTTGTCCACTCGA AGGGTACCGGAGACGTGAAGAAGAGGAGGATAGTAATAGACTTCGGCGGG ACGGTCTATAGTGTGAACACTACATATGCTGGTAACAGCGTAGGCCTCAA GAAGCTAGCTCTGAGGTTGACACTGAGGAGGGCAGTTAATGAGGGTTGGC TCTCGGAGCACATGGCCATAGTGGGTCTGGAGGGGAAAGAAACAACACAT TACGTTACCGCTGCCTTCCCTTCAGGCTCGGGTAAGACTAGCACCTCTAT GATGGGGAAGCTGGTAAGTGACGATTTAGCCTTCATTAGGGAGTCCCAAG GTATAGCGAGGGCCGTGAACCCTGAGATAGGAGTTTTTGGGATAATTCAG GGAATAAACAAGAGGGACGATCCCATAATATGGGAGGTGCTTCACACTCC TGGAGAAGTTATCTTCTCTAACGTTCTCATGACTGAGTCGGGAGAAGTAT ATTGGGTGGGGAGCGAAGAACCTGTCCCTCGTAAGGGGATTAATTATGCC GGAGAATGGTGGCCTGGTAAGACTAACTCTGAGGGCGTAGAGATTCCCCC ATCCCATCCAAACGCCAGGTTCACTGCTCCCCTAAAGTCCTTCAGGAACG CTGATCCCAGGATAGACGATCCGAGAGGTGTGGAAATAGAGGCAATGATA TTCGGAGTAAGGGATTACACCACCGTAGTCCCAATAGCTGAGGCCTTCAG TTGGGCCCACGGAGTTGTCACCATGGGGGCCTCCATGGAGTCCGCTAGGA CAAGTGCCGTAGTAGGTAAACTCGACGAGATGGAGTTCAATCCCATGGCA TTACTGGACTTCATTTCAGTGTCACTAGGAGAGTACCTACGCAACTACCT GGAATTCGGTAAAAAGTTGAGGCTGCAACCTAGGATATATGGGGCCAATT ACTTCCTTAAGGACATGGAAGGAAGATACTTGAACTCCAAGGAGGACAAG AGGGTCTGGCTGAGGTGGATAACCGAGAGGTTAGAGGGTAGGGCTGACCA CCTGAGGACAGCTGTGGGGCTCATTCCCACATATGAGGATTTGAGGAGGC TATTCAAGGAAGTGTTGAACAAGGAATACATGAAACAACAATATGAGTTA CAATTTTCCATAAGGTTGAAGGAGTATAAGAACAAGTATCTTAGAATAAG AGAGCTCTACTCCAGGGTGAAGGACACACCTAGGGAGGTACTGGAGATCT TAGACGAACAGATAGGAAGGATAGACAAGGACATACAGAGATATGGGGAC ACCTTCTCCCCCTTCAACATCTAG
A40: =IF(EXACT(H40,"N"),CONCATENATE("R",ROW()),IF(EXACT(H40,"Y"),CONCATENATE("R",ROW()),"")) -> R40 | B40: pyruvate-dehyd | C40: Pyruvate + CoA + 1 NAD = Acetyl-CoA + CO2 + 1 NADH | D40: 1.2.7.1 | G40: 2-oxoacid:acceptor oxidoreductase, gamma subunit, pyruvate/2-ketoisovalerate family | H40: Y | I40: 2508723107 | J40: MetMK1DRAFT_00014590 | K40: MIEISLKGRGGQGVVTAGEIMAKAAIVEGKYAQSIPFFGGERRGAPVSCE VRISDQPISLHRRVYNPDVVTVFDATLMDLLNPLTGIKEGGILLINTDNP RRYWNRTYYVDATGIARSLGLNIAGWAVVNTAMVGALSSVTKLVDIGTAE DVVKEEFPGKLGELNVEAMYLGFKEVRALD | L40: ATGATAGAGATTTCGCTTAAAGGAAGGGGAGGTCAGGGCGTAGTGACTGC TGGAGAGATAATGGCTAAGGCCGCCATAGTTGAGGGAAAGTACGCCCAGT CCATTCCCTTCTTCGGTGGAGAGAGGAGGGGGGCACCGGTGAGCTGTGAG GTGAGGATATCTGATCAGCCCATATCCCTACATAGGAGGGTTTACAATCC AGATGTCGTGACTGTGTTCGACGCGACCCTCATGGATTTGCTTAACCCTT TGACAGGGATAAAAGAGGGAGGAATCCTACTCATCAATACCGACAATCCA AGGAGATATTGGAATAGGACCTATTACGTCGACGCCACGGGAATAGCCAG GTCTTTAGGTCTCAACATAGCCGGTTGGGCAGTGGTCAACACAGCCATGG TAGGCGCCCTGTCATCTGTCACAAAACTCGTGGACATAGGTACCGCGGAG GATGTAGTTAAGGAGGAGTTTCCTGGAAAATTGGGTGAACTCAACGTAGA GGCCATGTACTTGGGTTTCAAGGAGGTGAGGGCCCTTGATTAA
A41: =IF(EXACT(H41,"N"),CONCATENATE("R",ROW()),IF(EXACT(H41,"Y"),CONCATENATE("R",ROW()),"")) | G41: 2-oxoacid:acceptor oxidoreductase, delta subunit, pyruvate/2-ketoisovalerate family | I41: 2508723108 | J41: MetMK1DRAFT_00014600 | K41: LINLPPGVPLARPSLGSSGQTGTWRVLRPVIHYNKCTKCRLCFFYCVENT IDLELNMFPKIDYQYCKGCGVCAQVCPTAAIEMMREVK | L41: TTGATTAATCTTCCTCCAGGAGTTCCCTTGGCGAGACCCTCCTTAGGTTC TTCGGGACAGACGGGCACTTGGAGGGTACTGAGACCTGTCATACACTACA ACAAGTGTACCAAGTGCAGACTGTGCTTCTTCTACTGCGTTGAGAACACG ATCGACCTCGAACTCAATATGTTCCCGAAGATAGATTACCAGTACTGTAA GGGCTGTGGGGTCTGCGCGCAAGTCTGTCCCACGGCCGCTATAGAAATGA TGAGGGAGGTGAAGTAA
A42: =IF(EXACT(H42,"N"),CONCATENATE("R",ROW()),IF(EXACT(H42,"Y"),CONCATENATE("R",ROW()),"")) | G42: Pyruvate:ferredoxin oxidoreductase and related 2-oxoacid:ferredoxin oxidoreductases, alpha subunit | I42: 2508723109 | J42: MetMK1DRAFT_00014610 | K42: LQVTKGVVKALVGNHAVAYAVKQAKPQVLAVYPITPQTTMLEKLSEYVDR GELKARMIRVESEHSALASIYGAAVAGARVFTATASQGLLYMTEMLYWAG GQRVPIVAAVATRALASPWSILDDHQDFMSKRDAIWIQMMAENVQEAYDL TIQAFRISEHENVVLPVMMGFDGFILTHTMERVEVLHDSVVDSFIPPRKF NLVDFTDPVGVGPVAPPEDYIRIRFEAKKAMERSKRVIKEIFREYEDISG RPQHGLVECFMCRDADYVVVSMGAWSGDARVAVKRLRERGAKVGLLKVRV FRPFPFEEVRDYLRDCKGVLVMDRAYSFGSGGILVNEVKVSLYGHDVPVH SLVGGLGGMDVRPLHIQTALENLMEGKLEEERWLL | L42: TTGCAGGTAACTAAGGGTGTAGTGAAGGCGTTGGTGGGAAATCACGCCGT GGCCTATGCCGTCAAACAGGCGAAACCTCAAGTCCTTGCGGTCTACCCGA TAACTCCTCAGACCACCATGTTGGAAAAGCTCTCTGAGTACGTTGATAGA GGGGAGTTAAAGGCCAGGATGATAAGGGTGGAGAGTGAGCACTCCGCTCT TGCCTCGATCTACGGGGCAGCTGTGGCAGGGGCCAGAGTGTTCACGGCGA CGGCCTCACAGGGGCTCCTATACATGACCGAGATGCTATATTGGGCCGGA GGTCAGAGGGTTCCTATAGTCGCCGCAGTGGCCACTAGGGCCCTGGCCTC GCCCTGGTCAATCCTCGATGACCACCAGGACTTCATGAGCAAGAGAGATG CCATTTGGATACAAATGATGGCTGAGAACGTCCAGGAAGCTTACGACCTA ACGATCCAGGCCTTCAGGATATCCGAACACGAGAACGTCGTTCTCCCCGT GATGATGGGATTCGATGGTTTCATCCTCACCCACACCATGGAGAGGGTGG AGGTTCTCCACGACTCCGTAGTGGACTCCTTCATCCCTCCCAGAAAGTTC AACCTGGTCGACTTCACGGATCCTGTGGGGGTTGGACCAGTCGCCCCGCC TGAGGACTACATAAGGATAAGGTTCGAAGCCAAGAAGGCTATGGAGAGGA GTAAAAGGGTCATAAAGGAGATTTTCAGGGAATATGAGGACATCAGTGGC AGACCTCAGCACGGGCTCGTGGAGTGTTTCATGTGTCGTGACGCCGATTA CGTCGTGGTGTCCATGGGGGCCTGGTCTGGAGACGCTCGCGTGGCGGTGA AGAGGTTAAGGGAGAGAGGAGCAAAGGTTGGTCTGCTCAAGGTGAGGGTA TTCAGGCCGTTCCCCTTTGAGGAGGTGAGGGACTACCTGAGGGATTGTAA GGGGGTGTTGGTGATGGACAGAGCTTACTCTTTCGGTTCAGGTGGGATTT TAGTGAACGAGGTAAAGGTTTCCCTCTACGGTCACGACGTACCAGTTCAC AGTCTCGTTGGGGGGTTAGGGGGTATGGATGTGAGGCCACTTCACATTCA GACTGCATTGGAGAACCTTATGGAGGGTAAATTGGAGGAGGAGAGGTGGC TACTATGA
A43: =IF(EXACT(H43,"N"),CONCATENATE("R",ROW()),IF(EXACT(H43,"Y"),CONCATENATE("R",ROW()),"")) | G43: Pyruvate:ferredoxin oxidoreductase and related 2-oxoacid:ferredoxin oxidoreductases, beta subunit | I43: 2508723110 | J43: MetMK1DRAFT_00014620 | K43: MMFLRGNAACPGCPIPRELDALLEVTGERTVLVVPASCTTVIMGDTRGMP SKVPVIHSAFAASSAIASGVRSALDARGEKATVVVWAGDGGTGDIGFASL SGAAERNEDILYVCYDNEAYMNTGVQRSGLTPFGAWTTTTPSGKAESKKP LPKIIADHGVPYVATASIAYLFDYKDKVRKAKEMSGFRYIHLLSPCPPGW RFDAGLTVEIAKLAVETGIWPLYEIEKGKFRLTSISKVLVDKKKRKPVEE YLKLQGRFKDLKGEDVKRIQEEVDQMWEDLARM | L43: ATGATGTTCCTGAGGGGTAACGCGGCTTGTCCTGGTTGTCCGATCCCTAG GGAACTGGACGCCCTCCTGGAGGTAACCGGTGAGAGGACTGTCCTAGTGG TTCCAGCGTCATGTACGACAGTAATCATGGGGGACACCAGGGGCATGCCC TCTAAGGTTCCTGTCATTCACAGTGCTTTCGCCGCATCTTCAGCTATAGC GTCAGGAGTCCGTTCTGCGCTAGACGCTAGGGGAGAGAAAGCTACTGTAG TGGTGTGGGCTGGAGACGGAGGCACGGGAGACATAGGATTCGCCTCGCTC AGTGGTGCAGCTGAGAGGAATGAAGACATACTCTACGTTTGTTATGACAA CGAGGCATACATGAATACCGGCGTACAGAGGTCTGGGTTGACGCCCTTCG GAGCCTGGACCACCACAACTCCCAGCGGAAAGGCTGAGTCCAAGAAACCC CTTCCCAAGATAATTGCGGATCATGGAGTTCCCTACGTGGCGACAGCCTC GATCGCTTACCTCTTCGATTACAAGGATAAGGTGAGGAAAGCAAAGGAGA TGTCAGGATTCAGGTATATTCATCTCCTATCGCCCTGTCCTCCAGGGTGG AGGTTCGACGCTGGACTCACCGTTGAGATAGCTAAGCTGGCTGTGGAGAC AGGGATATGGCCACTGTACGAGATAGAGAAAGGGAAGTTCAGGCTGACCA GTATAAGTAAAGTGTTGGTAGACAAGAAAAAGAGGAAACCAGTGGAGGAA TACTTGAAGTTGCAGGGCAGGTTCAAGGATCTCAAAGGAGAAGACGTGAA GAGGATCCAAGAAGAAGTGGATCAGATGTGGGAAGATCTCGCCAGGATGT GA
A44: =IF(EXACT(H44,"N"),CONCATENATE("R",ROW()),IF(EXACT(H44,"Y"),CONCATENATE("R",ROW()),"")) | G44: 2-oxoacid:acceptor oxidoreductase, gamma subunit, pyruvate/2-ketoisovalerate family | I44: 2508723531 | J44: MetMK1DRAFT_00018830 | K44: VESSLEIRFHGRGGQGVVTAANVLAEAASLENMFSSAFPIYGAERRGAEI ESYCRISRTQIRETSPIEEPDVVVILDPTLLKISNPLRGLRKDGKVVINW KGASPSVGFKTYTVDATGIALELKLVKSGWPLVNIVMLGALVKATGVPSL ESLKMAIGQEFSGNLGELNKRAVELSFERTFEVEQIVA | L44: GTGGAATCATCGCTTGAGATACGATTTCACGGACGAGGAGGTCAAGGGGT TGTCACTGCCGCCAACGTTCTTGCTGAGGCAGCAAGCCTAGAGAACATGT TCTCTTCAGCCTTCCCAATCTACGGGGCGGAAAGGAGAGGTGCAGAAATA GAGTCTTACTGCAGGATTTCGAGGACGCAAATAAGGGAAACCTCTCCAAT TGAGGAGCCGGACGTTGTGGTAATCCTGGATCCTACACTCCTAAAAATAT CGAACCCCCTAAGAGGGCTTAGGAAGGATGGAAAGGTAGTCATAAATTGG AAGGGAGCCTCTCCATCCGTGGGATTCAAGACTTACACGGTGGACGCCAC AGGCATCGCTCTTGAGCTCAAACTCGTAAAGTCAGGGTGGCCTCTGGTTA ACATAGTGATGTTGGGTGCCTTGGTTAAGGCAACAGGTGTACCTAGTTTG GAATCTTTGAAGATGGCCATAGGCCAGGAGTTCTCAGGAAACTTAGGTGA GTTAAACAAGAGAGCAGTGGAGTTATCCTTCGAGAGGACATTTGAGGTGG AGCAGATTGTCGCTTGA
A45: =IF(EXACT(H45,"N"),CONCATENATE("R",ROW()),IF(EXACT(H45,"Y"),CONCATENATE("R",ROW()),"")) | G45: 2-oxoacid:acceptor oxidoreductase, delta subunit, pyruvate/2-ketoisovalerate family | I45: 2508723532 | J45: MetMK1DRAFT_00018840 | K45: LSLEYQVFPVSTPAEGAGGKTGNWRTVRPVVTDRCIGCNACFLWCPEGTI GVVGRKAKVYYEYCKGCGVCANVCPVKAIEMVMEQ | L45: TTGTCGCTTGAATACCAAGTATTCCCTGTATCTACTCCTGCAGAGGGAGC GGGGGGAAAGACAGGTAACTGGAGGACTGTGAGACCAGTGGTCACTGATA GGTGCATAGGATGTAACGCCTGTTTCCTTTGGTGTCCTGAAGGGACGATC GGTGTAGTTGGAAGGAAGGCGAAGGTCTACTATGAATATTGTAAAGGATG TGGAGTCTGTGCTAACGTTTGTCCAGTTAAGGCAATAGAGATGGTGATGG AGCAATGA
A46: =IF(EXACT(H46,"N"),CONCATENATE("R",ROW()),IF(EXACT(H46,"Y"),CONCATENATE("R",ROW()),"")) | G46: Pyruvate:ferredoxin oxidoreductase and related 2-oxoacid:ferredoxin oxidoreductases, alpha subunit | I46: 2508723533 | J46: MetMK1DRAFT_00018850 | K46: MMKVMSGNEAVALAVKLARVGVVGIYPITPQTTIIEELAEMRARGELSAD IVRVESEHSAMAVTLGAAVSGVRSFTATSSQGLLYMHEMVWWTSGSRAPL VMVVATRAVGAPWNIWNENTDFMSERDSGWIMAFASTPQEALDLTLQAFR ISEDPRVFLPVMVGMDGFILSHTKTNVFIPSQEDVDNFIPPRRQPYVIDP ETKESMGNIFPPIYYMKLRQSIHEAITNSEEVIKEVGREYNKISPLGDYG TLNVSYKLDDADYAVVTMGAWSLDAMEAVDKLRENGLNVGLYRVRYIRPW SEKEIRENLGDKRAILVVDRATSLGRGGPLYLELKSTLNIPIKGVVTGLG GVSVGKRDFYSLISRFVEEARYSEVGGVEWYYPGEVKEVELGTPRTAH | L46: ATGATGAAAGTGATGTCTGGGAATGAGGCAGTGGCCCTGGCAGTCAAGTT GGCGAGGGTCGGAGTAGTAGGAATTTATCCCATAACACCGCAAACCACTA TCATAGAAGAACTGGCTGAGATGAGAGCTAGGGGTGAGCTCAGCGCTGAC ATAGTCAGAGTTGAGAGTGAACACTCTGCCATGGCAGTGACCTTAGGGGC TGCCGTGTCAGGGGTGAGATCTTTCACAGCCACCTCCTCTCAAGGACTTC TCTATATGCATGAAATGGTTTGGTGGACTTCGGGGAGCAGGGCCCCGCTG GTGATGGTCGTTGCTACTAGGGCAGTTGGTGCCCCATGGAACATCTGGAA TGAGAACACGGACTTCATGAGTGAGAGAGACAGTGGATGGATAATGGCCT TCGCGTCAACCCCTCAGGAAGCTCTGGACTTAACCCTTCAGGCTTTCAGA ATATCTGAAGATCCCAGAGTCTTCCTTCCAGTGATGGTAGGGATGGATGG ATTCATCCTATCCCACACGAAAACTAACGTGTTTATTCCGTCCCAAGAGG ATGTCGATAACTTCATCCCCCCGAGGAGGCAACCTTACGTAATAGACCCA GAGACTAAGGAGAGCATGGGTAACATATTCCCTCCCATATATTACATGAA GCTCAGACAGTCCATTCATGAGGCCATAACCAACTCTGAGGAGGTTATCA AAGAAGTGGGAAGAGAATACAACAAGATAAGTCCTCTAGGAGACTATGGA ACACTTAACGTGAGCTACAAGTTAGATGACGCAGATTACGCTGTGGTTAC GATGGGGGCGTGGTCGCTGGACGCTATGGAGGCAGTGGACAAGTTGAGGG AAAACGGACTGAATGTGGGGTTATACAGGGTGAGGTACATAAGACCTTGG AGTGAAAAGGAGATAAGAGAGAACCTAGGAGACAAGAGAGCAATATTAGT GGTTGACAGGGCTACAAGCCTGGGCAGAGGAGGTCCACTTTATCTTGAAC TTAAGTCAACGTTAAACATTCCCATTAAGGGAGTCGTTACCGGCCTAGGG GGAGTCTCTGTAGGAAAGAGGGACTTCTACTCCCTTATTTCAAGGTTCGT AGAGGAGGCCAGATACTCAGAAGTTGGAGGGGTAGAGTGGTATTATCCTG GAGAGGTGAAAGAGGTTGAGCTTGGGACTCCGAGGACTGCACACTAA
A47: =IF(EXACT(H47,"N"),CONCATENATE("R",ROW()),IF(EXACT(H47,"Y"),CONCATENATE("R",ROW()),"")) | G47: Pyruvate:ferredoxin oxidoreductase and related 2-oxoacid:ferredoxin oxidoreductases, beta subunit | I47: 2508723534 | J47: MetMK1DRAFT_00018860 | K47: MTMRMMGMALGNNVALIVVAGCSSVIQGMGPKNSYGYPALNIAFAAGPAA ASGMWRAFKQRNKDVTVVVWAGDGGTADIGFASLSGAAERNENFIYVCVD NEAYMNSGGQRSGSTPHGAVTPTTPEGKKENKKELLFLMLDHHVPYAATA SVGYPHDLMDKLRRAKTIEGFRYLQVLTPDPYGWLFDPSRTAEVGKLAVQ TCYWPLLEVVNGRVQVSNESLHCLRKETRRPLRDFLSVQGRYKRLNDQDY KELESYVDYTWDRILKLMRT | L47: ATGACCATGAGGATGATGGGGATGGCCCTAGGGAACAACGTGGCGTTAAT CGTGGTGGCCGGATGCTCCTCAGTGATCCAAGGGATGGGTCCTAAAAACT CCTACGGTTATCCTGCTCTTAACATAGCCTTCGCAGCTGGACCTGCAGCC GCTTCAGGCATGTGGAGGGCATTCAAGCAGAGAAACAAGGACGTCACCGT GGTTGTTTGGGCTGGAGATGGAGGGACAGCTGATATAGGTTTCGCATCGC TAAGTGGAGCTGCTGAGAGAAATGAGAACTTCATATATGTGTGTGTGGAC AACGAGGCTTACATGAACTCTGGGGGTCAGAGAAGTGGTTCCACTCCCCA CGGGGCTGTCACACCGACCACCCCTGAAGGTAAGAAGGAAAATAAGAAGG AACTTCTCTTCCTCATGCTGGATCATCATGTTCCCTATGCAGCGACGGCA TCAGTAGGCTATCCTCACGACCTTATGGATAAACTCAGGAGAGCAAAGAC GATCGAGGGGTTCAGATACCTGCAGGTCCTCACTCCAGATCCCTACGGCT GGCTATTCGACCCGTCTAGGACTGCAGAGGTCGGAAAACTCGCCGTACAA ACTTGCTATTGGCCCCTGTTGGAAGTAGTGAATGGTAGAGTCCAGGTCAG CAACGAATCTCTTCACTGTCTGAGGAAGGAGACTAGGAGACCGTTGAGGG ACTTCCTCTCTGTACAGGGTAGATATAAGAGGTTGAATGATCAGGACTAC AAGGAGCTGGAGTCCTACGTAGACTATACTTGGGACAGAATACTGAAGCT AATGAGGACCTAA
A49: =IF(EXACT(H49,"N"),CONCATENATE("R",ROW()),IF(EXACT(H49,"Y"),CONCATENATE("R",ROW()),"")) -> R49 | B49: G-G_R00235 | C49: ATP + CoA + Acetate = PPi + AMP + Acetyl-CoA | D49: 6.2.1.1 | H49: N
A51: =IF(EXACT(H51,"N"),CONCATENATE("R",ROW()),IF(EXACT(H51,"Y"),CONCATENATE("R",ROW()),"")) | C51: Glycolytic / Gluconeogenic Pathways
A52: =IF(EXACT(H52,"N"),CONCATENATE("R",ROW()),IF(EXACT(H52,"Y"),CONCATENATE("R",ROW()),"")) -> R52 | B52: G-G_R00200 | C52: 1 ADP + 1 Phosphoenolpyruvate + 1 Proton = 1 ATP + 1 Pyruvate | D52: 2.7.1.40 | G52: pyruvate kinase | H52: N | I52: 2508722571 | J52: MetMK1DRAFT_00009230 | K52: MRRTKIVATLGPSSLKLISQLSKFVDVFRVNFAHGDENSRREYVRLIREE APDSSILIDLPGPKLRVGDIGRMELKRGQEVLFSPKGGITVEDPVFYSSV KEGSVILISDGLIRIKVTNVSEDEVRGVVLDEGVLTSRKGINIPDLNLRS GLTQRDLELLEEAISLKADYVGLSFVLSAEDVRKAKERIKGRAWVVSKIE KRQAVENLKQIILESDAVMVARGDLGVEIGLENLPYVQRKIISTSKTLGR PVILATQVLESMVLNPMPWRAEVIDVANSVYQGVDAIMLSDETASGSYPL EAVRYLHRIITSSEDKVRSTRPTPSGPDDAVASASLALAETSKSKLIVVH TRSGLTALRVSRLRPRSPILCLTPDPEVARRLRLCWGITTVVVKGPSSLD EMVSLAVEHCRRLGVKGSVVIVAGDPSTEPGRTDFIKLHNLDEEKGLKST KKI | L52: ATGAGAAGAACTAAGATAGTGGCGACGCTGGGGCCCTCCTCCCTCAAGTT AATTTCTCAACTCTCCAAGTTCGTGGACGTATTCAGGGTCAACTTCGCTC ATGGGGATGAGAACAGCAGGAGGGAGTACGTGAGACTCATCAGGGAAGAG GCACCTGACTCTTCCATCCTTATCGACCTCCCAGGCCCTAAGCTGAGGGT GGGAGACATAGGGAGGATGGAGCTCAAGAGGGGACAGGAGGTCCTCTTCT CTCCCAAGGGTGGGATCACGGTTGAGGACCCCGTGTTCTACTCTAGTGTT AAGGAGGGTTCCGTCATCCTCATCTCCGACGGCCTCATAAGGATTAAGGT GACGAACGTTTCTGAGGACGAGGTCAGGGGTGTCGTATTGGATGAGGGAG TGTTGACCTCCAGGAAGGGGATAAACATACCTGACCTCAATCTGAGGAGC GGACTCACCCAGAGGGATCTGGAGTTGCTGGAGGAGGCCATCTCACTCAA GGCAGACTACGTAGGGCTCTCCTTCGTCCTCAGCGCTGAGGACGTTAGGA AGGCGAAGGAGAGGATAAAGGGGAGGGCGTGGGTAGTATCCAAGATCGAG AAGAGGCAAGCCGTGGAGAACCTGAAGCAGATAATTCTTGAGAGCGACGC CGTCATGGTAGCCAGGGGAGACCTTGGAGTGGAGATAGGCCTGGAGAACC TACCGTACGTGCAGAGGAAGATAATCTCCACCTCTAAGACCCTGGGGAGA CCGGTAATCCTGGCCACACAGGTGTTGGAGTCCATGGTCCTGAACCCTAT GCCCTGGAGGGCTGAGGTCATAGACGTTGCCAACTCCGTCTACCAGGGGG TGGATGCAATAATGCTGAGCGATGAGACAGCTTCAGGTTCCTATCCCCTG GAGGCAGTGAGGTACCTTCACCGCATCATAACTTCCTCAGAAGACAAGGT GAGGTCCACGAGGCCCACCCCCTCAGGTCCGGACGACGCCGTCGCCTCAG CCTCGCTGGCCCTCGCTGAGACTTCCAAGTCGAAGCTAATAGTGGTGCAC ACAAGGAGCGGACTCACGGCCCTCAGGGTGTCGAGACTCAGACCCAGGAG TCCCATACTCTGCCTGACCCCGGATCCCGAAGTCGCGAGGAGGTTAAGGC TCTGCTGGGGGATTACAACGGTGGTGGTGAAGGGTCCCTCATCCTTGGAC GAGATGGTTTCCTTGGCCGTGGAACACTGTAGGAGGTTAGGGGTCAAGGG TAGCGTGGTCATAGTCGCCGGGGATCCGTCCACGGAACCGGGGAGGACGG ACTTCATCAAGCTCCACAACCTGGATGAGGAGAAAGGCTTAAAATCTACT AAGAAGATTTAA
A53: =IF(EXACT(H53,"N"),CONCATENATE("R",ROW()),IF(EXACT(H53,"Y"),CONCATENATE("R",ROW()),""))
A54: =IF(EXACT(H54,"N"),CONCATENATE("R",ROW()),IF(EXACT(H54,"Y"),CONCATENATE("R",ROW()),"")) -> R54 | B54: G-G_R00658 | C54: 1 2-Phospho-D-glycerate = 1 H2O + 1 Phosphoenolpyruvate | D54: 4.2.1.11 | G54: phosphopyruvate hydratase | H54: Y | I54: 2508724463 | J54: MetMK1DRAFT_00028150 | K54: MMSDLSIFDLKGFEIIDSRGNFTVRAKVKLGCGVTATGDAPAGASKGSRE VVELRDERGSVEMAVKSINYYISPALIGMDSKFQTTVDKVLINLDGTENK SRLGANAMVATSIAVSKAASLALGVETFMHLGGSGPHIIPVPLMNILNGG LHAGNNLKIQEFMIIPVGFDTLKEALSASLVIYKALKSLVTEKYGKIYTA VGDEGGISPPLSKTEDALELVHSAVKRSGYEDKVLLGLDAAASNFYNKKE DKYEIDGNSKTRQEMIDFYVSLKDRYPLLYVEDPFEENDFKSFTELQSKM KGVLVSGDDIYTTNVKYLTKGIESGATKAVIVKVNQIGTITEAMEFVNLA KRHSIKTAISHRSGETEDSFIADLAVAVNSEFIKTGAPARGERTSKYNRL LEIEKEFGFEYMGKKLA | L54: ATGATGAGTGATTTGTCCATATTTGATCTCAAGGGTTTTGAGATAATAGA CTCTAGAGGGAACTTTACTGTTAGGGCAAAGGTTAAGTTAGGTTGCGGTG TTACGGCCACCGGGGACGCTCCAGCTGGGGCCTCTAAGGGATCGAGGGAA GTAGTGGAACTCCGGGATGAGCGTGGGTCTGTGGAGATGGCAGTGAAATC AATCAATTACTACATCTCCCCTGCACTCATAGGGATGGACTCGAAGTTCC AAACCACCGTAGATAAGGTTTTAATAAATTTAGATGGAACAGAGAATAAG TCAAGACTCGGTGCCAATGCGATGGTGGCTACATCCATAGCGGTGAGTAA GGCAGCCTCACTGGCCTTGGGGGTAGAAACGTTCATGCATCTAGGCGGTT CAGGGCCACATATCATTCCAGTTCCATTAATGAACATCCTCAACGGAGGA CTTCACGCTGGTAACAACTTGAAAATACAAGAGTTCATGATAATTCCCGT AGGTTTTGATACCCTTAAGGAAGCGCTCTCAGCTTCATTAGTAATATATA AGGCACTGAAGTCCCTAGTTACGGAGAAGTACGGGAAGATTTATACGGCG GTAGGGGATGAGGGAGGAATCTCTCCACCCCTTAGTAAAACTGAAGATGC ATTGGAACTGGTCCACTCCGCAGTGAAGAGGTCAGGATACGAGGATAAGG TACTGCTGGGTTTAGATGCGGCAGCATCGAATTTTTATAATAAAAAAGAA GATAAATACGAGATAGATGGTAACTCTAAAACTCGACAGGAAATGATAGA CTTCTATGTATCCCTAAAGGATCGCTATCCGCTCTTATACGTTGAGGATC CCTTTGAGGAGAATGACTTTAAGAGCTTTACTGAGCTCCAGAGCAAAATG AAGGGAGTTCTAGTATCCGGTGATGATATCTACACTACTAACGTGAAATA CTTAACTAAGGGAATAGAGTCAGGTGCAACAAAGGCTGTAATAGTGAAAG TCAACCAGATAGGCACAATAACTGAAGCCATGGAGTTCGTGAACTTAGCC AAGAGACATTCCATTAAAACTGCGATAAGTCACAGAAGCGGGGAAACAGA GGACAGCTTCATAGCGGACTTAGCAGTGGCTGTCAACAGTGAATTCATAA AGACTGGGGCACCAGCTAGAGGAGAAAGGACATCCAAATACAATAGACTT TTAGAAATAGAGAAAGAATTTGGATTTGAATATATGGGGAAGAAATTAGC TTGA
...

Sheet Reactions
A1: =Master!A5 -> R5 | B1: =Master!B5 -> autotrophy_reduction | C1: =Master!C5 -> Acetyl-CoA + 2 HCO3 + 3 ATP + 3 NADPH + 1 Proton = Succinyl-CoA + 2 ADP + 2 Phosphate + 3 NADP + AMP + PPi + H2O | D1: =Master!D5 -> 0 | E1: =Master!E5 -> 0 | F1: =Master!F5 -> 0 | G1: =Master!G5 -> 0 | H1: =Master!H5 -> N | J1: =A1 -> R5 | K1: =C1 -> Acetyl-CoA + 2 HCO3 + 3 ATP + 3 NADPH + 1 Proton = Succinyl-CoA + 2 ADP + 2 Phosphate + 3 NADP + AMP + PPi + H2O | L1: | | M1: # | N1: =IF(EXACT(H1,"Y"),"-inf","0") -> 0 | O1: Inf | P1: 0 | Q1: 0 | R1: 1 | S1: 1 | T1: 0 | U1: 0.01
A2: =Master!A7 -> R7 | B2: =Master!B7 -> autotrophy_regeneration | C2: =Master!C7 -> Succinyl-CoA + 2 NADPH + Proton + ATP + NAD = 2 NADP + Acetoacetyl-CoA + NADH + AMP + PPi | D2: =Master!D7 -> 0 | E2: =Master!E7 -> 0 | F2: =Master!F7 -> 0 | G2: =Master!G7 -> 0 | H2: =Master!H7 -> N | J2: =A2 -> R7 | K2: =C2 -> Succinyl-CoA + 2 NADPH + Proton + ATP + NAD = 2 NADP + Acetoacetyl-CoA + NADH + AMP + PPi | L2: | | M2: # | N2: =IF(EXACT(H2,"Y"),"-inf","0") -> 0 | O2: Inf | P2: 0 | Q2: 0 | R2: 1 | S2: 1 | T2: 0 | U2: 0.01
A3: =Master!A10 -> R10 | B3: =Master!B10 -> TCA_R01325 | C3: =Master!C10 -> 1 Citrate = 1 Isocitrate | D3: =Master!D10 -> 4.2.1.3 | E3: =Master!E10 -> 0 | F3: =Master!F10 -> 0 | G3: =Master!G10 -> aconitate hydratase 1 | H3: =Master!H10 -> Y | J3: =A3 -> R10 | K3: =C3 -> 1 Citrate = 1 Isocitrate | L3: | | M3: # | N3: =IF(EXACT(H3,"Y"),"-inf","0") -> -inf | O3: Inf | P3: 0 | Q3: 0 | R3: 1 | S3: 1 | T3: 0 | U3: 0.01
A4: =Master!A12 -> R12 | B4: =Master!B12 -> TCA_R01899 | C4: =Master!C12 -> NADP + Isocitrate = NADPH + CO2 + 2-Oxoglutarate | D4: =Master!D12 -> 1.1.1.42 | E4: =Master!E12 -> 0 | F4: =Master!F12 -> 0 | G4: =Master!G12 -> Isocitrate dehydrogenases | H4: =Master!H12 -> N | J4: =A4 -> R12 | K4: =C4 -> NADP + Isocitrate = NADPH + CO2 + 2-Oxoglutarate | L4: | | M4: # | N4: =IF(EXACT(H4,"Y"),"-inf","0") -> 0 | O4: Inf | P4: 0 | Q4: 0 | R4: 1 | S4: 1 | T4: 0 | U4: 0.01
A5: =Master!A14 -> R14 | B5: =Master!B14 -> TCA_R01197_assumed | C5: =Master!C14 -> CoA + 2-Oxoglutarate + 1 NAD = CO2 + Succinyl-CoA + 1 NADH | D5: =Master!D14 -> 1.2.7.3 | E5: =Master!E14 -> 0 | F5: =Master!F14 -> 0 | G5: =Master!G14 -> 2-oxoacid:acceptor oxidoreductase, alpha subunit | H5: =Master!H14 -> N | J5: =A5 -> R14 | K5: =C5 -> CoA + 2-Oxoglutarate + 1 NAD = CO2 + Succinyl-CoA + 1 NADH | L5: | | M5: # | N5: =IF(EXACT(H5,"Y"),"-inf","0") -> 0 | O5: Inf | P5: 0 | Q5: 0 | R5: 1 | S5: 1 | T5: 0 | U5: 0.01
A6: =Master!A17 -> R17 | B6: =Master!B17 -> TCA_R00405 | C6: =Master!C17 -> 1 ADP + 1 Phosphate + 1 Succinyl-CoA = 1 ATP + 1 CoA + 1 Succinate | D6: =Master!D17 -> 6.2.1.5 | E6: =Master!E17 -> 0 | F6: =Master!F17 -> 0 | G6: =Master!G17 -> succinyl-CoA synthetase, alpha subunit | H6: =Master!H17 -> Y | J6: =A6 -> R17 | K6: =C6 -> 1 ADP + 1 Phosphate + 1 Succinyl-CoA = 1 ATP + 1 CoA + 1 Succinate | L6: | | M6: # | N6: =IF(EXACT(H6,"Y"),"-inf","0") -> -inf | O6: Inf | P6: 0 | Q6: 0 | R6: 1 | S6: 1 | T6: 0 | U6: 0.01
A7: =Master!A20 -> R20 | B7: =Master!B20 -> TCA_complex_II-EC-1.3.99.1_assumed | C7: =Master!C20 -> 1 ubiquinone + 1 Succinate = 1 ubiquinol + 1 Fumarate | D7: =Master!D20 -> 1.3.99.1 | E7: =Master!E20 -> 0 | F7: =Master!F20 -> 0 | G7: =Master!G20 -> succinate dehydrogenase and fumarate reductase iron-sulfur protein | H7: =Master!H20 -> Y | J7: =A7 -> R20 | K7: =C7 -> 1 ubiquinone + 1 Succinate = 1 ubiquinol + 1 Fumarate | L7: | | M7: # | N7: =IF(EXACT(H7,"Y"),"-inf","0") -> -inf | O7: Inf | P7: 0 | Q7: 0 | R7: 1 | S7: 1 | T7: 0 | U7: 0.01
A8: =Master!A27 -> R27 | B8: =Master!B27 -> TCA_R01082 | C8: =Master!C27 -> 1 Fumarate + 1 H2O = 1 L-Malate | D8: =Master!D27 -> 4.2.1.2 | E8: =Master!E27 -> 0 | F8: =Master!F27 -> 0 | G8: =Master!G27 -> hydro-lyases, Fe-S type, tartrate/fumarate subfamily, beta region | H8: =Master!H27 -> Y | J8: =A8 -> R27 | K8: =C8 -> 1 Fumarate + 1 H2O = 1 L-Malate | L8: | | M8: # | N8: =IF(EXACT(H8,"Y"),"-inf","0") -> -inf | O8: Inf | P8: 0 | Q8: 0 | R8: 1 | S8: 1 | T8: 0 | U8: 0.01
A9: =Master!A31 -> R31 | B9: =Master!B31 -> TCA_R00342 | C9: =Master!C31 -> 1 L-Malate + 1 NAD = 1 NADH + 1 Oxaloacetate + 1 Proton | D9: =Master!D31 -> 1.1.1.37 | E9: =Master!E31 -> 0 | F9: =Master!F31 -> 0 | G9: =Master!G31 -> Malate/lactate dehydrogenases | H9: =Master!H31 -> Y | J9: =A9 -> R31 | K9: =C9 -> 1 L-Malate + 1 NAD = 1 NADH + 1 Oxaloacetate + 1 Proton | L9: | | M9: # | N9: =IF(EXACT(H9,"Y"),"-inf","0") -> -inf | O9: Inf | P9: 0 | Q9: 0 | R9: 1 | S9: 1 | T9: 0 | U9: 0.01
A10: =Master!A33 -> R33 | B10: =Master!B33 -> TCA_R00351 | C10: =Master!C33 -> 1 Acetyl-CoA + 1 H2O + 1 Oxaloacetate = 1 Citrate + 1 CoA + 1 Proton | D10: =Master!D33 -> 2.3.3.1 | E10: =Master!E33 -> 0 | F10: =Master!F33 -> 0 | G10: =Master!G33 -> 2-methylcitrate synthase/citrate synthase II | H10: =Master!H33 -> Y | J10: =A10 -> R33 | K10: =C10 -> 1 Acetyl-CoA + 1 H2O + 1 Oxaloacetate = 1 Citrate + 1 CoA + 1 Proton | L10: | | M10: # | N10: =IF(EXACT(H10,"Y"),"-inf","0") -> -inf | O10: Inf | P10: 0 | Q10: 0 | R10: 1 | S10: 1 | T10: 0 | U10: 0.01
A11: =Master!A36 -> R36 | B11: =Master!B36 -> Pyruvate_R00344 | C11: =Master!C36 -> ADP + Phosphate + Oxaloacetate + 2 Proton = ATP + Pyruvate + H2CO3 | D11: =Master!D36 -> 0 | E11: =Master!E36 -> 0 | F11: =Master!F36 -> 0 | G11: =Master!G36 -> 0 | H11: =Master!H36 -> N | J11: =A11 -> R36 | K11: =C11 -> ADP + Phosphate + Oxaloacetate + 2 Proton = ATP + Pyruvate + H2CO3 | L11: | | M11: # | N11: =IF(EXACT(H11,"Y"),"-inf","0") -> 0 | O11: Inf | P11: 0 | Q11: 0 | R11: 1 | S11: 1 | T11: 0 | U11: 0.01
A12: =Master!A38 -> R38 | B12: =Master!B38 -> G-G_R00341_assumedfor_R00726 | C12: =Master!C38 -> ATP + Oxaloacetate = ADP + CO2 + Phosphoenolpyruvate | D12: =Master!D38 -> 4.1.1.32 | E12: =Master!E38 -> 0 | F12: =Master!F38 -> 0 | G12: =Master!G38 -> Phosphoenolpyruvate carboxykinase (GTP) | H12: =Master!H38 -> Y | J12: =A12 -> R38 | K12: =C12 -> ATP + Oxaloacetate = ADP + CO2 + Phosphoenolpyruvate | L12: | | M12: # | N12: =IF(EXACT(H12,"Y"),"-inf","0") -> -inf | O12: Inf | P12: 0 | Q12: 0 | R12: 1 | S12: 1 | T12: 0 | U12: 0.01
A13: =Master!A40 -> R40 | B13: =Master!B40 -> pyruvate-dehyd | C13: =Master!C40 -> Pyruvate + CoA + 1 NAD = Acetyl-CoA + CO2 + 1 NADH | D13: =Master!D40 -> 1.2.7.1 | E13: =Master!E40 -> 0 | F13: =Master!F40 -> 0 | G13: =Master!G40 -> 2-oxoacid:acceptor oxidoreductase, gamma subunit, pyruvate/2-ketoisovalerate family | H13: =Master!H40 -> Y | J13: =A13 -> R40 | K13: =C13 -> Pyruvate + CoA + 1 NAD = Acetyl-CoA + CO2 + 1 NADH | L13: | | M13: # | N13: =IF(EXACT(H13,"Y"),"-inf","0") -> -inf | O13: Inf | P13: 0 | Q13: 0 | R13: 1 | S13: 1 | T13: 0 | U13: 0.01
A14: =Master!A49 -> R49 | B14: =Master!B49 -> G-G_R00235 | C14: =Master!C49 -> ATP + CoA + Acetate = PPi + AMP + Acetyl-CoA | D14: =Master!D49 -> 6.2.1.1 | E14: =Master!E49 -> 0 | F14: =Master!F49 -> 0 | G14: =Master!G49 -> 0 | H14: =Master!H49 -> N | J14: =A14 -> R49 | K14: =C14 -> ATP + CoA + Acetate = PPi + AMP + Acetyl-CoA | L14: | | M14: # | N14: =IF(EXACT(H14,"Y"),"-inf","0") -> 0 | O14: Inf | P14: 0 | Q14: 0 | R14: 1 | S14: 1 | T14: 0 | U14: 0.01
A15: =Master!A52 -> R52 | B15: =Master!B52 -> G-G_R00200 | C15: =Master!C52 -> 1 ADP + 1 Phosphoenolpyruvate + 1 Proton = 1 ATP + 1 Pyruvate | D15: =Master!D52 -> 2.7.1.40 | E15: =Master!E52 -> 0 | F15: =Master!F52 -> 0 | G15: =Master!G52 -> pyruvate kinase | H15: =Master!H52 -> N | J15: =A15 -> R52 | K15: =C15 -> 1 ADP + 1 Phosphoenolpyruvate + 1 Proton = 1 ATP + 1 Pyruvate | L15: | | M15: # | N15: =IF(EXACT(H15,"Y"),"-inf","0") -> 0 | O15: Inf | P15: 0 | Q15: 0 | R15: 1 | S15: 1 | T15: 0 | U15: 0.01
