Workbook

Sheet Info
B2: Worksheet | C2: Description
B4: Master | C4: Reactions and additional gene information
B6: Reactions | C6: Reactions and reversibilities (grey highlighted information is directly compatible with CNA)
B8: Metabolites | C8: Metabolites and composistions (red highlighted metabolites were potential external metabolites, such as nutrients and carbon sources)
B10: BIOMASS_Myell | C10: Describes biomass formulation for Metalospheara biomass
B12: grfile | C12: Gene regulatory information for running RegEFMTool

Sheet Master
A2: ID | B2: Reaction Name | C2: Reaction | D2: Enzyme Commission | E2: Metacyc version of Reaction | F2: Name | G2: Product Name | H2: Reversible | I2: Gene Object ID | J2: Locus | K2: Protein | L2: Gene | N2: Reference Paper
C4: Autortrophy
A5: =IF(EXACT(H5,"N"),CONCATENATE("R",ROW()),IF(EXACT(H5,"Y"),CONCATENATE("R",ROW()),"")) -> R5 | B5: autotrophy_reduction | C5: Acetyl-CoA + 2 HCO3 + 3 ATP + 3 NADPH + 1 Proton = Succinyl-CoA + 2 ADP + 2 Phosphate + 3 NADP + AMP + PPi + H2O | H5: N
A7: =IF(EXACT(H7,"N"),CONCATENATE("R",ROW()),IF(EXACT(H7,"Y"),CONCATENATE("R",ROW()),"")) -> R7 | B7: autotrophy_regeneration | C7: Succinyl-CoA + 2 NADPH + Proton + ATP + NAD = 2 NADP + Acetoacetyl-CoA + NADH + AMP + PPi | H7: N
C9: TCA cycle / Fermentative pathways
A10: =IF(EXACT(H10,"N"),CONCATENATE("R",ROW()),IF(EXACT(H10,"Y"),CONCATENATE("R",ROW()),"")) -> R10 | B10: TCA_R01325 | C10: 1 Citrate = 1 Isocitrate | D10: 4.2.1.3 | G10: aconitate hydratase 1 | H10: Y | I10: 2508724220 | J10: MetMK1DRAFT_00025720 | K10: MKIEKSRIGDAYYYPLSKLSELGFNIDELPYSIKVLVENTLRNMDGDKIT EDDLEAIAGWKTGKDFAFMPTRVVMQDYTGVPLLVDLAAMRSELQRLGLD PTRVNPRIPSDLVIDHSIQVDYFGTGYSLAMNMRTEFERNQERYKFLKWA QGAFTNLRIVPPGNGIIHQVNLEFLSKVIDVREHGGVLTAFPEVVIGTDS HTTMVDGLGVLAWGVGGLEAESVMLGEPYYMSVPEVVGVKLKGEVRDGVT PTDVVLYLTELLRKKGVVGKFVEFFGPSLSLLSVPDRATIANMAPEYGAT VGYFPIDEVTLSYLRATDRDAEFVREYSKAQGLMYGREPRYSEVVEVDLG HVEPALAGPRNPDERVPLRKMAELKVGNKVGKKVKDGSVVIASITSCTNT SNPTVMLGAGILARKAVSLGLRVPDFVKTSTAPGSPIVVKYLEEAGLLPY LEALRFHIVGFGCTTCIGNSGPLPKEVEDDLRQGIEAYAVISGNRNFEGR IYPLLKGTYLASPILVVAYALAGRININFETEPIGIDPNGRPVFLKDVWP SLKEISKYMEIALNPQFFREQKSKIFEGDENWKKLPVSQGVTFSWDPSST YIVEPPWFRGESKPFQEIRDARILMILGDKITTDHISPAGPIAPDSDAGR YLKERGAKELNTFGARRGNHEVMLRGGFSNPKVKNLMVQREGGFTIHYPD GKIDTIFNVAAMYKKEGVPLVIFAGKQYGTGSSRDWAAKVTSLLGIRVVV AESFERIHRSNLVAMGVLPVEANWSGANLRGDELVDVILSDLKPRAEVTV RIKGGKGEREIRGIARVETKAEVEYLRHGGILNYVFTKIKSNSFV | L10: ATGAAAATCGAGAAATCTAGGATCGGAGACGCATATTATTATCCCCTTTC TAAGCTCTCGGAATTAGGTTTCAACATAGACGAACTCCCTTACTCTATCA AGGTCTTGGTCGAGAACACACTGAGAAATATGGATGGGGACAAAATAACG GAGGATGACCTGGAGGCGATAGCTGGTTGGAAGACAGGGAAGGATTTTGC ATTCATGCCGACTAGGGTCGTGATGCAAGATTACACTGGAGTCCCCCTAT TAGTCGACCTAGCTGCAATGAGATCTGAGCTTCAACGCTTAGGGTTAGAT CCGACGAGGGTTAATCCCAGGATTCCATCAGACCTAGTCATAGATCACTC AATCCAGGTGGATTACTTCGGTACTGGGTACTCCCTGGCAATGAACATGA GGACTGAGTTCGAAAGGAACCAGGAGAGGTATAAATTTCTCAAGTGGGCA CAAGGTGCCTTCACTAATCTCAGAATAGTTCCACCAGGAAACGGTATAAT ACATCAGGTCAATTTGGAGTTCTTGAGTAAGGTAATAGATGTCAGGGAGC ACGGCGGCGTCCTCACGGCCTTTCCCGAGGTTGTCATAGGCACTGACTCC CACACTACGATGGTAGACGGTTTAGGGGTCCTAGCTTGGGGAGTGGGAGG CTTAGAAGCGGAGTCTGTGATGCTAGGTGAACCGTATTACATGAGCGTCC CTGAGGTAGTGGGGGTCAAGCTTAAGGGAGAGGTTCGAGATGGCGTTACT CCAACAGATGTAGTGCTCTATTTAACCGAACTTCTGAGGAAAAAGGGAGT AGTTGGAAAGTTTGTTGAGTTCTTCGGTCCCTCTCTCTCACTACTCTCAG TTCCGGACAGAGCTACAATCGCCAATATGGCTCCAGAGTACGGAGCCACT GTGGGTTACTTCCCCATTGACGAGGTAACCCTCTCTTATTTGAGGGCCAC AGATAGGGACGCTGAATTCGTGAGGGAATACTCTAAGGCGCAAGGCCTGA TGTACGGAAGAGAGCCCAGATATTCTGAGGTAGTGGAGGTGGACTTGGGC CACGTGGAACCTGCCCTTGCTGGACCTAGGAACCCAGACGAAAGGGTTCC CCTGAGGAAAATGGCCGAATTGAAAGTAGGAAACAAGGTGGGGAAGAAGG TCAAGGACGGAAGCGTTGTAATAGCATCCATCACTAGCTGTACTAATACC TCCAATCCCACAGTCATGCTCGGAGCAGGAATACTGGCCAGAAAGGCTGT GAGTCTGGGACTTAGGGTGCCAGACTTCGTCAAGACTAGCACGGCTCCAG GTTCACCCATAGTCGTGAAGTACCTCGAGGAGGCTGGTCTCCTTCCATAC CTTGAGGCGTTGAGGTTCCATATTGTGGGCTTCGGCTGTACCACCTGTAT AGGTAATTCTGGTCCTCTCCCCAAGGAAGTGGAAGACGACCTCAGGCAAG GGATAGAGGCCTATGCAGTGATCAGCGGAAACAGGAACTTCGAAGGAAGG ATATACCCTCTCCTCAAGGGAACCTACTTGGCCTCTCCCATCCTTGTTGT TGCCTACGCTTTGGCTGGAAGGATCAACATTAACTTTGAGACTGAACCCA TAGGGATAGATCCTAACGGCAGGCCGGTATTCCTTAAGGATGTATGGCCC TCCCTCAAGGAGATATCGAAGTATATGGAGATTGCCCTCAATCCCCAGTT CTTCAGGGAACAGAAGAGCAAAATATTCGAGGGAGACGAGAATTGGAAAA AACTCCCTGTATCTCAGGGAGTGACATTCTCTTGGGATCCCTCCTCCACG TACATAGTGGAGCCTCCGTGGTTTAGGGGGGAATCAAAACCCTTCCAGGA GATCAGGGATGCGAGGATCCTAATGATCTTAGGCGATAAGATAACTACGG ATCATATATCTCCAGCGGGCCCCATAGCCCCAGACTCTGACGCAGGGAGG TACCTTAAGGAAAGGGGAGCAAAGGAGCTCAACACTTTCGGGGCCAGGAG AGGTAATCATGAGGTCATGCTCAGGGGAGGCTTCTCCAACCCCAAGGTGA AGAACCTCATGGTACAGAGGGAGGGAGGATTTACGATCCACTATCCTGAC GGGAAGATTGACACCATATTTAACGTAGCCGCTATGTATAAGAAAGAGGG CGTGCCCTTGGTGATATTTGCAGGAAAGCAATACGGTACTGGGAGCTCAA GGGACTGGGCAGCCAAGGTTACATCTCTCTTGGGGATAAGGGTAGTTGTA GCCGAGAGCTTCGAAAGGATACACAGGAGTAACTTAGTTGCCATGGGTGT TCTCCCTGTGGAGGCGAACTGGAGCGGGGCGAACTTAAGGGGTGATGAGC TGGTAGACGTTATCTTGAGCGACTTAAAGCCTAGAGCCGAGGTTACTGTG AGGATTAAAGGAGGAAAGGGAGAACGAGAGATAAGGGGAATAGCAAGGGT AGAGACTAAGGCAGAAGTGGAATATTTAAGACACGGTGGCATTCTGAATT ACGTCTTCACAAAGATTAAGAGCAACTCCTTTGTATAA
A12: =IF(EXACT(H12,"N"),CONCATENATE("R",ROW()),IF(EXACT(H12,"Y"),CONCATENATE("R",ROW()),"")) -> R12 | B12: TCA_R01899 | C12: NADP + Isocitrate = NADPH + CO2 + 2-Oxoglutarate | D12: 1.1.1.42 | G12: Isocitrate dehydrogenases | H12: N | I12: 2508722861 | J12: MetMK1DRAFT_00012130 | K12: MKTPEDGKKITFEGGKWKVPDKPIILYVEGDGIGPEIVSSAIKVINAAVE KAYKSKREIKWMEVLAGEKGEKVKGDRFPKETQEALLEYRVVLKGPLETP IGKGWKSVNVAIRMMLDLYANIRPVKYIEGIESPLKEPQKVDMVIFRENT DDLYRGIEYPYDTQEAKKIRDFMRRELKVEVEDDTGIGIKLISRFKTERI TRMAMNYAIAHGRKKVTIMHKGNVMKYTEGAFRDWAYDLIKREYRDKVVT EEEISKQYNGQVPPGKILVNDRIADNMFQQIITRPDEYDIILAPNVNGDY ISDAAGALVGNIGLLGGANVGDSGGMFEAIHGTAPKYAGKNVANPTGIIK SGELMLRFMGWTEAADLVERSILTAISSRKVTQDIARFMGVKPLTTSEYT NELINIIHTL | L12: ATGAAGACTCCTGAAGACGGGAAGAAGATCACATTTGAGGGAGGTAAATG GAAGGTTCCTGATAAGCCAATAATCCTCTACGTTGAGGGAGACGGAATAG GGCCTGAGATAGTCTCGTCTGCCATCAAGGTCATAAACGCTGCAGTGGAG AAGGCGTACAAATCCAAAAGGGAGATAAAGTGGATGGAAGTGTTGGCAGG AGAGAAGGGGGAGAAAGTGAAAGGTGACCGATTTCCCAAGGAGACACAGG AGGCTCTCCTCGAGTACCGAGTGGTCCTCAAGGGTCCCCTAGAGACCCCA ATAGGAAAGGGATGGAAATCGGTCAATGTGGCCATAAGGATGATGTTGGA CCTCTACGCAAACATAAGGCCGGTGAAGTATATAGAGGGGATAGAGAGTC CTCTCAAGGAGCCCCAGAAGGTGGACATGGTAATATTTAGGGAAAATACG GACGACCTCTATAGGGGGATAGAGTACCCTTATGACACCCAGGAGGCCAA GAAGATAAGGGACTTTATGAGGAGGGAACTGAAGGTTGAAGTGGAAGACG ACACCGGAATAGGTATCAAGCTGATAAGTCGTTTCAAGACGGAGAGGATA ACCAGGATGGCCATGAATTACGCCATAGCCCACGGAAGGAAGAAGGTGAC CATCATGCACAAAGGGAACGTCATGAAGTATACGGAGGGTGCCTTCAGGG ATTGGGCCTACGATCTCATTAAGAGGGAGTACAGGGATAAGGTGGTGACC GAAGAGGAGATATCTAAGCAGTATAACGGTCAGGTTCCGCCTGGGAAGAT CCTGGTAAACGACAGGATAGCAGACAATATGTTCCAACAGATAATAACCA GACCGGACGAATACGACATAATCCTAGCCCCGAACGTCAATGGAGATTAC ATATCCGATGCTGCAGGTGCATTGGTAGGGAACATAGGATTGTTGGGTGG TGCAAACGTCGGTGACTCAGGTGGGATGTTCGAGGCCATACACGGCACCG CCCCCAAGTACGCAGGGAAGAACGTGGCGAACCCCACAGGTATAATAAAG AGTGGGGAGCTAATGCTCAGGTTTATGGGGTGGACTGAAGCTGCAGACCT TGTGGAGAGGTCAATACTCACTGCCATTTCCTCCAGAAAAGTCACCCAGG ATATAGCGAGGTTCATGGGAGTGAAGCCATTAACTACCAGCGAGTATACC AACGAGCTTATAAACATAATACACACCCTCTGA
A14: =IF(EXACT(H14,"N"),CONCATENATE("R",ROW()),IF(EXACT(H14,"Y"),CONCATENATE("R",ROW()),"")) -> R14 | B14: TCA_R01197_assumed | C14: CoA + 2-Oxoglutarate + 1 NAD = CO2 + Succinyl-CoA + 1 NADH | D14: 1.2.7.3 | G14: 2-oxoacid:acceptor oxidoreductase, alpha subunit | H14: N | I14: 2508723055 | J14: MetMK1DRAFT_00014070 | K14: MRISWEIGGPQGTGVDTSANIFGAAIAAAGYYIYGNREYYSNIKGRHSYF NLTISDRRARSISSTVDILASFDAETVFQHFQEVKGVIIYHKGVKGTSIE RVQSMEPEIQERLTHFLKSQGLGTTVADALKYAESKGVKLIELDYDEIVK KTADAVGVPMSVAERAKNTAAIAASYALLGLRKEYFMDAVKRTFKQETFV KINSIATELVMSTVKPMFQLRELPKTGKRIQVDGNTAVAMGKIYGGLSFQ SYYPITPASDESVYIEAHQEVMALDPETGDKRKRPIVVVQAEDELAAINM ASGAALTGVRSATATSGPGFSLMAEGIGWAGMNEVPVVITYYIRGGPSTG QPTRTSQADLLFAMNVSHGEFPRIVIASGDHVEAFQDAIWAFNLAERYQT PVIHLVEKAIANAYSIFDVSELKLDSLRAERGKLVESPDGEFKRFKFTED GISPRVALGKAYVFYTGDEHNEIGHISEDSENRTKMYEKRIRKLDTADKE IPEEERLKVFGDQDAKVAVITWGSPKGSVLDAVEQLESEGTKVQVIQLRM FNPFPKSLTKKLLSGKEAIIDIEGNYEGQAGLVLKLNTGIEPTHHILKWN GRPMAWDEVYTGLKSVLNGQRRVILNGGA | L14: ATGAGGATTAGTTGGGAAATTGGAGGCCCACAGGGGACTGGAGTGGACAC CTCTGCTAACATTTTTGGGGCGGCAATAGCAGCTGCCGGATACTACATCT ACGGAAACAGGGAATATTACTCTAACATCAAGGGGCGGCACAGCTACTTC AACCTCACCATAAGCGACAGAAGGGCAAGAAGTATCTCCAGTACTGTGGA CATCCTGGCCAGCTTCGACGCCGAGACCGTGTTTCAGCACTTTCAGGAAG TGAAGGGAGTCATTATATATCACAAGGGAGTGAAGGGAACCAGCATAGAG AGAGTACAAAGTATGGAGCCCGAGATCCAGGAGAGATTGACCCACTTCCT GAAGTCTCAGGGCCTAGGAACCACAGTAGCTGACGCGTTGAAATATGCAG AGTCAAAAGGTGTGAAACTAATCGAGCTGGACTACGACGAGATAGTGAAG AAGACCGCTGACGCCGTGGGTGTACCCATGTCGGTTGCGGAGAGGGCAAA GAACACTGCTGCCATAGCGGCCTCCTACGCTCTTCTCGGACTGAGGAAGG AATACTTCATGGACGCTGTTAAAAGGACCTTCAAACAGGAGACCTTCGTC AAGATAAACTCCATAGCCACAGAGCTGGTGATGAGTACCGTAAAGCCCAT GTTTCAGCTGAGGGAATTACCTAAGACCGGGAAGAGGATACAGGTGGATG GAAACACCGCTGTGGCCATGGGGAAGATATACGGAGGTCTAAGCTTCCAA AGCTATTATCCCATAACTCCGGCATCAGATGAGAGCGTCTACATAGAGGC TCACCAGGAAGTGATGGCCCTTGACCCCGAGACTGGGGATAAGAGGAAGA GGCCCATAGTCGTGGTGCAGGCCGAGGACGAGTTGGCTGCCATAAACATG GCAAGCGGGGCAGCCCTGACCGGCGTGAGGTCAGCCACTGCAACCTCAGG TCCTGGCTTCTCACTCATGGCCGAGGGTATAGGATGGGCCGGGATGAACG AGGTTCCAGTAGTGATCACGTACTACATTAGAGGCGGTCCGTCTACTGGG CAACCTACTAGGACTTCTCAGGCTGACCTACTCTTTGCCATGAACGTTAG TCACGGAGAGTTCCCCAGGATCGTCATCGCTTCTGGTGATCACGTGGAGG CCTTTCAGGATGCTATATGGGCCTTCAACCTGGCAGAGAGGTATCAAACA CCTGTTATCCATCTTGTGGAGAAGGCTATTGCTAACGCTTACAGTATATT TGACGTCTCGGAACTCAAGTTGGATTCCCTCAGGGCGGAAAGAGGCAAGT TGGTTGAGTCACCTGATGGTGAGTTTAAGAGATTCAAGTTCACCGAAGAC GGTATATCCCCAAGGGTGGCACTAGGAAAGGCCTACGTGTTCTACACAGG AGACGAGCACAACGAGATAGGACATATCTCTGAAGACTCCGAGAACAGGA CGAAAATGTATGAGAAGAGGATACGTAAACTAGACACCGCAGATAAGGAA ATACCCGAGGAGGAGAGATTGAAGGTGTTCGGGGATCAGGACGCCAAGGT TGCCGTGATAACTTGGGGTTCACCTAAGGGTTCAGTGTTAGACGCCGTGG AGCAACTTGAAAGTGAGGGAACCAAGGTTCAGGTGATTCAGTTGAGGATG TTCAATCCCTTCCCTAAGTCCCTGACCAAGAAGCTGTTATCTGGGAAGGA GGCCATAATAGACATTGAGGGTAACTACGAGGGTCAGGCTGGACTCGTGT TGAAACTGAACACGGGTATAGAACCAACTCATCACATCCTCAAGTGGAAC GGTAGACCCATGGCCTGGGACGAGGTCTACACCGGGTTGAAATCCGTCCT GAACGGACAGAGGAGGGTGATCTTAAATGGTGGTGCCTAA
A15: =IF(EXACT(H15,"N"),CONCATENATE("R",ROW()),IF(EXACT(H15,"Y"),CONCATENATE("R",ROW()),"")) | G15: 2-oxoacid:acceptor oxidoreductase, beta subunit, pyruvate/2-ketoisovalerate family | I15: 2508723056 | J15: MetMK1DRAFT_00014080 | K15: MVVPKVWVPEWNDWCPGCGNFGILNAEQQAITELGLTHEDVVVVSGIGCS GKTPHFFRLPISGVHTLHGRALTFATGIKLSNPELTVIVNGGDGDQLGIG VGHFVSAGRRNVDMLVILHDNGVYGLTKGQASPTLRRGEKTKSLPRPNVN DNVNPIALAISSGFTFVARSYAYDVKHLKELIKMGIKHKGLALIDVLQPC PTYNDIHTKEYFDKRVYKLDSDPSWDPVVRKPEEEGEKMSRAILKSLEWG EKIPIGLFYQNELVPPYEERIASNAPSYKERTPAKTKIEAEGKLLTLLDD ILREKEI | L15: ATGGTGGTGCCTAAGGTCTGGGTTCCCGAGTGGAACGACTGGTGTCCTGG CTGTGGTAACTTCGGGATACTGAACGCAGAACAACAGGCAATAACGGAGC TAGGCCTGACCCATGAAGATGTGGTGGTGGTGTCCGGGATAGGATGTTCG GGCAAGACTCCACATTTCTTCAGGCTACCCATCTCGGGAGTCCACACGCT CCACGGGAGGGCCCTGACTTTCGCCACAGGGATAAAGCTATCAAACCCAG AGCTGACCGTAATAGTCAACGGAGGAGACGGCGATCAGTTGGGAATAGGC GTGGGACACTTCGTGAGTGCAGGGAGGAGAAACGTAGACATGCTGGTTAT ACTCCACGACAATGGTGTCTACGGTCTCACAAAAGGTCAGGCCTCCCCCA CCCTCAGGAGGGGCGAGAAGACCAAATCGCTACCTAGGCCAAACGTCAAC GATAACGTCAACCCCATAGCCTTAGCCATATCCTCTGGTTTCACCTTCGT CGCGAGGTCTTACGCCTACGACGTTAAGCACCTGAAGGAGTTGATAAAGA TGGGAATAAAACACAAGGGCCTAGCGTTAATAGACGTATTACAACCCTGT CCGACCTACAACGACATCCACACAAAGGAGTATTTCGACAAGAGGGTCTA CAAATTAGACTCCGACCCCTCATGGGATCCTGTCGTGAGGAAGCCAGAGG AGGAAGGAGAGAAGATGTCTAGGGCCATCCTGAAATCCCTGGAGTGGGGG GAGAAGATACCCATAGGCCTGTTCTATCAGAACGAGTTAGTTCCACCCTA TGAGGAGAGGATAGCGTCCAACGCTCCCAGCTATAAGGAGAGGACACCAG CGAAGACCAAGATAGAAGCTGAGGGCAAACTCCTGACCCTGTTGGACGAT ATCCTAAGGGAGAAGGAAATCTAA
A17: =IF(EXACT(H17,"N"),CONCATENATE("R",ROW()),IF(EXACT(H17,"Y"),CONCATENATE("R",ROW()),"")) -> R17 | B17: TCA_R00405 | C17: 1 ADP + 1 Phosphate + 1 Succinyl-CoA = 1 ATP + 1 CoA + 1 Succinate | D17: 6.2.1.5 | G17: succinyl-CoA synthetase, alpha subunit | H17: Y | I17: 2508724340 | J17: MetMK1DRAFT_00026920 | K17: VNSNTKVLVQGITGKEGSFHTSLMLKYGTKIVAGVSPGKGGSKLNGVPVY DTVAEAAKEHEIDASIIFVPAKYAPEAVYEAVDSGVKLVVIITEHIPVVE VAKFVRYAKVRGTRIVGPNCPGLIAPGESLIGILPSKYFNRGMVGIVSRS GTLTYEVASILRQYGQSTVIGIGGDPIIGTPMQEAVLDFQDDPETEAIVV IGEIGGTMEERVAQLKKAGKITKPVVAYIAGMTAPREKRMGHAGAVVYMG MGTFESKVNAFREAGIPLAKTPYEVKDLIEKVLRK | L17: GTGAATTCCAATACTAAGGTACTGGTCCAGGGAATAACCGGGAAGGAAGG TAGCTTTCATACCTCTCTCATGTTAAAGTATGGAACAAAGATAGTTGCTG GAGTGAGCCCTGGAAAAGGAGGTTCTAAGCTCAACGGAGTACCAGTCTAT GACACTGTAGCTGAGGCCGCAAAGGAGCACGAAATAGATGCTTCCATAAT TTTTGTACCAGCTAAATATGCCCCAGAGGCTGTTTATGAGGCCGTGGACT CAGGTGTGAAGCTCGTGGTTATAATTACGGAACATATACCCGTAGTGGAG GTAGCGAAGTTTGTGAGGTATGCTAAAGTAAGAGGTACAAGGATAGTGGG CCCTAATTGCCCAGGTCTTATAGCACCAGGCGAATCCCTCATAGGCATAC TTCCCTCTAAATATTTCAACAGGGGAATGGTAGGCATAGTGTCCAGATCT GGAACTCTGACCTATGAGGTGGCAAGTATCCTGAGGCAATACGGTCAGTC TACTGTTATAGGTATAGGAGGAGATCCTATAATAGGTACCCCAATGCAAG AGGCCGTTCTCGATTTCCAAGACGACCCTGAGACTGAGGCCATAGTTGTT ATAGGTGAAATAGGAGGTACTATGGAAGAACGCGTAGCTCAGCTCAAAAA GGCTGGTAAAATAACGAAACCGGTGGTAGCTTATATAGCGGGGATGACGG CACCTAGGGAAAAACGAATGGGGCACGCAGGAGCCGTAGTTTATATGGGT ATGGGGACTTTCGAAAGTAAAGTCAATGCCTTCAGGGAAGCAGGGATTCC ACTGGCAAAGACTCCGTACGAAGTCAAAGACTTAATAGAGAAGGTACTAA GAAAATAA
A18: =IF(EXACT(H18,"N"),CONCATENATE("R",ROW()),IF(EXACT(H18,"Y"),CONCATENATE("R",ROW()),"")) | G18: Succinyl-CoA synthetase, beta subunit | I18: 2508724341 | J18: MetMK1DRAFT_00026930 | K18: MKLYEYEGKLLFKKVGIRVPKGVVTKEPIKWDGKAVVKAQLLEGARGKRG LVKVTDDVYSTILEMRAQGIGTFLVEEFIPHTREIYLSTMMDRESGNPMI VASPFGGINIEESKEVRTFKIPLDRRVMRFDVEAVEKYLGVRGLETVLRG LLDLVLTYDAELAEINPLAVTEEGLLALDSKVILDDNALYRHEDIISELG RKEESDSYVELDGDIGIIGNGAGLTMATMDLVKIMGGSPANFLDVGGGAD AEKIAKSILRVGNNSKVKKIVVNIFGGITRCDDVARGIIEAYKQIGKPIF VRLTGTNEEEGKRILQTYGIKTYEDAISAIGDALRM | L18: ATGAAGTTGTACGAGTATGAGGGAAAGCTTCTCTTTAAAAAAGTGGGAAT ACGGGTACCTAAGGGCGTTGTCACTAAGGAACCCATCAAATGGGATGGAA AGGCTGTAGTTAAAGCTCAACTCCTAGAGGGTGCGAGAGGAAAGAGAGGC CTAGTAAAGGTAACCGATGACGTGTATTCAACAATTCTCGAAATGAGAGC TCAGGGCATTGGAACCTTTCTCGTAGAGGAGTTTATACCCCATACACGGG AGATATATCTCTCCACCATGATGGACAGGGAATCTGGGAACCCCATGATA GTAGCCTCGCCTTTTGGCGGGATAAATATAGAGGAGAGTAAGGAGGTCAG GACGTTCAAGATCCCCTTGGATAGAAGGGTTATGAGATTCGATGTCGAAG CTGTAGAGAAGTATCTCGGTGTCAGGGGCTTAGAGACTGTACTCCGAGGC TTGCTAGACCTCGTTCTAACATATGATGCAGAGTTAGCTGAGATAAATCC TCTCGCCGTGACTGAGGAAGGTCTACTTGCCTTGGACTCTAAGGTTATAT TGGATGACAATGCGCTCTATAGGCACGAAGACATAATCAGTGAACTGGGA AGGAAAGAGGAGAGTGACTCATATGTGGAACTGGATGGAGATATAGGGAT AATAGGCAACGGTGCTGGTCTAACCATGGCAACTATGGATCTGGTTAAGA TAATGGGAGGTAGTCCAGCGAACTTCTTAGATGTGGGGGGAGGAGCAGAT GCAGAAAAGATAGCCAAATCCATACTGCGTGTAGGGAATAACTCAAAGGT GAAGAAGATCGTCGTTAATATCTTCGGTGGAATAACGAGATGTGACGACG TCGCTAGAGGAATAATAGAGGCCTACAAACAGATAGGTAAACCCATTTTC GTTAGGCTCACTGGAACTAACGAAGAGGAAGGAAAGAGAATTCTCCAGAC GTACGGAATAAAGACATACGAAGACGCCATCAGTGCCATAGGTGATGCAC TACGTATGTGA
A20: =IF(EXACT(H20,"N"),CONCATENATE("R",ROW()),IF(EXACT(H20,"Y"),CONCATENATE("R",ROW()),"")) -> R20 | B20: TCA_complex_II-EC-1.3.99.1_assumed | C20: 1 ubiquinone + 1 Succinate = 1 ubiquinol + 1 Fumarate | D20: 1.3.99.1 | G20: succinate dehydrogenase and fumarate reductase iron-sulfur protein | H20: Y | I20: 2508721745 | J20: MetMK1DRAFT_00000970 | K20: VGKLVVKVLEGKEKREKQYEVMREELDPYTTVLELLLKIREEQDPSLVLR YSCRMALCGSCGMIINGRPRLACLTKMKDLDEPIRIEPLKNVGTIRGLVP DLSSFFSKYRKVRPFLVAKDEEEQESPKSPYRQTDEEVKRYLQFNYCIQC GLCYSACPVVSSNPNFLGPAAINVAYRYTADSRDSDKLRVLLLDTPNGVW SCRVAGSCSVVCPKGVDPSLSIQLAKSLILRRKI | L20: GTGGGGAAGTTAGTCGTCAAGGTATTGGAAGGAAAGGAGAAGAGAGAGAA GCAGTACGAAGTGATGAGGGAGGAGCTGGACCCATACACTACGGTCCTCG AGCTACTCCTTAAGATAAGGGAAGAACAGGATCCCTCTCTAGTGCTTAGA TATTCTTGTAGGATGGCGCTCTGCGGATCCTGTGGGATGATAATTAACGG AAGGCCAAGGTTAGCCTGTCTCACCAAGATGAAGGACTTAGACGAACCCA TAAGGATCGAGCCTTTGAAGAACGTGGGAACTATCAGGGGACTCGTCCCA GACCTCTCATCGTTCTTCTCCAAGTATAGAAAGGTCAGGCCTTTCCTCGT GGCTAAAGATGAGGAGGAACAAGAGAGTCCCAAATCTCCCTACAGACAAA CTGACGAGGAGGTCAAGAGATACCTTCAGTTCAATTACTGCATCCAGTGT GGCCTGTGCTACTCTGCCTGTCCTGTGGTGTCCTCAAACCCCAACTTCCT GGGCCCTGCTGCAATAAACGTAGCTTATAGGTACACTGCTGACTCGAGGG ACTCGGATAAGCTTCGAGTACTACTTCTGGACACTCCCAACGGAGTATGG TCATGTAGGGTTGCAGGCTCCTGTTCAGTGGTCTGTCCCAAGGGAGTTGA TCCATCTCTCTCCATTCAACTGGCTAAGTCCCTCATCCTTAGGAGAAAGA TCTAA
A21: =IF(EXACT(H21,"N"),CONCATENATE("R",ROW()),IF(EXACT(H21,"Y"),CONCATENATE("R",ROW()),"")) | G21: succinate dehydrogenase, cytochrome b556 subunit | I21: 2508721747 | J21: MetMK1DRAFT_00000990 | K21: MGTSEWFKVRGWNIERLLFALHRITGWGLTAFIVLHVLFVHQVTYGERAW NSLLSLDSTFLGRVVLLLVVVALIFHGLNGVRIMLIEFGYLLTEPKEQEY PYQVWLKNRRHRGYVLFMGILGIFLTIVAGVILL | L21: ATGGGAACATCAGAATGGTTTAAGGTGAGAGGGTGGAACATAGAGAGGCT ACTCTTCGCCCTCCATAGGATAACGGGCTGGGGGCTAACTGCCTTCATCG TCCTTCACGTTCTCTTCGTACATCAAGTAACCTACGGAGAAAGAGCTTGG AATTCTCTCCTATCGTTGGACTCCACATTTCTAGGTAGGGTGGTCCTTCT CCTCGTCGTGGTTGCCCTGATCTTCCATGGACTCAATGGGGTCAGAATAA TGTTGATCGAGTTTGGTTACCTCCTCACCGAACCTAAGGAACAGGAGTAC CCATATCAAGTTTGGCTCAAGAACAGAAGACATAGGGGTTACGTGCTCTT CATGGGGATCTTGGGGATATTCCTTACCATAGTAGCGGGGGTGATACTCC TATGA
A22: =IF(EXACT(H22,"N"),CONCATENATE("R",ROW()),IF(EXACT(H22,"Y"),CONCATENATE("R",ROW()),"")) | G22: succinate dehydrogenase or fumarate reductase, flavoprotein subunitGram-negative/mitochondrial subgroup | I22: 2508721748 | J22: MetMK1DRAFT_00001000 | K22: MEPEVIKTDLVVLGSGLAGLRAAIEFDKLARGKYEVSVLSKVQVMRSHSV APEGGAAAVMQRGDSFEQHAYDTVKGSDFLADQDAVESFVRDAPSEILQL EHWGMPWARDKEGNLLARAFGAHEVPRTFFAYDRTGFFLMKTLYDRALKG NNVKFYHEYFATAIISTEGKFRGLLAIDRATGSFYLFKAKALIIATGGIG RIYKYVTYSHTVTGDGLAMAYRAGIPLKDMEFIQWLPTTLVPYGIPATEA LRGHGAILLNNEGERFMRKYAPNKMELAARDIVTRAILTEIKEGKGLEGP RGMKAVLLDTRPVGEERLKTIYKTFRENSIQFLGKDPLDEPIPVLPAAHY SMGGIHVLGTDLSTPLKGVFAAGEVANVSLHGANRLGSNSLPACLVMGKW AGRSAFTYLESETEPTTDRLNEVVEKEVERSFSLIRREKGSHTPYEIRNS LQNIMEVGVGVFRSEEGLTSALKSIRGLKTSLSDLYVRDRAFEYNLEWIH AHEVMNLIEMAEVIATSALERRESRGAHFRVDFPARDDQNFLKHTLAKFS LEGPVIDYHPVTITKWKPTARVY | L22: ATGGAGCCGGAGGTAATAAAGACAGACTTGGTGGTACTTGGGAGCGGGCT GGCAGGACTTAGGGCAGCCATAGAGTTCGACAAGTTGGCCCGTGGTAAGT ACGAAGTTTCAGTACTCTCCAAGGTACAGGTGATGAGATCTCACTCTGTG GCCCCAGAGGGAGGAGCGGCAGCCGTGATGCAGAGAGGCGACTCCTTTGA GCAACACGCTTACGACACTGTGAAGGGATCTGATTTCCTAGCTGACCAAG ACGCTGTAGAGTCGTTCGTCCGTGACGCACCGAGCGAAATACTACAACTT GAGCACTGGGGAATGCCGTGGGCCAGAGACAAGGAGGGAAACCTACTGGC TAGGGCATTTGGAGCTCACGAAGTTCCTAGGACGTTCTTCGCTTACGATA GGACTGGGTTCTTCTTGATGAAGACTCTCTACGATAGGGCACTGAAGGGC AATAACGTAAAGTTCTACCACGAGTACTTCGCCACGGCAATAATTTCAAC GGAAGGAAAGTTTAGGGGTCTTCTGGCCATAGATAGGGCTACGGGTTCCT TCTACCTGTTTAAGGCGAAGGCTCTGATAATCGCCACTGGGGGAATAGGG AGGATATACAAGTACGTAACTTACTCGCACACGGTCACTGGAGACGGTCT CGCCATGGCATACAGGGCTGGGATACCCCTCAAGGATATGGAATTCATTC AGTGGTTGCCCACCACCCTGGTGCCCTATGGAATACCCGCTACAGAGGCA TTGAGAGGTCACGGCGCGATCTTACTAAACAATGAAGGGGAGAGGTTCAT GAGGAAGTACGCCCCGAATAAGATGGAATTGGCAGCTAGGGACATCGTAA CTAGGGCAATTTTGACTGAGATAAAGGAAGGTAAGGGACTAGAAGGACCT AGAGGAATGAAGGCGGTACTTCTTGATACTAGACCAGTAGGGGAGGAGAG GTTAAAGACAATTTACAAGACCTTCAGGGAGAATTCGATTCAGTTCTTGG GAAAGGATCCTCTCGACGAACCGATTCCTGTGTTGCCAGCAGCCCACTAC TCCATGGGTGGGATCCATGTTTTAGGAACAGATCTCTCTACCCCACTCAA GGGGGTCTTCGCGGCAGGAGAGGTCGCTAACGTGAGTCTGCATGGAGCCA ACAGGTTAGGCTCCAATTCCCTTCCCGCATGTTTAGTCATGGGTAAGTGG GCTGGAAGAAGCGCCTTCACCTACCTGGAGTCCGAAACGGAGCCCACTAC GGATAGACTGAACGAGGTGGTCGAGAAAGAGGTAGAGAGGTCCTTCTCTC TCATCAGGAGGGAGAAGGGATCCCACACCCCCTATGAGATAAGGAACTCA TTGCAGAACATTATGGAAGTTGGGGTCGGAGTGTTCCGGAGTGAAGAAGG ACTTACCTCAGCCTTAAAGTCCATTAGGGGACTCAAGACGTCGCTAAGTG ACCTTTACGTTAGGGATAGGGCGTTCGAGTACAACCTAGAGTGGATCCAT GCCCACGAGGTCATGAACTTAATTGAGATGGCGGAGGTCATAGCCACGTC GGCTTTGGAGAGGAGGGAGTCGAGGGGCGCACACTTTCGTGTAGACTTCC CGGCTAGGGACGACCAGAACTTCCTCAAACACACCCTAGCTAAGTTCTCA CTGGAAGGACCTGTAATAGATTACCACCCAGTGACCATAACCAAGTGGAA GCCCACGGCTAGGGTGTACTGA
A23: =IF(EXACT(H23,"N"),CONCATENATE("R",ROW()),IF(EXACT(H23,"Y"),CONCATENATE("R",ROW()),"")) | G23: Heterodisulfide reductase, subunit B | I23: 2508722838 | J23: MetMK1DRAFT_00011900 | K23: MKVAYYPGCATHGLSKDVDIATKKVAELLGLELVEVEDWNCCGGGFLDEY DERAHVALNLRNLSKVEKMGLKKMATPCSVCLNSHRLATAKFSEDKEIRK EVTQRLQSASLQYNGTVDAEHIVWVLVRDVGVERIKSMVKRPLTNLKVGA YYGCQMLRPEQIMGFEPAYNPHSLEDLISATGATPVRFPMSTSCCGFPLM GSNPKGGLKLAYNVLSSARSAGADLVVHPCSLCHLQMDVTQFKVMEEFKT GWTMPTIYVTQLLAIAFGISPKELGLSRIALKALEERGIT | L23: ATGAAAGTAGCTTACTATCCAGGATGTGCAACTCACGGCCTCTCCAAGGA CGTTGATATAGCGACCAAGAAGGTGGCAGAACTGTTGGGACTGGAGTTGG TGGAGGTAGAAGATTGGAACTGCTGCGGCGGTGGGTTTCTGGACGAGTAT GATGAGAGGGCCCACGTAGCACTCAACCTGAGGAACCTCTCTAAGGTCGA GAAGATGGGACTGAAGAAGATGGCAACCCCTTGTAGTGTCTGTCTTAACA GTCACAGGTTAGCAACTGCAAAATTCAGCGAAGATAAGGAGATCAGGAAG GAGGTAACCCAGAGACTTCAATCAGCTTCACTTCAGTATAACGGTACAGT GGACGCTGAGCACATAGTCTGGGTATTGGTGAGAGACGTAGGAGTCGAGA GGATAAAGTCCATGGTCAAGAGACCTCTGACCAACCTCAAGGTAGGAGCG TACTATGGTTGTCAAATGCTGAGGCCAGAGCAGATAATGGGCTTCGAGCC AGCTTATAATCCTCACAGCCTCGAGGACCTGATATCAGCCACTGGAGCAA CTCCGGTGAGGTTTCCCATGTCCACCTCCTGTTGCGGTTTTCCTCTAATG GGTAGTAACCCTAAGGGAGGGCTGAAGCTGGCATACAACGTCTTATCCTC AGCTAGATCGGCTGGAGCGGACTTGGTGGTTCATCCCTGCAGTCTTTGCC ATCTTCAGATGGACGTAACGCAGTTTAAGGTCATGGAGGAGTTCAAGACT GGATGGACTATGCCTACCATCTATGTCACTCAACTGTTGGCCATAGCCTT CGGGATAAGTCCTAAGGAACTTGGGTTGAGCAGGATAGCATTGAAGGCCC TGGAGGAGAGGGGGATAACTTGA
A24: =IF(EXACT(H24,"N"),CONCATENATE("R",ROW()),IF(EXACT(H24,"Y"),CONCATENATE("R",ROW()),"")) | G24: succinate dehydrogenase and fumarate reductase iron-sulfur protein | I24: 2508722839 | J24: MetMK1DRAFT_00011910 | K24: MEAQTLATNLEQREITVRVKRFNEDKGEFWSEYKLSVDRFTQITEVLRRI KTEQDPTLAYRASCHMAVCGSCSMKINGEPRLACKTLALDVVKKFNTDVI TLEPMDYFKPLKDLIVDMGDFYTRMFKVKPRLYPAEEVVKGVAEQRLKPE DQRELWKFAQCIWCGLCVSACPAVKEDERFLGPAAHAKGYRFLADPRDTL YEERLKILLDSSWRCTYCYQCFHVCPRDVEPVTTIKKTRAHTKFSKEKTD VMSTGERHVKAIYESIKETGILQEAKVYISTYGLATAITDMLHTMRNGKM KYALIREKKVNEIEQIRKLLGD | L24: ATGGAGGCTCAAACCTTGGCTACGAACCTGGAGCAGAGGGAAATAACGGT AAGGGTCAAAAGGTTTAACGAGGACAAGGGAGAGTTCTGGAGCGAGTATA AGCTCTCCGTGGATAGGTTCACTCAGATCACCGAAGTACTTAGACGGATA AAGACGGAGCAGGATCCAACGTTAGCCTACAGGGCATCGTGTCATATGGC TGTGTGTGGTAGTTGTTCCATGAAGATTAACGGAGAGCCCAGGCTTGCGT GTAAGACCTTAGCCCTAGACGTTGTAAAGAAATTCAACACCGACGTCATA ACCCTAGAGCCCATGGACTACTTCAAACCCTTGAAGGACCTCATTGTGGA CATGGGGGATTTCTACACACGCATGTTCAAGGTCAAGCCCAGGCTATATC CAGCAGAGGAGGTCGTCAAAGGAGTTGCAGAGCAGAGGCTGAAGCCAGAG GATCAAAGGGAGTTATGGAAGTTCGCCCAGTGTATATGGTGTGGTCTATG CGTTTCGGCCTGTCCGGCTGTGAAGGAGGATGAGAGATTCTTAGGACCAG CAGCTCACGCTAAAGGTTACAGGTTCTTGGCGGACCCAAGGGACACATTG TATGAGGAGAGACTAAAGATCCTTCTGGACAGCTCCTGGAGATGTACTTA CTGCTATCAATGCTTCCACGTCTGCCCAAGGGACGTAGAGCCCGTGACCA CAATAAAGAAGACCAGGGCTCACACGAAGTTCTCCAAGGAGAAGACAGAT GTGATGAGTACAGGAGAGAGACACGTTAAAGCAATATATGAGAGCATCAA GGAGACCGGGATACTACAGGAGGCCAAGGTATACATATCCACGTATGGTC TTGCCACAGCCATTACAGACATGCTTCACACCATGAGAAATGGGAAGATG AAGTACGCGCTAATAAGGGAGAAGAAGGTAAATGAGATAGAACAGATAAG GAAGCTCCTGGGTGATTGA
A25: =IF(EXACT(H25,"N"),CONCATENATE("R",ROW()),IF(EXACT(H25,"Y"),CONCATENATE("R",ROW()),"")) | G25: succinate dehydrogenase or fumarate reductase, flavoprotein subunitGram-negative/mitochondrial subgroup | I25: 2508722840 | J25: MetMK1DRAFT_00011920 | K25: MDKLHYDAVVLGGGLAGLMAAHEIATAGFKVAVVSKVFPTRSHSSSAEGG IAAYVPGNSDPNDDPDYMTYDTVKGGDYLVDQDAAELLSVKSGEIVDLME RWGTLFNRQPDGRVALRYFGGQTYPRTRFVGDKTGMALLHTLFERVSGLD VDFYNEWFAVDLVTDERRVTGVLALDMKNMDPAFFKARAVVAATGGMGML YAHTTNAYINTGDGYGMALRAGAAIKDPEFVQFHPTALYPSDILISEAAR GEGGILRNNKGERFMAKYAPKKLDLAPRDIASRSIMIEIREGRGFPGGYV GLDLTHLGESYIKERLALAYEAAMNFAGVDATKEPIPVRPAQHYYMGGID VDTNGINTDLQGLFAAGEAACVSVHGANRLGSNSLLETLVFGRETGKTVV EYLRKHEEVSSPSLDKEAERLLSEAYSFVKSESGVHFGEVLNKLRGVMWD KVGIFRDEDMLKSALTEIEKLRGQVREMYVTDKGKTYNTEFYNALELRNM LDLAVVIAKSALMRTESRGAHFRTDFPERDDKNWLKHTLAYLKGNQVEIG FKPVRMTKWKPEARVY | L25: ATGGATAAACTCCATTATGACGCAGTAGTGCTCGGGGGAGGACTCGCGGG ACTCATGGCTGCGCACGAGATCGCCACTGCAGGTTTTAAGGTCGCGGTGG TCTCTAAGGTATTCCCAACGAGGTCGCACTCTAGCTCCGCCGAGGGAGGG ATAGCTGCTTACGTGCCTGGCAACTCCGATCCCAACGATGACCCAGATTA CATGACCTACGACACAGTTAAGGGCGGAGATTATCTGGTAGATCAGGACG CGGCGGAGCTGCTTTCAGTCAAATCTGGGGAGATAGTGGATTTGATGGAG AGGTGGGGGACATTATTTAATAGGCAACCAGACGGCAGGGTTGCCCTGAG GTACTTCGGAGGCCAAACCTACCCCAGAACGAGGTTTGTTGGGGATAAGA CTGGGATGGCACTCCTTCACACGCTCTTCGAAAGGGTCTCAGGCTTAGAT GTGGACTTCTACAATGAGTGGTTCGCAGTGGATCTGGTGACAGATGAGAG AAGGGTAACTGGAGTGCTGGCCTTAGACATGAAAAACATGGATCCAGCCT TCTTCAAGGCTAGGGCGGTAGTAGCAGCTACCGGTGGGATGGGAATGCTT TACGCTCATACCACTAACGCCTACATAAACACGGGTGACGGATATGGTAT GGCCTTGAGGGCAGGTGCCGCAATAAAGGATCCTGAGTTCGTTCAGTTCC ACCCTACGGCCCTCTACCCGTCGGACATCCTAATAAGTGAGGCTGCCAGG GGTGAGGGAGGAATATTGAGGAACAACAAGGGAGAGAGATTTATGGCAAA ATACGCTCCCAAGAAGTTGGATCTTGCACCCAGAGACATTGCCTCCAGAT CCATCATGATTGAGATAAGGGAAGGGAGAGGATTTCCCGGTGGTTATGTC GGATTGGATCTGACACATCTGGGGGAGTCCTACATAAAGGAGAGGCTGGC CCTAGCCTACGAGGCAGCAATGAACTTTGCTGGAGTGGATGCAACCAAGG AGCCTATACCGGTGAGGCCAGCACAACACTATTACATGGGGGGTATAGAC GTGGATACCAATGGGATCAATACCGACCTTCAGGGCCTCTTTGCAGCAGG AGAGGCAGCTTGTGTTTCCGTACACGGGGCTAACAGACTGGGCTCAAACT CCCTGCTAGAGACTCTGGTGTTCGGCAGGGAGACCGGTAAAACCGTAGTG GAGTACCTCAGAAAACATGAAGAGGTCTCCTCTCCCTCCTTGGACAAGGA GGCAGAGAGGTTACTCAGTGAGGCTTATTCCTTTGTCAAGAGCGAGAGTG GAGTTCACTTCGGGGAAGTCCTGAACAAACTGAGAGGAGTCATGTGGGAC AAGGTGGGAATATTCAGGGATGAGGATATGTTGAAGAGTGCATTGACAGA AATAGAGAAACTAAGGGGACAAGTTAGGGAGATGTACGTGACCGATAAGG GCAAGACATACAACACTGAGTTCTATAACGCCCTGGAACTCAGGAACATG CTGGATTTAGCCGTAGTCATAGCTAAGTCAGCCCTCATGAGGACGGAATC TAGGGGGGCTCACTTCAGAACAGATTTTCCTGAGAGAGACGACAAGAACT GGTTGAAGCATACCTTAGCTTACCTGAAAGGTAATCAAGTGGAAATAGGT TTCAAACCGGTAAGGATGACCAAATGGAAGCCGGAGGCAAGGGTGTATTA A
A27: =IF(EXACT(H27,"N"),CONCATENATE("R",ROW()),IF(EXACT(H27,"Y"),CONCATENATE("R",ROW()),"")) -> R27 | B27: TCA_R01082 | C27: 1 Fumarate + 1 H2O = 1 L-Malate | D27: 4.2.1.2 | G27: hydro-lyases, Fe-S type, tartrate/fumarate subfamily, beta region | H27: Y | I27: 2508721749 | J27: MetMK1DRAFT_00001010 | K27: LKELKTPLDEGSIEGLKLGDTVYLTGYIYIMRDATLRRIFEEKVKPPEDL TGQVILFGAPSFIKEGERYSILSVGVTTSQRMEKYIPSLLSLGVRGLIGK GELSEIVTPEFRNRKALYFLFVGGAAALVTSAIERVERVWWEDLYGEALF KVKVNALGPAFVAIDTLGNNLLLNTKRQVSDNLKNLLQEI | L27: TTGAAAGAGTTGAAAACTCCACTGGATGAGGGATCCATTGAGGGACTCAA GCTAGGCGATACCGTTTACCTCACAGGATACATATACATAATGAGGGACG CGACACTCCGTAGGATCTTCGAGGAGAAAGTCAAACCACCTGAGGATCTC ACCGGACAAGTGATCTTGTTCGGGGCTCCAAGTTTCATTAAGGAAGGTGA AAGGTACAGTATACTCTCAGTGGGGGTCACTACTTCACAGAGGATGGAGA AATATATCCCATCCCTTCTCTCCCTCGGTGTGAGGGGATTGATCGGGAAG GGAGAGCTGAGCGAAATCGTGACACCGGAGTTCAGGAATCGTAAAGCGCT CTACTTCCTGTTTGTGGGGGGCGCTGCGGCCCTGGTCACCTCAGCCATAG AGAGGGTGGAGAGAGTATGGTGGGAGGATTTGTACGGGGAGGCTCTCTTT AAAGTCAAAGTCAACGCTCTGGGACCTGCCTTTGTGGCAATAGACACGTT AGGGAACAATTTACTCCTGAACACGAAGAGGCAAGTCTCTGACAACCTCA AGAATCTACTCCAGGAGATTTGA
A28: =IF(EXACT(H28,"N"),CONCATENATE("R",ROW()),IF(EXACT(H28,"Y"),CONCATENATE("R",ROW()),"")) | G28: hydro-lyases, Fe-S type, tartrate/fumarate subfamily, alpha region | I28: 2508721750 | J28: MetMK1DRAFT_00001020 | K28: MGFTSEFYEKVREVSEALYYRALTVIPKDVVEKIRLSYDTEDSPLGKEVM DTIIKNIEVARKRSLLVCQDTGTPVYLVELGDVEISLPKLIRAIKEGVRD ATVKNHLRPNMVHPITRVNTGDNTGRSSPIVHVELNEGLKGVMKIVALPK GSGSENMSALAMLRPADGLKGVKRFVLETVANAGGKGCPPYIVGVGIGGD FEQVTYLAKKGALRPLGSRSEDEIGRKMEDELFLLINKLGVGPMGVGGKI TALGVNVEIAETHISSLPVAVNIQCWRGERAEAIIGEDLSIKYLGG | L28: ATGGGGTTTACTTCTGAATTTTACGAGAAAGTGAGAGAGGTCTCAGAGGC CCTCTACTATAGGGCCCTCACCGTGATCCCTAAGGACGTTGTTGAAAAGA TAAGGCTATCCTACGATACCGAGGATAGCCCGCTAGGTAAGGAGGTGATG GATACCATAATAAAGAATATCGAAGTGGCGAGAAAGCGCAGCCTCCTAGT GTGCCAAGATACTGGGACGCCTGTTTACCTGGTTGAGCTGGGGGACGTAG AGATCTCACTGCCTAAACTGATAAGGGCCATAAAGGAGGGGGTTAGGGAT GCCACAGTTAAGAACCACTTGAGACCCAACATGGTTCATCCCATTACTAG AGTGAACACTGGAGATAACACTGGGAGGAGTTCACCCATAGTACACGTCG AGCTGAATGAGGGACTGAAAGGGGTCATGAAAATCGTGGCGTTACCCAAG GGGTCAGGATCTGAGAACATGAGTGCGTTGGCCATGCTGAGACCGGCGGA CGGATTGAAGGGTGTCAAGAGGTTCGTATTAGAGACTGTGGCCAACGCTG GAGGAAAGGGTTGTCCTCCCTACATAGTAGGGGTGGGAATAGGGGGAGAC TTCGAACAGGTAACTTACCTGGCCAAGAAGGGAGCGTTGAGACCTCTCGG TTCCAGAAGCGAGGACGAAATTGGAAGGAAAATGGAAGATGAACTATTCC TTCTAATAAACAAGTTGGGTGTAGGCCCAATGGGTGTAGGTGGAAAGATT ACAGCCCTGGGAGTAAACGTAGAGATAGCAGAAACACACATAAGTAGCCT CCCTGTGGCCGTGAACATACAGTGCTGGAGAGGAGAGAGAGCTGAGGCCA TAATAGGTGAGGACCTCAGCATAAAATATCTGGGGGGATAG
A29: =IF(EXACT(H29,"N"),CONCATENATE("R",ROW()),IF(EXACT(H29,"Y"),CONCATENATE("R",ROW()),"")) | G29: Fumarase | I29: 2508724198 | J29: MetMK1DRAFT_00025500 | K29: MKYTETAPKLFMNTGTKFHRSIIWAMGVVKLAAARANASLGLLDSRVAEG IEKAAREIMEGNLDNLITLDVFQTGSGTGLNMNVNEVIAERASQLTGLRV HPNDHVNMGQSSNDTVPTAIRIAATKQVVEKLRPALTEIVTSLRSKGDEY ASVVKAGRTHLRDAMPVTFGQELHAYADAFDHDISLLSSTLEYVKELPLG GTATGTGANSHPKFRELAIQMINEVTGLSFKPGHTFRGMRFLTDLLTLSG VMRTVAVELFRVAQDFRLMFSGPFTAIGEIDLPTQEEIAGSSIMPGKTNP VTVEASMLISAQVIGLDHANQFASSLGEFELAMGVPLIGQNVVTQVDLLS EGLNKFNQLVIKGVVPNVDRMRRYAESSPALVTAISPLVGYDKASQIGKM LIKGMSIREALKELGIDNSKIDEILDLRKLVKPGLQK | L29: ATGAAATACACCGAGACCGCTCCGAAGCTGTTTATGAACACTGGAACGAA GTTTCATAGGTCCATAATCTGGGCTATGGGAGTAGTGAAGCTAGCCGCTG CAAGAGCTAACGCATCCCTCGGGCTTTTAGATAGCAGAGTGGCCGAGGGG ATAGAGAAGGCAGCGAGGGAGATCATGGAAGGGAACCTGGACAATTTAAT CACGTTAGACGTCTTCCAGACCGGATCAGGAACGGGACTGAATATGAACG TGAATGAGGTAATAGCCGAGAGGGCATCTCAACTCACGGGACTCAGGGTA CATCCAAACGATCACGTGAACATGGGTCAGTCGTCCAATGACACCGTACC CACAGCCATAAGGATAGCTGCAACCAAACAGGTAGTAGAAAAACTCCGTC CTGCTTTGACAGAGATAGTCACGTCGCTGAGATCCAAGGGAGACGAGTAT GCCTCTGTTGTTAAGGCTGGAAGGACTCACCTTAGAGATGCCATGCCGGT AACCTTCGGTCAGGAACTCCACGCCTATGCAGACGCTTTCGATCACGATA TAAGTCTCCTATCGTCCACTCTCGAATACGTAAAGGAACTCCCCCTTGGA GGTACAGCCACAGGAACCGGGGCCAACTCCCACCCTAAGTTCAGGGAATT AGCAATCCAGATGATCAATGAGGTAACTGGACTCTCCTTCAAACCTGGAC ATACCTTCAGAGGTATGAGATTCCTTACCGACCTCCTGACGCTGAGTGGG GTCATGAGGACGGTAGCCGTGGAACTGTTCAGGGTGGCTCAGGACTTCAG GCTCATGTTCTCAGGACCTTTCACAGCTATAGGTGAGATAGACCTACCCA CACAGGAGGAAATAGCTGGGAGTAGTATCATGCCGGGCAAAACTAATCCA GTCACTGTAGAGGCCTCCATGCTGATCTCGGCTCAGGTTATTGGACTAGA CCACGCAAACCAATTCGCATCATCCCTGGGAGAGTTCGAACTGGCCATGG GCGTTCCCCTGATAGGACAAAACGTAGTGACCCAAGTGGATCTCCTAAGC GAGGGATTGAACAAGTTCAATCAACTTGTAATCAAGGGAGTTGTACCCAA CGTTGATAGGATGCGGAGATACGCCGAGAGTAGCCCGGCCCTCGTAACTG CCATCTCCCCCTTGGTGGGCTACGATAAGGCTTCCCAGATAGGAAAGATG TTGATCAAGGGGATGTCCATAAGAGAGGCTCTCAAGGAGCTAGGCATTGA CAATTCCAAGATAGATGAGATCCTCGACCTGAGGAAGTTGGTAAAACCTG GCCTACAGAAATGA
A31: =IF(EXACT(H31,"N"),CONCATENATE("R",ROW()),IF(EXACT(H31,"Y"),CONCATENATE("R",ROW()),"")) -> R31 | B31: TCA_R00342 | C31: 1 L-Malate + 1 NAD = 1 NADH + 1 Oxaloacetate + 1 Proton | D31: 1.1.1.37 | G31: Malate/lactate dehydrogenases | H31: Y | I31: 2508723163 | J31: MetMK1DRAFT_00015150 | K31: MSKVGFIGVGKIGQTIVYSSIVSGAVDEAVIYDIIPELPEKFEHELRHAF ATKGIKTEILGTNNLDDVAGMDMVVISAGKPRKPGMSRRDLFVDNAKIMM DLAGKLAPKNPGAIYLMVANPVDMMASVFMKYSKEYTISTGDQVETMRMR SYIAKKLKVPVTQVDGFVGGEHGEDAVVLWSTVKVKGKPIDNFNINKQEV EDYVKKIPGEIIRVMGGTTWGPGTIIADIIKAVSLNENRVMSIATPRQYE GQIIHVSSPIVVSSSIGPSLETLLDEKDRWHLNSAMKDFYEAYMENMKQL EQSLKPT | L31: ATGTCCAAGGTAGGATTCATAGGAGTAGGCAAGATAGGACAGACCATAGT CTACTCGTCGATAGTGAGTGGAGCTGTGGATGAGGCGGTGATTTATGATA TAATTCCCGAACTTCCCGAAAAATTTGAACATGAGCTTAGACACGCCTTC GCAACTAAAGGGATAAAGACCGAAATCCTTGGAACCAATAACCTAGACGA CGTGGCAGGGATGGACATGGTAGTGATCTCGGCAGGAAAACCGAGGAAGC CGGGCATGAGCAGGAGGGACTTATTCGTTGATAATGCCAAGATAATGATG GATTTGGCAGGTAAGCTTGCCCCTAAGAACCCAGGGGCCATCTACCTCAT GGTCGCGAACCCCGTGGACATGATGGCCTCGGTCTTCATGAAGTACTCGA AAGAGTACACGATAAGCACCGGTGACCAAGTGGAGACCATGAGGATGAGG TCGTACATAGCCAAGAAACTTAAAGTTCCTGTGACCCAGGTGGATGGGTT CGTCGGCGGTGAACACGGGGAAGATGCGGTAGTTCTATGGAGCACTGTGA AGGTTAAGGGAAAACCCATCGATAACTTCAACATCAATAAACAGGAAGTA GAGGACTACGTGAAAAAGATACCCGGAGAGATAATCAGAGTCATGGGAGG TACCACTTGGGGACCTGGGACCATAATAGCTGACATCATAAAGGCTGTGT CTCTAAACGAGAACAGAGTCATGAGTATAGCAACTCCCAGACAGTATGAG GGACAGATAATACACGTCAGCTCACCCATAGTAGTGAGTTCCAGCATAGG GCCTAGTCTTGAGACTCTACTGGACGAGAAGGATAGATGGCACCTCAACT CTGCCATGAAGGACTTCTATGAGGCCTACATGGAGAACATGAAACAGTTA GAGCAATCCCTGAAGCCAACCTAA
A33: =IF(EXACT(H33,"N"),CONCATENATE("R",ROW()),IF(EXACT(H33,"Y"),CONCATENATE("R",ROW()),"")) -> R33 | B33: TCA_R00351 | C33: 1 Acetyl-CoA + 1 H2O + 1 Oxaloacetate = 1 Citrate + 1 CoA + 1 Proton | D33: 2.3.3.1 | G33: 2-methylcitrate synthase/citrate synthase II | H33: Y | I33: 2508723561 | J33: MetMK1DRAFT_00019130 | K33: MSQISRGLENVYIKTTSLTYIDGENGILRYGGYDIDDLVDHTTFEEVVYL MLYGDLPNKIQLQRIRVLLNEGYEIPQQVIDMIYGLPRDSDAVGMMETAF SALSSIYGSPWNKVTNRETAIKVIARASTVVTNVLRAKEGKKPRIPEPSD SFARSFLEASFNRTPSTEEVKAMDASLILYADHEVPASTTAALVTSSTLS DMYSCVVAALAALKGPLHGGAAEEAFKQFLEIGSPENTDQWFQKKIVEGK ARLMGFGHRVYKTYDPRAKLFKRFAKQLSERNQEAKKYFEIAQKVEELGI QMFSQKHIFPNTDFYSGVVFYALGFPVYMFTSLFALSRTLGWTAHVIEYV EEQHRLIRPRALYVGPIRREVIPIELRG | L33: ATGAGCCAGATAAGCAGAGGTCTAGAGAACGTTTACATTAAGACGACTTC GCTCACATATATTGATGGAGAGAACGGCATCCTCAGGTACGGGGGGTACG ACATTGATGACTTGGTGGATCACACAACCTTCGAAGAAGTAGTGTACCTT ATGCTTTACGGTGATCTCCCCAACAAGATTCAGTTGCAGAGAATAAGGGT TCTCCTGAATGAGGGTTATGAGATTCCCCAGCAGGTTATTGATATGATCT ACGGTCTTCCAAGGGACTCAGACGCAGTTGGGATGATGGAGACCGCTTTC TCCGCTCTTTCTTCCATATATGGATCTCCTTGGAACAAGGTCACCAACAG GGAGACTGCAATAAAGGTGATAGCCAGGGCCTCCACGGTCGTCACTAACG TGTTGAGGGCAAAGGAAGGAAAGAAGCCGAGGATACCTGAACCTTCTGAC AGTTTCGCTAGGAGCTTCCTGGAGGCCTCTTTTAATAGGACACCCTCCAC AGAGGAGGTGAAAGCCATGGATGCTTCCCTAATACTTTACGCCGATCACG AGGTTCCAGCGTCTACCACTGCAGCTTTAGTAACTTCCTCTACGCTCTCC GATATGTACTCCTGTGTAGTCGCCGCGTTAGCTGCCCTGAAGGGACCTCT CCACGGGGGTGCAGCAGAGGAGGCGTTCAAACAGTTCTTAGAAATAGGTT CTCCAGAGAATACAGATCAGTGGTTCCAGAAGAAGATAGTGGAAGGGAAG GCAAGGCTCATGGGATTCGGCCACAGGGTTTACAAGACATATGATCCCAG GGCAAAATTATTCAAAAGATTTGCGAAACAGCTATCGGAGAGGAATCAGG AGGCCAAGAAATACTTCGAGATAGCACAGAAGGTGGAAGAACTAGGGATC CAGATGTTTTCTCAGAAACACATCTTTCCCAACACAGACTTCTACTCTGG CGTAGTGTTCTACGCCCTAGGCTTTCCGGTATACATGTTCACGTCTCTCT TCGCCCTTTCAAGAACACTAGGGTGGACAGCACACGTAATAGAGTATGTG GAGGAACAACATAGGCTAATAAGGCCCAGAGCATTATACGTAGGTCCAAT AAGGAGGGAAGTAATACCCATAGAGCTGAGAGGTTAG
A34: =IF(EXACT(H34,"N"),CONCATENATE("R",ROW()),IF(EXACT(H34,"Y"),CONCATENATE("R",ROW()),"")) | G34: 2-methylcitrate synthase/citrate synthase II | I34: 2508724277 | J34: MetMK1DRAFT_00026290 | K34: LELKKGLEDVAIKETSITFIDGELGRLYYRGYSVYDLASFSNFEEVAYLI WYGKLPTRKELEDFRKLMAEERKVPDHISSFVRQVSRNANPMDVLRTAVS MMGLEDSRDGDTIQKAIKITSKMPTIVAQIQRTRRGQDLVEPDPNLSHAE NFLFMLHGEKPSSTDVRSMDVSLTLHVDHEMNASTFACLVVASTLSDIYS SVVAGISALKGPLHGGANSEALKQFLEIGSPDNVEKYVLSRLSSGQRLMG FGHRVYKTMDPRAKILREYAKQLSTEKGLGELFEIAQRVEEIGIKILGNR GIYPNVDFYSGLVFYALGFDPDVFPTIFASARVVGWTAHVDEYLKDNKLI RPKAIYVGDLGRRYVPIDER | L34: TTGGAGTTAAAGAAGGGACTTGAGGACGTAGCAATCAAGGAGACCTCAAT AACTTTCATAGATGGTGAGTTGGGAAGACTTTACTACAGGGGATACTCCG TATATGATTTGGCTAGTTTCTCCAACTTCGAGGAGGTAGCATATCTAATC TGGTACGGAAAGTTGCCTACGAGGAAGGAACTAGAGGACTTCAGGAAATT AATGGCCGAGGAGAGGAAAGTGCCAGATCATATTTCTAGCTTCGTCAGGC AGGTGTCTAGGAACGCCAATCCCATGGACGTGCTTAGAACAGCGGTCAGC ATGATGGGACTAGAAGACTCAAGAGATGGGGACACTATTCAGAAGGCCAT CAAGATAACATCAAAAATGCCAACTATAGTTGCTCAAATACAGAGGACCA GGAGAGGACAGGACCTTGTGGAACCTGACCCTAATCTGAGCCACGCGGAA AACTTCCTTTTCATGCTTCACGGAGAGAAGCCGTCCTCCACCGATGTGAG ATCCATGGATGTATCCCTTACCCTACACGTCGATCATGAAATGAATGCGT CCACGTTCGCTTGTCTAGTAGTGGCGTCGACGCTCTCGGACATCTATTCC TCCGTGGTGGCTGGAATATCTGCACTTAAAGGTCCGCTTCATGGGGGAGC AAATTCTGAGGCATTAAAACAGTTCCTTGAGATTGGATCCCCAGATAACG TGGAGAAATACGTCCTGAGTAGGTTAAGCTCTGGCCAAAGACTCATGGGG TTTGGACACAGGGTCTACAAGACCATGGATCCCAGAGCAAAGATTCTACG GGAGTATGCCAAACAGTTATCGACTGAGAAGGGGTTAGGGGAACTGTTTG AGATTGCCCAACGTGTAGAGGAGATAGGTATCAAGATACTTGGGAACAGA GGAATATATCCCAACGTAGACTTCTACTCAGGTCTAGTGTTTTACGCCCT GGGATTCGACCCAGATGTATTCCCTACGATCTTTGCCTCAGCCAGGGTCG TAGGTTGGACCGCTCACGTAGACGAATACCTCAAGGATAACAAACTCATC AGACCTAAGGCAATATATGTAGGGGATTTAGGAAGAAGATATGTCCCCAT AGACGAAAGGTAA
A35: =IF(EXACT(H35,"N"),CONCATENATE("R",ROW()),IF(EXACT(H35,"Y"),CONCATENATE("R",ROW()),""))
A36: =IF(EXACT(H36,"N"),CONCATENATE("R",ROW()),IF(EXACT(H36,"Y"),CONCATENATE("R",ROW()),"")) -> R36 | B36: Pyruvate_R00344 | C36: ADP + Phosphate + Oxaloacetate + 2 Proton = ATP + Pyruvate + H2CO3 | H36: N
A37: =IF(EXACT(H37,"N"),CONCATENATE("R",ROW()),IF(EXACT(H37,"Y"),CONCATENATE("R",ROW()),""))
A38: =IF(EXACT(H38,"N"),CONCATENATE("R",ROW()),IF(EXACT(H38,"Y"),CONCATENATE("R",ROW()),"")) -> R38 | B38: G-G_R00341_assumedfor_R00726 | C38: ATP + Oxaloacetate = ADP + CO2 + Phosphoenolpyruvate | D38: 4.1.1.32 | G38: Phosphoenolpyruvate carboxykinase (GTP) | H38: Y | I38: 2508724176 | J38: MetMK1DRAFT_00025280 | K38: MEIPNLLKGKLTDEMFLRLMELKNESVLDFLSWVVGHCDPESVYVLKGTR EDQEYVKRRALETGEEIPLRVPGHTIHFDKPSDQARAREDTFILSEPIPF VNTKPRQEGLNEVMELLRGSMRGREMFVGFYALGPKSSPFQILAIQVTDS PYVIHSENILYRSAYDEFVKVGGNVEFLRFVHSKGTGDVKKRRIVIDFGG TVYSVNTTYAGNSVGLKKLALRLTLRRAVNEGWLSEHMAIVGLEGKETTH YVTAAFPSGSGKTSTSMMGKLVSDDLAFIRESQGIARAVNPEIGVFGIIQ GINKRDDPIIWEVLHTPGEVIFSNVLMTESGEVYWVGSEEPVPRKGINYA GEWWPGKTNSEGVEIPPSHPNARFTAPLKSFRNADPRIDDPRGVEIEAMI FGVRDYTTVVPIAEAFSWAHGVVTMGASMESARTSAVVGKLDEMEFNPMA LLDFISVSLGEYLRNYLEFGKKLRLQPRIYGANYFLKDMEGRYLNSKEDK RVWLRWITERLEGRADHLRTAVGLIPTYEDLRRLFKEVLNKEYMKQQYEL QFSIRLKEYKNKYLRIRELYSRVKDTPREVLEILDEQIGRIDKDIQRYGD TFSPFNI | L38: ATGGAGATACCCAATCTCCTAAAGGGAAAGTTGACCGATGAGATGTTCCT ACGTCTCATGGAGTTAAAGAACGAGAGTGTATTGGATTTTCTATCGTGGG TTGTGGGGCACTGTGATCCCGAATCAGTTTATGTCTTGAAGGGCACACGT GAGGACCAGGAGTATGTTAAAAGACGGGCTCTGGAGACAGGAGAGGAGAT CCCCCTCAGGGTTCCTGGACATACTATACACTTTGACAAACCCTCAGATC AGGCCAGAGCGAGGGAGGATACCTTCATCTTGTCCGAGCCTATTCCCTTC GTTAACACGAAACCCAGGCAAGAGGGTCTAAATGAGGTCATGGAGCTCTT GAGGGGGTCCATGAGGGGGAGGGAAATGTTCGTGGGATTCTATGCCCTGG GTCCGAAATCCTCTCCCTTTCAGATCCTGGCGATCCAAGTGACTGACTCC CCGTATGTCATCCATAGTGAGAACATCCTATACAGAAGCGCTTACGATGA GTTTGTAAAGGTAGGGGGTAACGTTGAATTCCTGAGGTTTGTCCACTCGA AGGGTACCGGAGACGTGAAGAAGAGGAGGATAGTAATAGACTTCGGCGGG ACGGTCTATAGTGTGAACACTACATATGCTGGTAACAGCGTAGGCCTCAA GAAGCTAGCTCTGAGGTTGACACTGAGGAGGGCAGTTAATGAGGGTTGGC TCTCGGAGCACATGGCCATAGTGGGTCTGGAGGGGAAAGAAACAACACAT TACGTTACCGCTGCCTTCCCTTCAGGCTCGGGTAAGACTAGCACCTCTAT GATGGGGAAGCTGGTAAGTGACGATTTAGCCTTCATTAGGGAGTCCCAAG GTATAGCGAGGGCCGTGAACCCTGAGATAGGAGTTTTTGGGATAATTCAG GGAATAAACAAGAGGGACGATCCCATAATATGGGAGGTGCTTCACACTCC TGGAGAAGTTATCTTCTCTAACGTTCTCATGACTGAGTCGGGAGAAGTAT ATTGGGTGGGGAGCGAAGAACCTGTCCCTCGTAAGGGGATTAATTATGCC GGAGAATGGTGGCCTGGTAAGACTAACTCTGAGGGCGTAGAGATTCCCCC ATCCCATCCAAACGCCAGGTTCACTGCTCCCCTAAAGTCCTTCAGGAACG CTGATCCCAGGATAGACGATCCGAGAGGTGTGGAAATAGAGGCAATGATA TTCGGAGTAAGGGATTACACCACCGTAGTCCCAATAGCTGAGGCCTTCAG TTGGGCCCACGGAGTTGTCACCATGGGGGCCTCCATGGAGTCCGCTAGGA CAAGTGCCGTAGTAGGTAAACTCGACGAGATGGAGTTCAATCCCATGGCA TTACTGGACTTCATTTCAGTGTCACTAGGAGAGTACCTACGCAACTACCT GGAATTCGGTAAAAAGTTGAGGCTGCAACCTAGGATATATGGGGCCAATT ACTTCCTTAAGGACATGGAAGGAAGATACTTGAACTCCAAGGAGGACAAG AGGGTCTGGCTGAGGTGGATAACCGAGAGGTTAGAGGGTAGGGCTGACCA CCTGAGGACAGCTGTGGGGCTCATTCCCACATATGAGGATTTGAGGAGGC TATTCAAGGAAGTGTTGAACAAGGAATACATGAAACAACAATATGAGTTA CAATTTTCCATAAGGTTGAAGGAGTATAAGAACAAGTATCTTAGAATAAG AGAGCTCTACTCCAGGGTGAAGGACACACCTAGGGAGGTACTGGAGATCT TAGACGAACAGATAGGAAGGATAGACAAGGACATACAGAGATATGGGGAC ACCTTCTCCCCCTTCAACATCTAG
A40: =IF(EXACT(H40,"N"),CONCATENATE("R",ROW()),IF(EXACT(H40,"Y"),CONCATENATE("R",ROW()),"")) -> R40 | B40: pyruvate-dehyd | C40: Pyruvate + CoA + 1 NAD = Acetyl-CoA + CO2 + 1 NADH | D40: 1.2.7.1 | G40: 2-oxoacid:acceptor oxidoreductase, gamma subunit, pyruvate/2-ketoisovalerate family | H40: Y | I40: 2508723107 | J40: MetMK1DRAFT_00014590 | K40: MIEISLKGRGGQGVVTAGEIMAKAAIVEGKYAQSIPFFGGERRGAPVSCE VRISDQPISLHRRVYNPDVVTVFDATLMDLLNPLTGIKEGGILLINTDNP RRYWNRTYYVDATGIARSLGLNIAGWAVVNTAMVGALSSVTKLVDIGTAE DVVKEEFPGKLGELNVEAMYLGFKEVRALD | L40: ATGATAGAGATTTCGCTTAAAGGAAGGGGAGGTCAGGGCGTAGTGACTGC TGGAGAGATAATGGCTAAGGCCGCCATAGTTGAGGGAAAGTACGCCCAGT CCATTCCCTTCTTCGGTGGAGAGAGGAGGGGGGCACCGGTGAGCTGTGAG GTGAGGATATCTGATCAGCCCATATCCCTACATAGGAGGGTTTACAATCC AGATGTCGTGACTGTGTTCGACGCGACCCTCATGGATTTGCTTAACCCTT TGACAGGGATAAAAGAGGGAGGAATCCTACTCATCAATACCGACAATCCA AGGAGATATTGGAATAGGACCTATTACGTCGACGCCACGGGAATAGCCAG GTCTTTAGGTCTCAACATAGCCGGTTGGGCAGTGGTCAACACAGCCATGG TAGGCGCCCTGTCATCTGTCACAAAACTCGTGGACATAGGTACCGCGGAG GATGTAGTTAAGGAGGAGTTTCCTGGAAAATTGGGTGAACTCAACGTAGA GGCCATGTACTTGGGTTTCAAGGAGGTGAGGGCCCTTGATTAA
A41: =IF(EXACT(H41,"N"),CONCATENATE("R",ROW()),IF(EXACT(H41,"Y"),CONCATENATE("R",ROW()),"")) | G41: 2-oxoacid:acceptor oxidoreductase, delta subunit, pyruvate/2-ketoisovalerate family | I41: 2508723108 | J41: MetMK1DRAFT_00014600 | K41: LINLPPGVPLARPSLGSSGQTGTWRVLRPVIHYNKCTKCRLCFFYCVENT IDLELNMFPKIDYQYCKGCGVCAQVCPTAAIEMMREVK | L41: TTGATTAATCTTCCTCCAGGAGTTCCCTTGGCGAGACCCTCCTTAGGTTC TTCGGGACAGACGGGCACTTGGAGGGTACTGAGACCTGTCATACACTACA ACAAGTGTACCAAGTGCAGACTGTGCTTCTTCTACTGCGTTGAGAACACG ATCGACCTCGAACTCAATATGTTCCCGAAGATAGATTACCAGTACTGTAA GGGCTGTGGGGTCTGCGCGCAAGTCTGTCCCACGGCCGCTATAGAAATGA TGAGGGAGGTGAAGTAA
A42: =IF(EXACT(H42,"N"),CONCATENATE("R",ROW()),IF(EXACT(H42,"Y"),CONCATENATE("R",ROW()),"")) | G42: Pyruvate:ferredoxin oxidoreductase and related 2-oxoacid:ferredoxin oxidoreductases, alpha subunit | I42: 2508723109 | J42: MetMK1DRAFT_00014610 | K42: LQVTKGVVKALVGNHAVAYAVKQAKPQVLAVYPITPQTTMLEKLSEYVDR GELKARMIRVESEHSALASIYGAAVAGARVFTATASQGLLYMTEMLYWAG GQRVPIVAAVATRALASPWSILDDHQDFMSKRDAIWIQMMAENVQEAYDL TIQAFRISEHENVVLPVMMGFDGFILTHTMERVEVLHDSVVDSFIPPRKF NLVDFTDPVGVGPVAPPEDYIRIRFEAKKAMERSKRVIKEIFREYEDISG RPQHGLVECFMCRDADYVVVSMGAWSGDARVAVKRLRERGAKVGLLKVRV FRPFPFEEVRDYLRDCKGVLVMDRAYSFGSGGILVNEVKVSLYGHDVPVH SLVGGLGGMDVRPLHIQTALENLMEGKLEEERWLL | L42: TTGCAGGTAACTAAGGGTGTAGTGAAGGCGTTGGTGGGAAATCACGCCGT GGCCTATGCCGTCAAACAGGCGAAACCTCAAGTCCTTGCGGTCTACCCGA TAACTCCTCAGACCACCATGTTGGAAAAGCTCTCTGAGTACGTTGATAGA GGGGAGTTAAAGGCCAGGATGATAAGGGTGGAGAGTGAGCACTCCGCTCT TGCCTCGATCTACGGGGCAGCTGTGGCAGGGGCCAGAGTGTTCACGGCGA CGGCCTCACAGGGGCTCCTATACATGACCGAGATGCTATATTGGGCCGGA GGTCAGAGGGTTCCTATAGTCGCCGCAGTGGCCACTAGGGCCCTGGCCTC GCCCTGGTCAATCCTCGATGACCACCAGGACTTCATGAGCAAGAGAGATG CCATTTGGATACAAATGATGGCTGAGAACGTCCAGGAAGCTTACGACCTA ACGATCCAGGCCTTCAGGATATCCGAACACGAGAACGTCGTTCTCCCCGT GATGATGGGATTCGATGGTTTCATCCTCACCCACACCATGGAGAGGGTGG AGGTTCTCCACGACTCCGTAGTGGACTCCTTCATCCCTCCCAGAAAGTTC AACCTGGTCGACTTCACGGATCCTGTGGGGGTTGGACCAGTCGCCCCGCC TGAGGACTACATAAGGATAAGGTTCGAAGCCAAGAAGGCTATGGAGAGGA GTAAAAGGGTCATAAAGGAGATTTTCAGGGAATATGAGGACATCAGTGGC AGACCTCAGCACGGGCTCGTGGAGTGTTTCATGTGTCGTGACGCCGATTA CGTCGTGGTGTCCATGGGGGCCTGGTCTGGAGACGCTCGCGTGGCGGTGA AGAGGTTAAGGGAGAGAGGAGCAAAGGTTGGTCTGCTCAAGGTGAGGGTA TTCAGGCCGTTCCCCTTTGAGGAGGTGAGGGACTACCTGAGGGATTGTAA GGGGGTGTTGGTGATGGACAGAGCTTACTCTTTCGGTTCAGGTGGGATTT TAGTGAACGAGGTAAAGGTTTCCCTCTACGGTCACGACGTACCAGTTCAC AGTCTCGTTGGGGGGTTAGGGGGTATGGATGTGAGGCCACTTCACATTCA GACTGCATTGGAGAACCTTATGGAGGGTAAATTGGAGGAGGAGAGGTGGC TACTATGA
A43: =IF(EXACT(H43,"N"),CONCATENATE("R",ROW()),IF(EXACT(H43,"Y"),CONCATENATE("R",ROW()),"")) | G43: Pyruvate:ferredoxin oxidoreductase and related 2-oxoacid:ferredoxin oxidoreductases, beta subunit | I43: 2508723110 | J43: MetMK1DRAFT_00014620 | K43: MMFLRGNAACPGCPIPRELDALLEVTGERTVLVVPASCTTVIMGDTRGMP SKVPVIHSAFAASSAIASGVRSALDARGEKATVVVWAGDGGTGDIGFASL SGAAERNEDILYVCYDNEAYMNTGVQRSGLTPFGAWTTTTPSGKAESKKP LPKIIADHGVPYVATASIAYLFDYKDKVRKAKEMSGFRYIHLLSPCPPGW RFDAGLTVEIAKLAVETGIWPLYEIEKGKFRLTSISKVLVDKKKRKPVEE YLKLQGRFKDLKGEDVKRIQEEVDQMWEDLARM | L43: ATGATGTTCCTGAGGGGTAACGCGGCTTGTCCTGGTTGTCCGATCCCTAG GGAACTGGACGCCCTCCTGGAGGTAACCGGTGAGAGGACTGTCCTAGTGG TTCCAGCGTCATGTACGACAGTAATCATGGGGGACACCAGGGGCATGCCC TCTAAGGTTCCTGTCATTCACAGTGCTTTCGCCGCATCTTCAGCTATAGC GTCAGGAGTCCGTTCTGCGCTAGACGCTAGGGGAGAGAAAGCTACTGTAG TGGTGTGGGCTGGAGACGGAGGCACGGGAGACATAGGATTCGCCTCGCTC AGTGGTGCAGCTGAGAGGAATGAAGACATACTCTACGTTTGTTATGACAA CGAGGCATACATGAATACCGGCGTACAGAGGTCTGGGTTGACGCCCTTCG GAGCCTGGACCACCACAACTCCCAGCGGAAAGGCTGAGTCCAAGAAACCC CTTCCCAAGATAATTGCGGATCATGGAGTTCCCTACGTGGCGACAGCCTC GATCGCTTACCTCTTCGATTACAAGGATAAGGTGAGGAAAGCAAAGGAGA TGTCAGGATTCAGGTATATTCATCTCCTATCGCCCTGTCCTCCAGGGTGG AGGTTCGACGCTGGACTCACCGTTGAGATAGCTAAGCTGGCTGTGGAGAC AGGGATATGGCCACTGTACGAGATAGAGAAAGGGAAGTTCAGGCTGACCA GTATAAGTAAAGTGTTGGTAGACAAGAAAAAGAGGAAACCAGTGGAGGAA TACTTGAAGTTGCAGGGCAGGTTCAAGGATCTCAAAGGAGAAGACGTGAA GAGGATCCAAGAAGAAGTGGATCAGATGTGGGAAGATCTCGCCAGGATGT GA
A44: =IF(EXACT(H44,"N"),CONCATENATE("R",ROW()),IF(EXACT(H44,"Y"),CONCATENATE("R",ROW()),"")) | G44: 2-oxoacid:acceptor oxidoreductase, gamma subunit, pyruvate/2-ketoisovalerate family | I44: 2508723531 | J44: MetMK1DRAFT_00018830 | K44: VESSLEIRFHGRGGQGVVTAANVLAEAASLENMFSSAFPIYGAERRGAEI ESYCRISRTQIRETSPIEEPDVVVILDPTLLKISNPLRGLRKDGKVVINW KGASPSVGFKTYTVDATGIALELKLVKSGWPLVNIVMLGALVKATGVPSL ESLKMAIGQEFSGNLGELNKRAVELSFERTFEVEQIVA | L44: GTGGAATCATCGCTTGAGATACGATTTCACGGACGAGGAGGTCAAGGGGT TGTCACTGCCGCCAACGTTCTTGCTGAGGCAGCAAGCCTAGAGAACATGT TCTCTTCAGCCTTCCCAATCTACGGGGCGGAAAGGAGAGGTGCAGAAATA GAGTCTTACTGCAGGATTTCGAGGACGCAAATAAGGGAAACCTCTCCAAT TGAGGAGCCGGACGTTGTGGTAATCCTGGATCCTACACTCCTAAAAATAT CGAACCCCCTAAGAGGGCTTAGGAAGGATGGAAAGGTAGTCATAAATTGG AAGGGAGCCTCTCCATCCGTGGGATTCAAGACTTACACGGTGGACGCCAC AGGCATCGCTCTTGAGCTCAAACTCGTAAAGTCAGGGTGGCCTCTGGTTA ACATAGTGATGTTGGGTGCCTTGGTTAAGGCAACAGGTGTACCTAGTTTG GAATCTTTGAAGATGGCCATAGGCCAGGAGTTCTCAGGAAACTTAGGTGA GTTAAACAAGAGAGCAGTGGAGTTATCCTTCGAGAGGACATTTGAGGTGG AGCAGATTGTCGCTTGA
A45: =IF(EXACT(H45,"N"),CONCATENATE("R",ROW()),IF(EXACT(H45,"Y"),CONCATENATE("R",ROW()),"")) | G45: 2-oxoacid:acceptor oxidoreductase, delta subunit, pyruvate/2-ketoisovalerate family | I45: 2508723532 | J45: MetMK1DRAFT_00018840 | K45: LSLEYQVFPVSTPAEGAGGKTGNWRTVRPVVTDRCIGCNACFLWCPEGTI GVVGRKAKVYYEYCKGCGVCANVCPVKAIEMVMEQ | L45: TTGTCGCTTGAATACCAAGTATTCCCTGTATCTACTCCTGCAGAGGGAGC GGGGGGAAAGACAGGTAACTGGAGGACTGTGAGACCAGTGGTCACTGATA GGTGCATAGGATGTAACGCCTGTTTCCTTTGGTGTCCTGAAGGGACGATC GGTGTAGTTGGAAGGAAGGCGAAGGTCTACTATGAATATTGTAAAGGATG TGGAGTCTGTGCTAACGTTTGTCCAGTTAAGGCAATAGAGATGGTGATGG AGCAATGA
A46: =IF(EXACT(H46,"N"),CONCATENATE("R",ROW()),IF(EXACT(H46,"Y"),CONCATENATE("R",ROW()),"")) | G46: Pyruvate:ferredoxin oxidoreductase and related 2-oxoacid:ferredoxin oxidoreductases, alpha subunit | I46: 2508723533 | J46: MetMK1DRAFT_00018850 | K46: MMKVMSGNEAVALAVKLARVGVVGIYPITPQTTIIEELAEMRARGELSAD IVRVESEHSAMAVTLGAAVSGVRSFTATSSQGLLYMHEMVWWTSGSRAPL VMVVATRAVGAPWNIWNENTDFMSERDSGWIMAFASTPQEALDLTLQAFR ISEDPRVFLPVMVGMDGFILSHTKTNVFIPSQEDVDNFIPPRRQPYVIDP ETKESMGNIFPPIYYMKLRQSIHEAITNSEEVIKEVGREYNKISPLGDYG TLNVSYKLDDADYAVVTMGAWSLDAMEAVDKLRENGLNVGLYRVRYIRPW SEKEIRENLGDKRAILVVDRATSLGRGGPLYLELKSTLNIPIKGVVTGLG GVSVGKRDFYSLISRFVEEARYSEVGGVEWYYPGEVKEVELGTPRTAH | L46: ATGATGAAAGTGATGTCTGGGAATGAGGCAGTGGCCCTGGCAGTCAAGTT GGCGAGGGTCGGAGTAGTAGGAATTTATCCCATAACACCGCAAACCACTA TCATAGAAGAACTGGCTGAGATGAGAGCTAGGGGTGAGCTCAGCGCTGAC ATAGTCAGAGTTGAGAGTGAACACTCTGCCATGGCAGTGACCTTAGGGGC TGCCGTGTCAGGGGTGAGATCTTTCACAGCCACCTCCTCTCAAGGACTTC TCTATATGCATGAAATGGTTTGGTGGACTTCGGGGAGCAGGGCCCCGCTG GTGATGGTCGTTGCTACTAGGGCAGTTGGTGCCCCATGGAACATCTGGAA TGAGAACACGGACTTCATGAGTGAGAGAGACAGTGGATGGATAATGGCCT TCGCGTCAACCCCTCAGGAAGCTCTGGACTTAACCCTTCAGGCTTTCAGA ATATCTGAAGATCCCAGAGTCTTCCTTCCAGTGATGGTAGGGATGGATGG ATTCATCCTATCCCACACGAAAACTAACGTGTTTATTCCGTCCCAAGAGG ATGTCGATAACTTCATCCCCCCGAGGAGGCAACCTTACGTAATAGACCCA GAGACTAAGGAGAGCATGGGTAACATATTCCCTCCCATATATTACATGAA GCTCAGACAGTCCATTCATGAGGCCATAACCAACTCTGAGGAGGTTATCA AAGAAGTGGGAAGAGAATACAACAAGATAAGTCCTCTAGGAGACTATGGA ACACTTAACGTGAGCTACAAGTTAGATGACGCAGATTACGCTGTGGTTAC GATGGGGGCGTGGTCGCTGGACGCTATGGAGGCAGTGGACAAGTTGAGGG AAAACGGACTGAATGTGGGGTTATACAGGGTGAGGTACATAAGACCTTGG AGTGAAAAGGAGATAAGAGAGAACCTAGGAGACAAGAGAGCAATATTAGT GGTTGACAGGGCTACAAGCCTGGGCAGAGGAGGTCCACTTTATCTTGAAC TTAAGTCAACGTTAAACATTCCCATTAAGGGAGTCGTTACCGGCCTAGGG GGAGTCTCTGTAGGAAAGAGGGACTTCTACTCCCTTATTTCAAGGTTCGT AGAGGAGGCCAGATACTCAGAAGTTGGAGGGGTAGAGTGGTATTATCCTG GAGAGGTGAAAGAGGTTGAGCTTGGGACTCCGAGGACTGCACACTAA
A47: =IF(EXACT(H47,"N"),CONCATENATE("R",ROW()),IF(EXACT(H47,"Y"),CONCATENATE("R",ROW()),"")) | G47: Pyruvate:ferredoxin oxidoreductase and related 2-oxoacid:ferredoxin oxidoreductases, beta subunit | I47: 2508723534 | J47: MetMK1DRAFT_00018860 | K47: MTMRMMGMALGNNVALIVVAGCSSVIQGMGPKNSYGYPALNIAFAAGPAA ASGMWRAFKQRNKDVTVVVWAGDGGTADIGFASLSGAAERNENFIYVCVD NEAYMNSGGQRSGSTPHGAVTPTTPEGKKENKKELLFLMLDHHVPYAATA SVGYPHDLMDKLRRAKTIEGFRYLQVLTPDPYGWLFDPSRTAEVGKLAVQ TCYWPLLEVVNGRVQVSNESLHCLRKETRRPLRDFLSVQGRYKRLNDQDY KELESYVDYTWDRILKLMRT | L47: ATGACCATGAGGATGATGGGGATGGCCCTAGGGAACAACGTGGCGTTAAT CGTGGTGGCCGGATGCTCCTCAGTGATCCAAGGGATGGGTCCTAAAAACT CCTACGGTTATCCTGCTCTTAACATAGCCTTCGCAGCTGGACCTGCAGCC GCTTCAGGCATGTGGAGGGCATTCAAGCAGAGAAACAAGGACGTCACCGT GGTTGTTTGGGCTGGAGATGGAGGGACAGCTGATATAGGTTTCGCATCGC TAAGTGGAGCTGCTGAGAGAAATGAGAACTTCATATATGTGTGTGTGGAC AACGAGGCTTACATGAACTCTGGGGGTCAGAGAAGTGGTTCCACTCCCCA CGGGGCTGTCACACCGACCACCCCTGAAGGTAAGAAGGAAAATAAGAAGG AACTTCTCTTCCTCATGCTGGATCATCATGTTCCCTATGCAGCGACGGCA TCAGTAGGCTATCCTCACGACCTTATGGATAAACTCAGGAGAGCAAAGAC GATCGAGGGGTTCAGATACCTGCAGGTCCTCACTCCAGATCCCTACGGCT GGCTATTCGACCCGTCTAGGACTGCAGAGGTCGGAAAACTCGCCGTACAA ACTTGCTATTGGCCCCTGTTGGAAGTAGTGAATGGTAGAGTCCAGGTCAG CAACGAATCTCTTCACTGTCTGAGGAAGGAGACTAGGAGACCGTTGAGGG ACTTCCTCTCTGTACAGGGTAGATATAAGAGGTTGAATGATCAGGACTAC AAGGAGCTGGAGTCCTACGTAGACTATACTTGGGACAGAATACTGAAGCT AATGAGGACCTAA
A49: =IF(EXACT(H49,"N"),CONCATENATE("R",ROW()),IF(EXACT(H49,"Y"),CONCATENATE("R",ROW()),"")) -> R49 | B49: G-G_R00235 | C49: ATP + CoA + Acetate = PPi + AMP + Acetyl-CoA | D49: 6.2.1.1 | H49: N
A51: =IF(EXACT(H51,"N"),CONCATENATE("R",ROW()),IF(EXACT(H51,"Y"),CONCATENATE("R",ROW()),"")) | C51: Glycolytic / Gluconeogenic Pathways
A52: =IF(EXACT(H52,"N"),CONCATENATE("R",ROW()),IF(EXACT(H52,"Y"),CONCATENATE("R",ROW()),"")) -> R52 | B52: G-G_R00200 | C52: 1 ADP + 1 Phosphoenolpyruvate + 1 Proton = 1 ATP + 1 Pyruvate | D52: 2.7.1.40 | G52: pyruvate kinase | H52: N | I52: 2508722571 | J52: MetMK1DRAFT_00009230 | K52: MRRTKIVATLGPSSLKLISQLSKFVDVFRVNFAHGDENSRREYVRLIREE APDSSILIDLPGPKLRVGDIGRMELKRGQEVLFSPKGGITVEDPVFYSSV KEGSVILISDGLIRIKVTNVSEDEVRGVVLDEGVLTSRKGINIPDLNLRS GLTQRDLELLEEAISLKADYVGLSFVLSAEDVRKAKERIKGRAWVVSKIE KRQAVENLKQIILESDAVMVARGDLGVEIGLENLPYVQRKIISTSKTLGR PVILATQVLESMVLNPMPWRAEVIDVANSVYQGVDAIMLSDETASGSYPL EAVRYLHRIITSSEDKVRSTRPTPSGPDDAVASASLALAETSKSKLIVVH TRSGLTALRVSRLRPRSPILCLTPDPEVARRLRLCWGITTVVVKGPSSLD EMVSLAVEHCRRLGVKGSVVIVAGDPSTEPGRTDFIKLHNLDEEKGLKST KKI | L52: ATGAGAAGAACTAAGATAGTGGCGACGCTGGGGCCCTCCTCCCTCAAGTT AATTTCTCAACTCTCCAAGTTCGTGGACGTATTCAGGGTCAACTTCGCTC ATGGGGATGAGAACAGCAGGAGGGAGTACGTGAGACTCATCAGGGAAGAG GCACCTGACTCTTCCATCCTTATCGACCTCCCAGGCCCTAAGCTGAGGGT GGGAGACATAGGGAGGATGGAGCTCAAGAGGGGACAGGAGGTCCTCTTCT CTCCCAAGGGTGGGATCACGGTTGAGGACCCCGTGTTCTACTCTAGTGTT AAGGAGGGTTCCGTCATCCTCATCTCCGACGGCCTCATAAGGATTAAGGT GACGAACGTTTCTGAGGACGAGGTCAGGGGTGTCGTATTGGATGAGGGAG TGTTGACCTCCAGGAAGGGGATAAACATACCTGACCTCAATCTGAGGAGC GGACTCACCCAGAGGGATCTGGAGTTGCTGGAGGAGGCCATCTCACTCAA GGCAGACTACGTAGGGCTCTCCTTCGTCCTCAGCGCTGAGGACGTTAGGA AGGCGAAGGAGAGGATAAAGGGGAGGGCGTGGGTAGTATCCAAGATCGAG AAGAGGCAAGCCGTGGAGAACCTGAAGCAGATAATTCTTGAGAGCGACGC CGTCATGGTAGCCAGGGGAGACCTTGGAGTGGAGATAGGCCTGGAGAACC TACCGTACGTGCAGAGGAAGATAATCTCCACCTCTAAGACCCTGGGGAGA CCGGTAATCCTGGCCACACAGGTGTTGGAGTCCATGGTCCTGAACCCTAT GCCCTGGAGGGCTGAGGTCATAGACGTTGCCAACTCCGTCTACCAGGGGG TGGATGCAATAATGCTGAGCGATGAGACAGCTTCAGGTTCCTATCCCCTG GAGGCAGTGAGGTACCTTCACCGCATCATAACTTCCTCAGAAGACAAGGT GAGGTCCACGAGGCCCACCCCCTCAGGTCCGGACGACGCCGTCGCCTCAG CCTCGCTGGCCCTCGCTGAGACTTCCAAGTCGAAGCTAATAGTGGTGCAC ACAAGGAGCGGACTCACGGCCCTCAGGGTGTCGAGACTCAGACCCAGGAG TCCCATACTCTGCCTGACCCCGGATCCCGAAGTCGCGAGGAGGTTAAGGC TCTGCTGGGGGATTACAACGGTGGTGGTGAAGGGTCCCTCATCCTTGGAC GAGATGGTTTCCTTGGCCGTGGAACACTGTAGGAGGTTAGGGGTCAAGGG TAGCGTGGTCATAGTCGCCGGGGATCCGTCCACGGAACCGGGGAGGACGG ACTTCATCAAGCTCCACAACCTGGATGAGGAGAAAGGCTTAAAATCTACT AAGAAGATTTAA
A53: =IF(EXACT(H53,"N"),CONCATENATE("R",ROW()),IF(EXACT(H53,"Y"),CONCATENATE("R",ROW()),""))
A54: =IF(EXACT(H54,"N"),CONCATENATE("R",ROW()),IF(EXACT(H54,"Y"),CONCATENATE("R",ROW()),"")) -> R54 | B54: G-G_R00658 | C54: 1 2-Phospho-D-glycerate = 1 H2O + 1 Phosphoenolpyruvate | D54: 4.2.1.11 | G54: phosphopyruvate hydratase | H54: Y | I54: 2508724463 | J54: MetMK1DRAFT_00028150 | K54: MMSDLSIFDLKGFEIIDSRGNFTVRAKVKLGCGVTATGDAPAGASKGSRE VVELRDERGSVEMAVKSINYYISPALIGMDSKFQTTVDKVLINLDGTENK SRLGANAMVATSIAVSKAASLALGVETFMHLGGSGPHIIPVPLMNILNGG LHAGNNLKIQEFMIIPVGFDTLKEALSASLVIYKALKSLVTEKYGKIYTA VGDEGGISPPLSKTEDALELVHSAVKRSGYEDKVLLGLDAAASNFYNKKE DKYEIDGNSKTRQEMIDFYVSLKDRYPLLYVEDPFEENDFKSFTELQSKM KGVLVSGDDIYTTNVKYLTKGIESGATKAVIVKVNQIGTITEAMEFVNLA KRHSIKTAISHRSGETEDSFIADLAVAVNSEFIKTGAPARGERTSKYNRL LEIEKEFGFEYMGKKLA | L54: ATGATGAGTGATTTGTCCATATTTGATCTCAAGGGTTTTGAGATAATAGA CTCTAGAGGGAACTTTACTGTTAGGGCAAAGGTTAAGTTAGGTTGCGGTG TTACGGCCACCGGGGACGCTCCAGCTGGGGCCTCTAAGGGATCGAGGGAA GTAGTGGAACTCCGGGATGAGCGTGGGTCTGTGGAGATGGCAGTGAAATC AATCAATTACTACATCTCCCCTGCACTCATAGGGATGGACTCGAAGTTCC AAACCACCGTAGATAAGGTTTTAATAAATTTAGATGGAACAGAGAATAAG TCAAGACTCGGTGCCAATGCGATGGTGGCTACATCCATAGCGGTGAGTAA GGCAGCCTCACTGGCCTTGGGGGTAGAAACGTTCATGCATCTAGGCGGTT CAGGGCCACATATCATTCCAGTTCCATTAATGAACATCCTCAACGGAGGA CTTCACGCTGGTAACAACTTGAAAATACAAGAGTTCATGATAATTCCCGT AGGTTTTGATACCCTTAAGGAAGCGCTCTCAGCTTCATTAGTAATATATA AGGCACTGAAGTCCCTAGTTACGGAGAAGTACGGGAAGATTTATACGGCG GTAGGGGATGAGGGAGGAATCTCTCCACCCCTTAGTAAAACTGAAGATGC ATTGGAACTGGTCCACTCCGCAGTGAAGAGGTCAGGATACGAGGATAAGG TACTGCTGGGTTTAGATGCGGCAGCATCGAATTTTTATAATAAAAAAGAA GATAAATACGAGATAGATGGTAACTCTAAAACTCGACAGGAAATGATAGA CTTCTATGTATCCCTAAAGGATCGCTATCCGCTCTTATACGTTGAGGATC CCTTTGAGGAGAATGACTTTAAGAGCTTTACTGAGCTCCAGAGCAAAATG AAGGGAGTTCTAGTATCCGGTGATGATATCTACACTACTAACGTGAAATA CTTAACTAAGGGAATAGAGTCAGGTGCAACAAAGGCTGTAATAGTGAAAG TCAACCAGATAGGCACAATAACTGAAGCCATGGAGTTCGTGAACTTAGCC AAGAGACATTCCATTAAAACTGCGATAAGTCACAGAAGCGGGGAAACAGA GGACAGCTTCATAGCGGACTTAGCAGTGGCTGTCAACAGTGAATTCATAA AGACTGGGGCACCAGCTAGAGGAGAAAGGACATCCAAATACAATAGACTT TTAGAAATAGAGAAAGAATTTGGATTTGAATATATGGGGAAGAAATTAGC TTGA
A56: =IF(EXACT(H56,"N"),CONCATENATE("R",ROW()),IF(EXACT(H56,"Y"),CONCATENATE("R",ROW()),"")) -> R56 | B56: G-G_R01518 | C56: 1 2-Phospho-D-glycerate = 1 3-Phosphoglycerate | D56: 5.4.2.1 | G56: Fructose-2,6-bisphosphatase | H56: Y | I56: 2508722941 | J56: MetMK1DRAFT_00012930 | K56: MVLVILVRHGQSVSNIQKILSHDTNNYPLTEEGREQAKRAAHELKKLRVD KIFTSPVMRAYQTAQLIGDELGLVPIIDERLRERWLGELNNRRFDPNDHW KLKIMRGQLEVRDLEPWESLKRRILEFLQSLPEGQVVVAVSHYDPIRAAL GHILDLDDISAHGISVPNASFTFIERNSSNFKILSIGSPAISPQLLSKLN RYVIKAK | L56: ATGGTTCTAGTGATCCTGGTGAGACACGGCCAAAGCGTCTCCAATATCCA AAAGATTCTGTCCCACGACACCAACAACTACCCTTTGACTGAAGAGGGGA GGGAACAAGCTAAGAGAGCGGCTCATGAGCTCAAGAAGTTGAGGGTGGAC AAGATCTTCACCAGCCCAGTCATGAGGGCCTATCAAACGGCTCAATTGAT TGGGGATGAGCTAGGACTGGTCCCAATAATAGACGAACGACTGAGGGAGA GGTGGCTTGGAGAATTGAATAACAGGAGGTTCGATCCGAATGATCATTGG AAGTTGAAGATAATGAGGGGACAATTGGAAGTGAGAGATCTGGAACCGTG GGAGAGCTTGAAGAGGAGAATTTTAGAGTTCCTTCAGTCTTTACCGGAAG GTCAAGTGGTTGTTGCCGTAAGTCACTATGACCCCATAAGGGCAGCCTTA GGTCACATCTTGGACTTAGACGACATATCTGCACACGGTATCTCGGTCCC CAATGCTAGCTTCACATTCATAGAGAGAAACTCCAGCAACTTCAAGATCT TGTCAATTGGTTCCCCTGCCATATCACCACAACTGTTATCTAAACTCAAT AGATATGTTATTAAGGCGAAGTAA
A57: =IF(EXACT(H57,"N"),CONCATENATE("R",ROW()),IF(EXACT(H57,"Y"),CONCATENATE("R",ROW()),"")) | G57: 2,3-bisphosphoglycerate-independent phosphoglycerate mutase, archaeal form | I57: 2508723994 | J57: MetMK1DRAFT_00023460 | K57: MKRYKILLLVADGLGDRPIRFLNGRTPLEAADKPNLNSILRSSLAGLMDP IEPGIVPGSDTSHLAIFGLNPRVYYKGRGSFEALGAGAELREGDIAFRGN FATIDENFVVIDRRAGRRLDEAEQLVALLNREIQEVDGVRVRFYRGTEHR VSVVLSGEKLSDKVSDTDPHEVHKKILRAEAREYTEEAKRTAEVVNKLTD RIISVLSASHINKERIERGLPPANIVLLRGASTHTELPKLKDYTSLRGAA VSATALIKGVCRSLGMHVVTPPRATGGVDTDYLSKAAHTVKLLKEDYDLV FLHIKATDAASHDGNAPEKVKAIEMIDKVVGRILDGVGSEIVILFTGDHA TPVEVKEHTGDPVPVMLYTPDSIVPDYLSDFNEREARKGSLKIVGLNIMH LLLNYSNRASKYGA | L57: ATGAAGAGGTACAAGATACTTCTATTGGTAGCAGATGGATTGGGAGACCG ACCTATACGATTCCTGAACGGAAGGACACCCCTAGAGGCTGCAGACAAGC CCAACCTCAATTCAATTCTTCGTTCGTCTTTAGCCGGATTAATGGATCCC ATAGAACCCGGTATAGTACCAGGTAGCGACACGTCTCATTTGGCAATTTT TGGCCTGAATCCTAGGGTGTACTATAAGGGGAGGGGCAGCTTCGAGGCAC TGGGTGCCGGTGCTGAGTTGAGAGAAGGAGACATAGCATTTAGAGGAAAC TTTGCCACAATAGATGAGAACTTTGTGGTCATAGACAGGAGAGCTGGGAG GAGGCTCGACGAGGCCGAGCAATTAGTGGCCCTATTAAATAGAGAGATCC AGGAAGTTGATGGAGTGAGGGTGAGGTTCTACAGAGGGACGGAACACAGA GTCTCTGTTGTATTGTCTGGTGAGAAACTCAGCGACAAGGTCAGCGATAC TGACCCCCACGAAGTTCACAAGAAGATATTGAGGGCAGAGGCTAGGGAGT ATACAGAGGAGGCCAAGAGGACAGCAGAAGTAGTCAATAAGCTGACTGAC CGAATAATAAGCGTACTCTCAGCTTCACATATTAACAAGGAGCGGATTGA GAGGGGCTTGCCTCCAGCCAACATAGTTCTCCTGAGAGGGGCATCTACAC ATACTGAACTTCCCAAGCTTAAGGACTACACCAGTTTACGTGGAGCTGCA GTGTCGGCTACGGCCTTGATAAAGGGAGTCTGTAGGTCACTGGGTATGCA TGTGGTAACTCCTCCTAGGGCTACGGGGGGAGTGGACACTGACTACCTCT CCAAGGCCGCTCACACAGTCAAGCTCCTTAAAGAGGATTATGATTTGGTG TTTCTTCACATAAAGGCCACCGATGCTGCATCCCATGACGGAAACGCTCC AGAGAAGGTTAAGGCGATAGAGATGATAGACAAGGTCGTTGGGAGAATAT TAGATGGAGTTGGCTCCGAGATAGTAATTCTCTTCACTGGAGACCACGCG ACTCCTGTTGAGGTAAAGGAACACACTGGAGATCCTGTTCCAGTGATGTT ATACACGCCTGATAGTATAGTGCCCGACTATCTCTCAGACTTTAATGAAA GAGAAGCCAGGAAGGGTAGCCTAAAGATAGTAGGTTTAAATATAATGCAT CTTCTATTAAACTATTCTAACAGGGCATCTAAGTACGGTGCCTAG
A59: =IF(EXACT(H59,"N"),CONCATENATE("R",ROW()),IF(EXACT(H59,"Y"),CONCATENATE("R",ROW()),"")) -> R59 | B59: G-G_R01512 | C59: 1 3-Phosphoglycerate + 1 ATP = 1 1_3-Bisphospho-D-glycerate + 1 ADP | D59: 2.7.2.3 | G59: 3-phosphoglycerate kinase | H59: Y | I59: 2508724416 | J59: MetMK1DRAFT_00027680 | K59: MVIPTLDDVNFTNSKVLVRIDINSPVDSKSGKLLDDSRIRAHVETVKELV EKGNGVVLVSHQGRPGDSDFIDLEEHSRLLQKHLDMEVEFVGDVMGPYAR EKIKNMKLGSVILLDNVRFVSEELIEASPLQHAKSYLVRRLSPLFQGYVN DAFAASHRSQASLVGFPLVLKSSAGRVMEREVSALAKVFNPEDSPKIFIM GGGKVLDSLRIIENLVKRRLADRILTGGLIAELFAVAKGLDLGKENLQVL EKAGVLGLISRARKLLLSGAPVEIPVDFKVEKGGQVHEEPANKVTGIIKD VGSTTVNIYSSFVRDAKVIVMRGPMGVIEDERFRESSRALLKNALENQGY VIIGGGHMISLLGGEGQIDKSKVHVSTGGGALLLFLAGEKLPALEALDMS AKEAMKA | L59: ATGGTTATTCCCACACTGGATGACGTAAATTTCACCAACAGTAAAGTTCT CGTTAGAATAGACATCAACTCTCCTGTGGATTCGAAATCTGGCAAACTTT TGGACGACTCTAGAATAAGGGCCCATGTGGAGACCGTAAAGGAATTGGTG GAGAAGGGAAACGGAGTTGTCCTAGTTTCGCATCAGGGAAGACCTGGAGA CAGTGACTTCATCGACTTGGAGGAGCACTCTAGGCTACTTCAAAAACACT TGGACATGGAGGTGGAGTTCGTGGGGGACGTGATGGGGCCTTACGCCAGG GAGAAGATAAAGAACATGAAGTTGGGGTCCGTTATACTTCTAGATAACGT AAGGTTCGTCTCTGAGGAATTGATCGAAGCTTCACCATTACAACACGCTA AAAGTTACCTAGTCAGACGACTTTCACCCTTGTTTCAAGGCTATGTGAAC GATGCCTTTGCAGCATCTCACAGGAGTCAAGCTAGCCTCGTTGGGTTTCC TCTGGTTCTTAAGTCCAGTGCGGGAAGAGTGATGGAAAGGGAGGTATCAG CGTTAGCTAAGGTCTTCAATCCTGAAGACTCACCTAAGATATTCATAATG GGAGGTGGAAAGGTTCTGGATAGCCTGAGGATAATAGAGAATCTAGTGAA AAGGAGGCTAGCCGACAGAATCCTCACTGGCGGTCTTATCGCTGAACTCT TTGCAGTTGCCAAAGGTCTTGATCTGGGTAAGGAGAACCTGCAGGTGTTA GAGAAGGCAGGAGTTTTGGGTCTAATAAGTAGAGCAAGGAAGCTACTTCT TTCAGGTGCACCGGTGGAGATACCTGTAGACTTCAAGGTGGAGAAAGGGG GCCAGGTCCATGAGGAACCAGCAAATAAAGTAACGGGGATTATAAAGGAT GTAGGCTCCACAACAGTGAACATTTACTCGTCATTCGTTAGAGACGCTAA GGTTATAGTGATGCGTGGGCCTATGGGTGTAATAGAGGACGAGAGGTTCA GGGAGTCCAGCAGAGCACTACTAAAGAACGCCCTTGAGAATCAAGGGTAC GTGATAATAGGTGGAGGTCATATGATAAGCCTACTTGGAGGAGAGGGGCA GATAGATAAATCCAAGGTTCACGTTTCTACTGGGGGAGGTGCACTTCTGC TATTTTTGGCAGGAGAGAAGTTACCCGCACTTGAAGCACTGGACATGTCC GCAAAGGAGGCGATGAAGGCTTGA
A61: =IF(EXACT(H61,"N"),CONCATENATE("R",ROW()),IF(EXACT(H61,"Y"),CONCATENATE("R",ROW()),"")) -> R61 | B61: G-G_R01061 | C61: 1 Glyceraldehyde3-phosphate + 1 NAD + 1 Phosphate = 1 1_3-Bisphospho-D-glycerate + 1 NADH + 1 Proton | D61: 1.2.1.59 | G61: glyceraldehyde-3-phosphate dehydrogenase, type II | H61: Y | I61: 2508724415 | J61: MetMK1DRAFT_00027670 | K61: LIKVSINGYGTIGKRVTDAVLNQADMALVGVSKTTPNFEAFQAYKKGIRI YVPKESQKEFEEAGITPSGFIEDMIKESDVVVDATPNGVGAQYKQLYTSM RKKAIFQGGEKPNVADVSFSALCNYDEAVGKNYVRVVSCNTTSMLRTLCT LNKVSKIQKVRGTIVRRAADPKEVKRGPINAIVPDPPSVPSHHAKDVNTV LKDLDIVTMAVIAPTTLMHVHLLDVTVSDPVSKEQVLEVLRNTPRLSLVS GKSKVTSTAEIIELSRDMGRYRNDIYEVVIFEDSVSTRGNEIFIMYAVHQ EAVVVPENIDAIRAVSGFSDKTKSTEMTNASLGIRPGYLV | L61: TTGATAAAAGTTTCTATTAACGGCTATGGTACGATAGGTAAGAGAGTAAC CGATGCCGTACTCAATCAAGCCGATATGGCTCTAGTAGGAGTCTCTAAAA CTACTCCCAACTTCGAGGCCTTCCAGGCTTATAAAAAGGGGATAAGGATA TATGTCCCCAAGGAGTCTCAGAAAGAGTTTGAGGAGGCAGGAATAACCCC TTCGGGCTTCATTGAGGACATGATAAAGGAGTCTGATGTGGTTGTCGACG CGACTCCAAACGGAGTTGGAGCTCAATACAAGCAGCTCTACACTTCCATG AGGAAGAAGGCGATCTTTCAGGGTGGGGAGAAACCCAACGTCGCTGACGT CTCCTTTTCCGCTCTCTGTAATTACGATGAGGCTGTGGGAAAGAATTACG TTAGGGTAGTATCCTGCAACACTACATCCATGTTGAGGACGCTCTGCACA CTAAACAAGGTAAGTAAAATACAGAAGGTCAGGGGAACTATAGTTAGGAG GGCTGCAGATCCCAAGGAAGTTAAGAGAGGTCCAATAAACGCCATAGTAC CCGATCCACCAAGCGTCCCGAGCCACCACGCTAAAGACGTCAATACGGTG CTGAAGGACTTAGATATAGTGACCATGGCTGTCATCGCTCCTACAACTCT TATGCACGTTCATCTATTAGATGTGACTGTCTCTGATCCAGTGTCGAAAG AACAGGTTCTTGAAGTCCTCAGGAACACACCTAGGTTATCTCTGGTTAGC GGTAAATCTAAGGTAACGTCTACCGCAGAGATCATTGAACTATCAAGGGA TATGGGAAGATATAGGAACGATATCTATGAGGTAGTCATATTCGAAGATT CAGTATCTACTAGGGGAAACGAGATATTCATTATGTACGCAGTTCATCAA GAGGCGGTGGTGGTTCCAGAGAACATAGATGCTATACGAGCTGTATCAGG GTTTTCAGACAAGACAAAATCCACAGAAATGACAAATGCTTCCTTAGGGA TAAGGCCTGGCTATCTGGTGTAA
A63: =IF(EXACT(H63,"N"),CONCATENATE("R",ROW()),IF(EXACT(H63,"Y"),CONCATENATE("R",ROW()),"")) -> R63 | B63: G-G_R01015 | C63: 1 Glyceraldehyde3-phosphate = 1 DHAP | D63: 5.3.1.1 | G63: triosephosphate isomerase | H63: Y | I63: 2508724208 | J63: MetMK1DRAFT_00025600 | K63: MKFPILIINFKAYENSYGEKALQLSKSIDKVARESGIEIVVAVPSTMIHR ISKEVSIPVFAQHVDAVPEGAHTGAVTPEMIKEAGAAGTLVNHSERRVRA DEIDDVIKRSRRLGLETIVCVDRYELVVPIGLLGPDAILVEPPELIGTGV SVSRARPEVITNAVEMVQKVKGLKLIVGAGISTGDDVYTSIKLGAHGIGV ASAVMKSKDPSKVVREFVEGAKRAVSERITGT | L63: ATGAAGTTTCCCATATTAATCATCAATTTCAAGGCATATGAGAACTCGTA CGGTGAGAAGGCCCTTCAACTATCAAAAAGCATCGACAAGGTGGCAAGGG AAAGCGGTATTGAAATCGTTGTGGCTGTTCCCTCGACCATGATCCACAGG ATATCCAAAGAGGTGAGCATTCCAGTTTTCGCTCAACACGTTGATGCTGT TCCAGAGGGGGCTCACACTGGAGCAGTGACCCCGGAGATGATTAAGGAGG CAGGGGCTGCAGGTACTTTGGTGAATCACAGCGAGAGAAGGGTAAGGGCT GACGAGATAGATGACGTCATAAAGAGGTCCAGAAGACTTGGGTTGGAAAC CATAGTTTGCGTAGACAGGTATGAACTAGTAGTACCTATTGGTCTGCTCG GACCTGATGCGATACTGGTGGAACCCCCAGAGTTGATAGGTACTGGTGTG TCAGTATCTAGGGCAAGACCAGAGGTGATAACCAATGCCGTGGAGATGGT ACAGAAGGTTAAGGGTCTAAAGTTAATAGTAGGAGCAGGGATCTCGACGG GGGACGACGTTTATACGTCCATAAAGCTGGGAGCTCACGGTATAGGTGTG GCCAGTGCAGTCATGAAGTCCAAAGATCCTTCTAAAGTAGTGAGGGAGTT CGTAGAAGGGGCCAAGAGAGCCGTGTCTGAGAGGATCACTGGGACTTGA
A65: =IF(EXACT(H65,"N"),CONCATENATE("R",ROW()),IF(EXACT(H65,"Y"),CONCATENATE("R",ROW()),"")) -> R65 | B65: G-G_R01070_assumed | C65: D-fructose-1_6-bisphosphate = DHAP + Glyceraldehyde3-phosphate | D65: 4.1.2.13 | G65: DhnA-type fructose-1,6-bisphosphate aldolase and related enzymes | H65: Y | I65: 2508723626 | J65: MetMK1DRAFT_00019780 | K65: MSGLQIRLKRLFHKGKAFVVALDHGLVMGPMRGIERPLEIVGKLKNVPDA LQMTPAMLKVVEENFYSRGSPMLIARLDTANVWRDARKYEQGYYSPVYTV RDAIEAGADAVVTYLVVGYGDDRVEGYNLEQIARLRNEAHDYGIPFVVEP LFVRREVSDSVKETSIVKYVARLASEIGPDVLKVDYSGDKVGFSQVVETS FSPILIRGGPKTTNELEFLSMLRDAVDAGASGVTVGRNLWQSSDPEKLAL AISKVVHENQDPKQVAESLKG | L65: ATGTCGGGACTTCAGATAAGGCTCAAGAGACTCTTTCATAAAGGAAAGGC GTTCGTGGTCGCCCTCGATCACGGGCTGGTTATGGGGCCCATGAGGGGAA TAGAAAGACCCCTCGAGATAGTCGGGAAACTGAAAAACGTCCCAGACGCA CTGCAGATGACGCCTGCCATGCTGAAGGTGGTGGAAGAGAACTTCTACAG CAGGGGTTCCCCCATGTTGATAGCAAGATTGGACACGGCTAACGTATGGA GGGATGCCAGGAAGTACGAGCAGGGATATTATTCCCCCGTGTATACTGTG AGGGACGCAATAGAGGCTGGGGCAGACGCCGTGGTCACTTACTTGGTAGT CGGTTACGGCGACGATAGAGTTGAGGGATACAACCTGGAGCAGATTGCGA GGTTAAGAAATGAGGCACACGATTACGGCATTCCGTTCGTGGTAGAACCG CTGTTCGTCAGGAGAGAGGTGTCTGATTCCGTCAAGGAGACGAGCATAGT GAAGTACGTGGCTAGGCTGGCGTCGGAGATAGGACCAGATGTCCTAAAGG TGGATTACAGCGGGGATAAAGTAGGTTTCTCTCAGGTTGTAGAGACGTCG TTCAGCCCAATACTGATCAGAGGAGGTCCCAAGACCACAAACGAACTGGA ATTCCTATCTATGCTTAGGGATGCAGTGGACGCAGGGGCCTCAGGAGTGA CGGTGGGAAGAAACTTGTGGCAATCCTCAGATCCTGAAAAGTTGGCTTTA GCGATCTCCAAAGTAGTTCATGAGAATCAGGACCCAAAGCAAGTGGCTGA ATCCCTGAAGGGCTAG
A66: =IF(EXACT(H66,"N"),CONCATENATE("R",ROW()),IF(EXACT(H66,"Y"),CONCATENATE("R",ROW()),"")) | G66: Archaeal fructose 1,6-bisphosphatase | I66: 2508723902 | J66: MetMK1DRAFT_00022540 | K66: MRTTVSVIKADIGSLAGHHVVHPDTMAAANRVLAEAKRQSIILDYYITNV GDDLELIMTHTRGELDQKVHEVAWNAFKEATNVAKELGLYAAGQDLLSDT FSGNLKGMGPGMAELELEERPSEPIAIFMADKTEPGAFNLPLYKMFADPF NTPGLVIDPTMNEGFKFEVLDVYEGKAVELSCPEEIYTLLALIGTPARYV VRKVRRKKDNMLGSVTSIERLNLIAGKYVGKDDPVLVVRLQHGFPALGEA LEAFSFPYLVPGWMRGSHYGPLMPVSQRDARATRFDGPPRLIGLGFNVKN GKLTGPSDLFDDPAFDEVRRTASVITDYMRRHGPFMPHRLEPTEMEYTTL PTIVEKLKDRFKKEEDVTKAKRSIYVGKGEETD | L66: ATGAGAACAACAGTTAGTGTTATAAAGGCTGATATAGGTAGCCTTGCAGG ACATCACGTAGTTCATCCGGATACCATGGCAGCAGCGAACAGGGTTCTAG CTGAAGCTAAGAGACAATCGATAATCTTGGACTATTACATTACTAACGTA GGAGACGATCTTGAGTTAATAATGACTCACACTCGAGGTGAACTGGATCA GAAGGTTCACGAAGTGGCCTGGAATGCATTCAAAGAAGCAACTAATGTAG CTAAGGAGCTAGGACTTTATGCAGCAGGGCAGGACCTACTCTCCGATACC TTTTCTGGAAACCTTAAGGGTATGGGACCTGGAATGGCAGAACTAGAGTT AGAAGAGAGGCCTTCAGAGCCAATAGCGATTTTCATGGCGGATAAGACTG AACCTGGAGCCTTTAACTTACCTCTTTATAAGATGTTTGCGGATCCGTTC AACACACCAGGATTAGTGATAGATCCAACAATGAACGAGGGTTTCAAGTT TGAGGTGTTGGATGTATACGAAGGAAAGGCAGTAGAACTTAGTTGTCCAG AAGAAATTTATACACTCTTAGCGTTGATAGGAACTCCTGCTAGATACGTG GTCAGAAAGGTTAGGAGGAAAAAAGACAACATGTTAGGATCAGTAACTTC CATAGAGAGATTAAACCTCATTGCAGGTAAATACGTGGGAAAAGACGATC CAGTACTGGTGGTTAGACTGCAACACGGCTTCCCCGCACTGGGAGAGGCA CTGGAGGCCTTCTCATTCCCATATTTGGTACCAGGTTGGATGAGGGGAAG TCATTATGGCCCGCTCATGCCGGTATCCCAAAGAGACGCCAGAGCAACTA GGTTTGATGGTCCTCCGCGGCTCATAGGTCTAGGTTTCAACGTGAAGAAT GGGAAACTCACAGGGCCGTCAGACTTATTCGATGATCCAGCATTTGATGA AGTCAGGAGAACGGCTTCAGTAATAACTGATTATATGAGAAGACATGGTC CCTTCATGCCTCACAGATTAGAGCCAACGGAGATGGAGTATACAACATTA CCTACTATAGTAGAGAAACTTAAGGATAGGTTCAAGAAAGAAGAGGATGT AACTAAGGCCAAGAGGAGCATATACGTTGGAAAGGGGGAAGAAACTGACT AA
A68: =IF(EXACT(H68,"N"),CONCATENATE("R",ROW()),IF(EXACT(H68,"Y"),CONCATENATE("R",ROW()),"")) -> R68 | B68: G-G_R04780 | C68: 1 D-fructose-1_6-bisphosphate + 1 H2O = 1 D-fructose-6-phosphate + 1 Phosphate | D68: 3.1.3.11 | G68: Archaeal fructose 1,6-bisphosphatase | H68: N | I68: 2508723902 | J68: MetMK1DRAFT_00022540 | K68: MRTTVSVIKADIGSLAGHHVVHPDTMAAANRVLAEAKRQSIILDYYITNV GDDLELIMTHTRGELDQKVHEVAWNAFKEATNVAKELGLYAAGQDLLSDT FSGNLKGMGPGMAELELEERPSEPIAIFMADKTEPGAFNLPLYKMFADPF NTPGLVIDPTMNEGFKFEVLDVYEGKAVELSCPEEIYTLLALIGTPARYV VRKVRRKKDNMLGSVTSIERLNLIAGKYVGKDDPVLVVRLQHGFPALGEA LEAFSFPYLVPGWMRGSHYGPLMPVSQRDARATRFDGPPRLIGLGFNVKN GKLTGPSDLFDDPAFDEVRRTASVITDYMRRHGPFMPHRLEPTEMEYTTL PTIVEKLKDRFKKEEDVTKAKRSIYVGKGEETD | L68: ATGAGAACAACAGTTAGTGTTATAAAGGCTGATATAGGTAGCCTTGCAGG ACATCACGTAGTTCATCCGGATACCATGGCAGCAGCGAACAGGGTTCTAG CTGAAGCTAAGAGACAATCGATAATCTTGGACTATTACATTACTAACGTA GGAGACGATCTTGAGTTAATAATGACTCACACTCGAGGTGAACTGGATCA GAAGGTTCACGAAGTGGCCTGGAATGCATTCAAAGAAGCAACTAATGTAG CTAAGGAGCTAGGACTTTATGCAGCAGGGCAGGACCTACTCTCCGATACC TTTTCTGGAAACCTTAAGGGTATGGGACCTGGAATGGCAGAACTAGAGTT AGAAGAGAGGCCTTCAGAGCCAATAGCGATTTTCATGGCGGATAAGACTG AACCTGGAGCCTTTAACTTACCTCTTTATAAGATGTTTGCGGATCCGTTC AACACACCAGGATTAGTGATAGATCCAACAATGAACGAGGGTTTCAAGTT TGAGGTGTTGGATGTATACGAAGGAAAGGCAGTAGAACTTAGTTGTCCAG AAGAAATTTATACACTCTTAGCGTTGATAGGAACTCCTGCTAGATACGTG GTCAGAAAGGTTAGGAGGAAAAAAGACAACATGTTAGGATCAGTAACTTC CATAGAGAGATTAAACCTCATTGCAGGTAAATACGTGGGAAAAGACGATC CAGTACTGGTGGTTAGACTGCAACACGGCTTCCCCGCACTGGGAGAGGCA CTGGAGGCCTTCTCATTCCCATATTTGGTACCAGGTTGGATGAGGGGAAG TCATTATGGCCCGCTCATGCCGGTATCCCAAAGAGACGCCAGAGCAACTA GGTTTGATGGTCCTCCGCGGCTCATAGGTCTAGGTTTCAACGTGAAGAAT GGGAAACTCACAGGGCCGTCAGACTTATTCGATGATCCAGCATTTGATGA AGTCAGGAGAACGGCTTCAGTAATAACTGATTATATGAGAAGACATGGTC CCTTCATGCCTCACAGATTAGAGCCAACGGAGATGGAGTATACAACATTA CCTACTATAGTAGAGAAACTTAAGGATAGGTTCAAGAAAGAAGAGGATGT AACTAAGGCCAAGAGGAGCATATACGTTGGAAAGGGGGAAGAAACTGACT AA
A70: =IF(EXACT(H70,"N"),CONCATENATE("R",ROW()),IF(EXACT(H70,"Y"),CONCATENATE("R",ROW()),"")) -> R70 | B70: G-G_glc6p-frc6p-isom | C70: 1 glucose-6-phosphate = 1 D-fructose-6-phosphate | D70: 5.3.1.9 | G70: bifunctional phosphoglucose/phosphomannose isomerase | H70: Y | I70: 2508724588 | J70: MetMK1DRAFT_00029400 | K70: LVIYEKWYDLYQEAEKLPVAEIKGEIACIGMGGSGVTCEVLKAFRELETL RHADTVIAVSYSGETAETLLQVKESLRQGKRVIAVTSGGTLSRLCKEVVK VPGGLQPRFAFPLLIHPVLRMTVQGDLSELKEAVKDIRGMREQSSSLANE MFTKIPVFYASKYLGVAKRFKQEINENAKYPAFFGEIPEVHHNEVESYVH GKNLYPVVIEGDKVDEITSSLLKARAFKVTRPLYDVSYLIALAGFLSVEL ARMNGEDPERLHVIPKARERSKETLLNH | L70: TTGGTAATATACGAGAAGTGGTACGATCTGTATCAGGAGGCCGAGAAGCT TCCAGTCGCCGAGATTAAAGGGGAAATAGCGTGTATAGGGATGGGGGGAA GCGGTGTAACCTGCGAAGTGCTCAAGGCATTCCGGGAGTTAGAGACCTTG AGGCACGCTGACACCGTCATTGCCGTATCCTATTCTGGAGAAACGGCAGA AACGTTGTTACAGGTTAAGGAATCCCTAAGACAGGGTAAGAGAGTAATTG CTGTGACTAGCGGTGGTACGCTCTCCAGGTTATGCAAAGAGGTAGTGAAA GTTCCTGGAGGGTTACAGCCGAGGTTCGCCTTTCCTCTCTTAATTCATCC AGTCCTGAGGATGACCGTTCAAGGAGATCTTTCGGAGCTGAAAGAGGCTG TTAAGGACATCAGAGGAATGAGGGAACAGTCGAGTTCACTGGCAAATGAA ATGTTCACCAAGATCCCCGTCTTCTACGCCTCAAAGTACCTGGGTGTCGC AAAGAGGTTCAAACAAGAAATAAACGAGAACGCCAAGTACCCAGCCTTCT TTGGCGAGATACCTGAAGTTCATCACAACGAGGTGGAGAGCTACGTTCAC GGGAAGAACCTGTACCCTGTAGTTATAGAGGGAGATAAAGTAGATGAGAT AACATCAAGTCTTTTGAAGGCACGTGCCTTCAAGGTTACAAGACCCCTGT ACGATGTCTCCTACCTGATCGCACTTGCAGGCTTTCTTTCCGTGGAGTTG GCGAGGATGAACGGCGAGGATCCTGAGAGACTTCACGTGATCCCGAAAGC TAGGGAAAGGAGCAAGGAAACCCTTCTGAACCATTAG
A71: =IF(EXACT(H71,"N"),CONCATENATE("R",ROW()),IF(EXACT(H71,"Y"),CONCATENATE("R",ROW()),""))
A72: =IF(EXACT(H72,"N"),CONCATENATE("R",ROW()),IF(EXACT(H72,"Y"),CONCATENATE("R",ROW()),"")) -> R72 | B72: G-G_R01058 | C72: 1 Glyceraldehyde3-phosphate + 1 H2O + 1 NADP = 1 3-Phosphoglycerate + 1 NADPH + 2 Proton | H72: N
A73: =IF(EXACT(H73,"N"),CONCATENATE("R",ROW()),IF(EXACT(H73,"Y"),CONCATENATE("R",ROW()),""))
A74: =IF(EXACT(H74,"N"),CONCATENATE("R",ROW()),IF(EXACT(H74,"Y"),CONCATENATE("R",ROW()),"")) -> R74 | B74: pyruvate_R00199 | C74: H2O + ATP + Pyruvate = Phosphate + AMP + Phosphoenolpyruvate + 2 Proton | D74: 2.7.9.2 | G74: Phosphoenolpyruvate synthase/pyruvate phosphate dikinase | H74: N | I74: 2508723321 | J74: MetMK1DRAFT_00016730 | K74: MYVFSIEHTSSNMVRSVGRKSAYLGELARSGIRVPWGFVVTRAAFRRFME LVRGEINEILRGVNLDDPTDVRRRYETVKDLIASKEMPLDIHLELEQGLR TITSNFVAVRPTITSPMSGPSFAGELDTYLFVEKGEIEHYIKMAWASYFN PRALAYRLASGNVAEIAVLVQEMVEPDSAGTAFTIHPVTKDPNVVVIESS WGLGQAVTKGLVTPDTFVLPKRDRVVKEKIIGHKHLMLKYDPKSKSVVEV PLGGKAMEPSLDNVKAVELANLAIRIEELFGRHVNLEWALSSNKLYILEV RGVRTTWEDL | L74: ATGTATGTTTTCAGCATTGAGCACACGTCCTCAAACATGGTCAGGTCCGT GGGGAGGAAGAGTGCTTACCTTGGTGAACTGGCTAGGTCAGGGATAAGAG TCCCGTGGGGCTTCGTAGTTACAAGGGCCGCGTTCAGGAGATTCATGGAG CTCGTGAGAGGAGAGATAAACGAGATCTTGAGGGGGGTGAACCTAGACGA TCCCACCGATGTGAGGAGGAGGTACGAGACGGTTAAGGACCTTATTGCCT CTAAGGAAATGCCCCTAGACATCCACCTGGAGTTGGAGCAGGGTTTGAGA ACCATAACTTCGAACTTCGTCGCGGTCAGACCTACCATTACGTCACCCAT GTCAGGACCCAGCTTCGCTGGAGAACTGGATACGTACCTGTTCGTGGAGA AGGGGGAAATAGAACATTATATCAAAATGGCTTGGGCCAGCTATTTTAAC CCTAGAGCCTTGGCTTACAGACTTGCCTCCGGCAACGTAGCTGAGATAGC CGTACTTGTCCAGGAGATGGTGGAACCTGATTCTGCGGGCACCGCGTTTA CAATTCATCCCGTCACTAAGGACCCGAACGTTGTGGTCATAGAGTCCTCC TGGGGATTAGGGCAGGCGGTTACCAAAGGTCTGGTGACTCCTGATACTTT CGTCCTTCCCAAGAGGGACAGGGTAGTCAAGGAGAAGATAATAGGTCATA AACACCTTATGTTAAAATACGACCCGAAAAGCAAATCCGTAGTTGAGGTT CCCCTAGGAGGTAAGGCCATGGAACCCAGCCTCGATAACGTGAAGGCAGT GGAACTGGCCAACCTGGCTATACGTATAGAGGAGCTGTTCGGGAGACACG TCAACTTGGAGTGGGCCCTGAGCTCCAACAAGCTATACATATTGGAAGTT AGGGGAGTCAGGACTACGTGGGAGGACCTCTAG
A75: =IF(EXACT(H75,"N"),CONCATENATE("R",ROW()),IF(EXACT(H75,"Y"),CONCATENATE("R",ROW()),"")) | G75: phosphoenolpyruvate synthase | I75: 2508724490 | J75: MetMK1DRAFT_00028420 | K75: LVAQLVKEEGILSFSNIRKEMIDLVGGKGANLGELLSQGIRVPPGFVLTS KAYRYFLDYNNLREKIISILKEEKDSATASSRIKQLILSAEIPPDLEEIT LNAYEELVKQVGKEILVAVRSSATAEDIESASFAGQQDTYLNVERSQLFE KIKLVWASLFNERAIEYRKSKGIDSSKVEMAVVIQKMVNSRSSGVMFTLN PANGDRNFIVIESSWGLGEAVVGGMVTPDEVVISKHDLKIVDRRISKKNL KIIYDPHLKANREVEIQGKESESPSITDEEAIELAKLALKIEKHYEVPMD IEWAIDGDLTFPDNVFIVQARPETFWVSKQSRQEPVTATTGERKVIVKGL AASPGIAMGKARVLLDIKDAKEFKKGEILVTRMTDPDWVPVMKVASAIIT DEGGITSHAAIVSRELGIPAIVGTKDATKLLRTGQEITVDATRGVVYEGR IIAEEPRHEVQQSTGLTGLSRDVLLSLYPVTGTKIYMNLGQPDMIEKYLD LPFDGIGLMRIEFIVSEWIKYHPLYLIKIGKPEEFVNKLAEGIAKVASAI YPRPVVVRFSDFKTNEYRNLIGGEEFEPEERNPMIGWRGVSRYISPQYEP AFRLEVRAVRKAREEMGLKNVWVMFPFVRTTWELKRALSIMGEEGLRRTG EFKAWIMAEVPSVVMMADQFAKIVDGFSIGSNDLAQLTLGVDRDSEILGR MGYYDERDPAVLRSMRRLIRIAHRYGRTVSICGQAPSVYPEVAEFLVKEG IDSISINPDTVIYTRRLVASVEQKLLLNKAR | L75: TTGGTTGCTCAACTCGTGAAAGAAGAGGGTATCCTTTCTTTCTCTAACAT AAGGAAAGAAATGATAGATCTTGTCGGGGGGAAGGGGGCTAACCTCGGCG AACTCCTTAGCCAGGGGATCAGAGTACCCCCTGGCTTTGTTCTCACCTCT AAAGCTTATAGATATTTCCTGGATTATAATAATTTGAGGGAAAAGATAAT CTCTATTTTGAAAGAAGAGAAGGACTCTGCCACAGCGAGCTCTAGGATCA AGCAGTTAATCCTTTCTGCTGAAATTCCGCCAGATTTGGAGGAAATTACA CTAAATGCATACGAGGAGTTAGTAAAGCAAGTGGGTAAGGAAATCCTAGT AGCTGTCAGATCCTCAGCGACAGCTGAGGACATAGAGAGTGCTAGCTTTG CAGGTCAACAGGACACTTATCTTAATGTCGAGAGAAGTCAGCTCTTTGAA AAAATCAAGCTAGTCTGGGCCAGCTTATTCAACGAAAGAGCAATCGAGTA CAGGAAATCAAAGGGGATAGACTCATCTAAGGTGGAGATGGCGGTAGTAA TTCAAAAGATGGTCAATTCGAGATCTTCTGGAGTCATGTTCACCCTGAAC CCGGCCAATGGCGACAGGAACTTCATTGTTATAGAATCGTCTTGGGGTCT CGGGGAGGCTGTGGTTGGAGGCATGGTGACTCCAGATGAGGTAGTTATCT CTAAGCATGATTTGAAGATAGTAGATAGAAGAATTTCAAAGAAGAATTTA AAGATAATCTACGATCCCCACCTCAAGGCTAATAGGGAGGTCGAGATTCA AGGTAAAGAAAGTGAAAGTCCGAGCATAACGGATGAGGAGGCCATAGAGC TAGCTAAGTTAGCACTAAAGATAGAGAAACATTACGAGGTTCCAATGGAC ATTGAGTGGGCAATAGATGGAGATCTCACGTTCCCAGATAACGTTTTCAT TGTTCAGGCCAGACCTGAGACGTTCTGGGTTTCTAAGCAAAGCCGGCAGG AGCCCGTCACGGCTACTACCGGTGAAAGGAAGGTCATAGTTAAAGGATTA GCAGCTAGCCCTGGGATAGCCATGGGTAAGGCAAGAGTTCTCCTCGACAT AAAGGACGCTAAAGAGTTCAAGAAGGGAGAGATCTTAGTCACTAGAATGA CCGACCCAGACTGGGTACCAGTAATGAAGGTCGCTTCGGCCATAATCACC GATGAGGGGGGAATAACGAGTCACGCTGCAATAGTGTCGAGAGAACTCGG AATACCAGCCATAGTCGGCACTAAGGACGCTACTAAACTGTTGAGGACAG GGCAGGAGATAACAGTGGACGCAACCAGAGGAGTGGTTTACGAGGGAAGG ATAATAGCAGAGGAGCCTAGGCATGAAGTTCAGCAATCCACTGGCCTTAC AGGGTTGTCTAGAGACGTTCTCCTAAGCCTTTACCCTGTAACTGGAACTA AGATCTACATGAATTTGGGTCAACCAGATATGATAGAGAAATACTTGGAT CTACCCTTTGACGGAATAGGATTGATGAGGATTGAATTTATTGTAAGTGA GTGGATAAAATATCATCCACTTTACCTTATTAAGATAGGAAAACCTGAGG AGTTCGTAAATAAACTGGCTGAGGGAATAGCTAAAGTCGCCTCAGCGATC TATCCTAGACCTGTTGTGGTCAGATTCTCGGATTTCAAGACCAATGAGTA CAGGAATCTAATTGGTGGAGAAGAGTTCGAACCAGAGGAGAGGAATCCCA TGATAGGTTGGAGAGGCGTCTCCAGATATATCAGTCCTCAATACGAACCG GCCTTCAGGCTAGAGGTAAGAGCGGTAAGGAAGGCCAGGGAGGAAATGGG ACTAAAGAACGTATGGGTGATGTTCCCGTTCGTGAGAACCACATGGGAGC TCAAGAGGGCTTTGAGTATAATGGGGGAAGAGGGGTTGAGGAGGACTGGT GAGTTCAAAGCGTGGATAATGGCTGAAGTACCATCAGTAGTGATGATGGC TGACCAGTTTGCAAAGATTGTTGACGGTTTTAGCATAGGCAGCAACGATC TGGCACAACTCACTCTTGGTGTCGACAGAGATTCGGAGATACTCGGGAGA ATGGGATATTATGACGAGAGGGACCCAGCAGTGCTCAGATCAATGAGGAG ACTAATAAGGATAGCCCACAGGTACGGTAGAACTGTATCCATATGTGGGC AAGCCCCAAGCGTCTACCCTGAGGTGGCAGAGTTCCTGGTAAAAGAGGGA ATAGATAGCATAAGTATCAATCCTGACACGGTGATATATACCAGGAGACT AGTGGCAAGCGTCGAACAGAAGTTACTCCTTAACAAGGCTAGGTGA
A77: =IF(EXACT(H77,"N"),CONCATENATE("R",ROW()),IF(EXACT(H77,"Y"),CONCATENATE("R",ROW()),"")) -> R77 | B77: pyruvate_R00345 | C77: 1 CO2 + 1 H2O + 1 Phosphoenolpyruvate = 1 Oxaloacetate + 1 Phosphate + 1 Proton | D77: 4.1.1.31 | G77: phosphoenolpyruvate carboxylase, archaeal type | H77: N | I77: 2508722961 | J77: MetMK1DRAFT_00013130 | K77: MRKLPRTMSTQHPDNARVPEWARREVIEGDDEVLEAYFAYSSLGVHEVMW DAEGKDVDTHVVRKLFSSFQDYFRENVLGEDIFLTYRLPNPKIEGAERKV FAETMESVPITFDVAEKFYGKRVVPVFEVILPFTTEAMDLISVARYYERA VAAEEDIELYDGVRVRDLVGEIYPKKIEVIPLIEDRDSLFKTGEILEGYF KAVKPSYMRVFIARSDPAMNYGMLSAVLLAKYALSSTEKFSKKVGIPVFP IIGVGSLPFRGHLSPENYIKVSEEYLGVHTFTVQSAFKYDYPQEKVREAI SFLNSLPQREPRILDEREEKILKGIVGKYTSRYQPTIESMADLINRVSLT IPPRRARKLHISLFGYARSTGRVTLPRAITFVGALYSIGIPPEIIGVASL SGLNQEEWEVLGENYKYMRHDLSEASKFFSWNSLDLISSWIGEEVIKSLR EDVKFLEDNLGVRVGPKDYESKKHTLLSELLILALREGRINEAREYIREM AMIRRSIG | L77: ATGAGAAAGTTACCGCGGACCATGTCCACTCAACACCCAGATAACGCCAG AGTTCCAGAGTGGGCTAGGAGGGAGGTAATAGAGGGAGACGATGAAGTGC TAGAGGCCTACTTCGCCTACTCCTCCCTGGGGGTTCACGAGGTTATGTGG GACGCTGAGGGAAAGGATGTAGATACTCACGTAGTGAGAAAACTCTTCTC TTCTTTTCAAGATTATTTCAGAGAGAACGTACTTGGGGAAGACATATTCT TGACCTACAGGCTACCAAACCCAAAGATAGAGGGGGCAGAGAGGAAAGTG TTCGCCGAGACCATGGAGAGCGTACCCATAACCTTCGACGTCGCTGAGAA ATTTTACGGGAAGAGGGTCGTGCCCGTATTCGAGGTCATCCTTCCCTTCA CCACGGAGGCCATGGATCTCATATCCGTGGCGAGGTACTATGAAAGGGCG GTGGCTGCTGAAGAGGACATAGAGCTCTACGATGGAGTTCGCGTGCGAGA TCTAGTGGGTGAGATCTATCCCAAGAAGATTGAGGTGATCCCCCTCATAG AGGACAGGGACTCCCTATTTAAGACCGGGGAGATCTTAGAGGGTTACTTC AAGGCTGTGAAGCCCAGCTACATGAGGGTTTTCATAGCAAGGTCAGATCC AGCCATGAACTACGGAATGTTAAGTGCAGTCCTCCTGGCCAAGTACGCCC TTAGCTCAACAGAGAAGTTCTCCAAGAAGGTCGGTATACCCGTCTTCCCC ATCATAGGAGTGGGCTCGCTCCCCTTCAGGGGACATCTTAGCCCGGAGAA TTATATCAAGGTCTCTGAGGAATACTTGGGGGTCCATACTTTTACTGTCC AATCTGCATTCAAGTACGACTATCCACAGGAGAAGGTGAGAGAGGCCATA TCCTTCCTTAACTCTCTACCGCAAAGGGAGCCAAGGATCCTGGACGAAAG GGAAGAAAAGATTCTCAAAGGGATAGTTGGAAAATATACGTCAAGGTATC AGCCCACAATAGAGTCCATGGCAGACCTCATCAACAGGGTGTCACTCACT ATACCACCCAGGAGGGCCAGGAAGCTCCACATAAGCCTGTTCGGCTACGC CAGGAGCACCGGAAGGGTTACGTTGCCCAGGGCCATCACTTTTGTAGGTG CACTTTACAGTATTGGGATTCCTCCTGAGATAATTGGCGTGGCCTCCTTG TCTGGACTCAACCAGGAGGAGTGGGAGGTCCTGGGGGAGAACTATAAGTA TATGAGACATGATTTAAGCGAAGCCTCTAAGTTCTTCAGCTGGAACTCCC TAGACCTGATATCTAGCTGGATCGGGGAAGAGGTGATTAAGTCCCTGAGA GAGGACGTGAAGTTCCTGGAGGACAATCTGGGAGTAAGGGTAGGGCCTAA GGACTACGAGTCAAAGAAACACACTCTCCTCTCTGAGCTCCTCATCCTAG CCCTCAGGGAGGGGAGAATAAACGAAGCCAGAGAGTACATAAGGGAAATG GCCATGATCAGGAGGTCAATTGGATGA
A79: =IF(EXACT(H79,"N"),CONCATENATE("R",ROW()),IF(EXACT(H79,"Y"),CONCATENATE("R",ROW()),"")) -> R79 | B79: pyruvate_R00216 | C79: 1 L-Malate + 1 NADP = 1 CO2 + 1 NADPH + 1 Pyruvate | D79: 1.1.1.38 | G79: Malic enzyme | H79: Y | I79: 2508723950 | J79: MetMK1DRAFT_00023020 | K79: LEDFGKLALEISAKYKGKIQITPKAPVRSLDDFSVLYTPGVAAVSQEITK DKDLSFRYTYRWNAVAIVTDGSRVLGLGNIGPEAAMPVMEGKALIFKFLG GVDAVPLPLGTSDGDKLVETVKILEPAFGGINLEDIESPKCFYILEKLRS LLNIPVWHDDQQGTAGATLAGLIIALELSGKKSSEVKIVLYGTGAANIAT AHLLNKYGVPYKNMYLIDSAGVLYKGRKDEDKLKTENPWKYELLKETNGE GVTTVEEAFRGADVVIAASRQGPNVIKKEWIRSMADDPIVFALANPVPEI WPSEAKEAGAKIVATGRGDFPNQVNNSLIFPGVFRGALDVRARTITDEMV IEASRELASHVRERGPSLDYIIPKMTEWEIYPRVAAAVAMKALKQGVARR SLSYDELYENARKIIENARNHMSSIA | L79: TTGGAAGACTTCGGTAAACTGGCTCTAGAGATATCTGCCAAGTATAAGGG AAAGATTCAGATAACACCAAAGGCTCCAGTGAGGTCTCTGGATGACTTCT CGGTTCTTTACACGCCTGGAGTGGCCGCGGTTTCCCAAGAGATAACGAAG GACAAAGATCTCTCCTTTCGTTACACATACAGGTGGAACGCTGTAGCCAT AGTTACAGATGGTTCCAGGGTTTTAGGGCTGGGCAACATAGGTCCAGAGG CAGCGATGCCAGTGATGGAAGGGAAGGCCTTGATATTCAAATTCCTAGGG GGCGTGGATGCTGTACCCCTTCCCTTAGGTACATCTGATGGAGACAAGCT AGTAGAAACAGTCAAGATTCTAGAACCTGCATTTGGAGGGATAAATCTCG AGGATATAGAGTCCCCGAAGTGCTTCTATATTCTAGAAAAATTAAGGTCT CTCCTCAACATACCAGTGTGGCACGACGACCAGCAAGGGACTGCAGGAGC AACGTTGGCGGGGCTAATAATAGCCCTTGAGCTTAGTGGAAAGAAGTCCT CTGAGGTCAAGATAGTACTTTATGGGACTGGAGCAGCTAACATAGCTACC GCACATCTCCTAAATAAATATGGTGTACCGTACAAAAACATGTACCTTAT AGATTCCGCGGGAGTCCTTTACAAGGGCAGGAAAGACGAGGATAAGTTAA AGACCGAAAATCCGTGGAAATATGAGTTACTCAAGGAGACTAACGGCGAG GGAGTGACTACAGTGGAGGAAGCGTTTAGGGGAGCGGATGTCGTAATAGC GGCGTCGAGACAAGGTCCCAATGTGATAAAGAAAGAGTGGATAAGATCAA TGGCGGATGATCCCATAGTGTTCGCATTGGCTAATCCAGTCCCAGAGATA TGGCCTTCAGAGGCAAAGGAGGCGGGGGCTAAAATAGTCGCTACAGGAAG GGGAGACTTCCCTAATCAGGTCAACAATTCTCTGATATTTCCAGGAGTGT TCCGAGGAGCTCTAGATGTGAGGGCAAGAACCATCACCGACGAGATGGTC ATTGAGGCATCTAGGGAATTGGCCAGCCACGTTAGGGAGAGAGGACCTTC ACTCGATTACATAATACCCAAGATGACTGAGTGGGAAATATATCCCAGAG TAGCTGCTGCTGTGGCAATGAAAGCATTAAAACAGGGAGTAGCTAGGCGT TCCTTGAGTTATGATGAGCTTTATGAGAACGCGAGGAAAATAATCGAGAA TGCGCGTAATCATATGTCCAGCATAGCTTAA
A80: =IF(EXACT(H80,"N"),CONCATENATE("R",ROW()),IF(EXACT(H80,"Y"),CONCATENATE("R",ROW()),"")) | D80: 1.1.1.40 | G80: Malic enzyme | I80: 2508721842 | J80: MetMK1DRAFT_00001940 | K80: MKSVELSLKYQGKIQVVPKVPIRSYDDFSTIYTPGVAEVVKEISKDRDKS FLLTSRWNMVGIVTDGSRVLGLGDVGPEAAMPVMEGKALLFKYLGGVDAI PLPISARNQDEIVKVVKALEPSLGGVNLEDIESPKCFYVLEKLQESLSIP VWHDDQQGTAGAVLAGLINSLLLTGRGLDVKIVIFGAGAANIATVRLLSS YGFDPRNMVVIDREGVLHAERRDLDWMMFNHRWKYEVAIRTNGENARTVE EAFRGADVLIAASSPGPGVVRKEWVSLMRRPIVFALANPVPEIDPEEAVD AGAQVVATGRSDYPNQVNNSLVFPGVFRGVLDSRASRIDDRMVITASETL AEYARRSGLRRDHIVPRMDEWDFYYEVASAVAEKAVELGYARVKMKREEF RTVARKRIEEARRSVEVLAREG | L80: ATGAAATCTGTGGAACTGTCCCTTAAGTACCAGGGGAAGATACAGGTAGT GCCCAAGGTCCCCATAAGGAGTTACGACGACTTCTCCACCATTTACACTC CCGGTGTGGCGGAGGTGGTCAAGGAGATCTCAAAGGACAGGGATAAGAGC TTCCTCTTGACAAGCAGGTGGAACATGGTCGGTATAGTCACAGACGGCTC AAGGGTACTGGGACTGGGAGACGTAGGACCCGAAGCCGCTATGCCCGTAA TGGAGGGGAAGGCCCTACTATTCAAGTATCTGGGCGGAGTGGACGCGATA CCCTTGCCCATATCTGCAAGGAACCAGGACGAGATAGTGAAGGTGGTGAA GGCCCTGGAACCGTCCCTAGGCGGGGTTAACCTGGAGGACATAGAGAGCC CCAAGTGCTTTTACGTCCTTGAGAAACTTCAGGAGTCCCTCTCCATCCCA GTGTGGCACGACGACCAGCAGGGCACTGCCGGAGCCGTCCTCGCTGGGTT GATAAACTCCCTCCTCCTCACGGGGAGGGGCCTCGACGTCAAGATAGTTA TCTTTGGCGCAGGGGCAGCCAACATAGCCACTGTAAGACTCCTGAGTTCC TACGGCTTCGATCCCAGGAACATGGTAGTTATAGACAGGGAGGGGGTACT ACACGCGGAGAGGAGAGATTTGGACTGGATGATGTTCAACCACAGATGGA AGTACGAGGTGGCCATAAGGACCAACGGAGAGAATGCGAGGACTGTAGAG GAGGCGTTCAGAGGTGCGGACGTGCTCATAGCTGCGTCCTCTCCTGGACC CGGAGTGGTGAGGAAAGAATGGGTCTCCCTCATGAGGAGGCCCATAGTGT TCGCACTGGCCAATCCCGTCCCCGAGATCGACCCTGAGGAAGCTGTGGAC GCTGGTGCCCAGGTCGTAGCCACTGGCAGGAGCGATTACCCCAACCAGGT GAACAACTCCCTGGTGTTCCCAGGAGTTTTCAGGGGAGTGTTGGACAGCA GGGCCTCAAGGATAGACGACAGGATGGTCATAACTGCCTCTGAGACCCTG GCGGAATACGCCAGGAGGTCGGGGTTGAGGAGGGATCACATCGTGCCCAG GATGGACGAATGGGACTTCTATTACGAGGTCGCCTCGGCGGTGGCTGAGA AGGCGGTGGAGTTGGGATACGCCAGAGTGAAGATGAAGAGGGAAGAGTTC AGAACCGTAGCCAGGAAGAGGATAGAGGAGGCGAGGAGGTCGGTGGAGGT GTTAGCCCGTGAGGGTTAG
A82: =IF(EXACT(H82,"N"),CONCATENATE("R",ROW()),IF(EXACT(H82,"Y"),CONCATENATE("R",ROW()),"")) | C82: Pentose Phosphate Pathway
A83: =IF(EXACT(H83,"N"),CONCATENATE("R",ROW()),IF(EXACT(H83,"Y"),CONCATENATE("R",ROW()),"")) -> R83 | B83: PPP_R01641 | C83: 1 Glyceraldehyde3-phosphate + 1 Sedoheptulose7-phosphate = 1 D-Xylulose5-phosphate + 1 ribose-5-phosphate | D83: 2.2.1.1 | G83: Transketolase, C-terminal subunit | H83: Y | I83: 2508724922 | J83: MetMK1DRAFT_00032740 | K83: MLRGSFSSIREAFGKTLVSLGEKDKDIMVITADVGDSSRASYFRERFPDR YFNVGISEQDMVNFAAGLSAVGKKPVVVGFAMFLMRAWEQMRNSIGRMNL NVKVFVTHSGYSDSGDGSSHQALEDIALMRVIPNFKVVVPADAAEVERSM EVVMNDKGPLYYRMGRDYSPPITSTLDYKFEIGKAYVIKEGDDLAIMGAG VVLWDALKAAEELERMGISTAVINVPSIKPIDSSTIEYFARKTGRVLTVE EHSVYGGVGSAIAEVVVKTYPVPIRFIGATTFGRSARSQRELLDYYGITA KNIVNASLELIK | L83: ATGTTGCGAGGCAGTTTCTCCTCAATTCGTGAGGCCTTCGGTAAGACCCT AGTATCGCTGGGGGAGAAGGACAAGGACATTATGGTGATAACCGCAGACG TGGGGGATTCCAGTAGGGCTTCCTATTTCAGGGAGAGGTTCCCTGACAGG TACTTCAACGTAGGGATATCAGAACAGGACATGGTGAACTTTGCTGCAGG TCTCTCGGCCGTGGGCAAGAAGCCGGTGGTGGTGGGTTTTGCCATGTTCC TGATGAGGGCATGGGAACAGATGAGGAACAGTATAGGGAGGATGAACTTG AACGTGAAGGTCTTCGTCACGCACTCCGGATACAGCGACAGCGGAGACGG ATCAAGTCATCAGGCACTTGAGGACATAGCCCTGATGAGGGTGATACCTA ACTTCAAGGTAGTCGTTCCAGCAGACGCGGCTGAGGTCGAAAGGAGCATG GAGGTAGTCATGAACGATAAAGGACCCCTGTACTATAGGATGGGAAGGGA TTACTCTCCACCCATAACGTCGACCTTGGATTACAAGTTCGAGATAGGGA AGGCATACGTCATCAAGGAGGGGGACGATCTCGCCATAATGGGGGCTGGG GTAGTGCTCTGGGATGCCCTCAAGGCCGCAGAGGAGCTGGAAAGGATGGG TATAAGCACCGCAGTGATAAACGTTCCTTCCATCAAGCCCATCGATAGTT CCACCATAGAGTACTTCGCTAGAAAGACGGGGAGGGTGCTTACTGTGGAG GAGCACAGCGTTTATGGAGGAGTCGGGTCAGCCATAGCGGAAGTTGTAGT GAAGACCTATCCAGTTCCCATCAGATTCATAGGGGCCACCACTTTCGGGA GGTCTGCCAGAAGCCAGAGAGAACTCTTGGACTATTATGGAATAACTGCT AAGAACATCGTGAACGCTTCCCTAGAGCTGATAAAATGA
A84: =IF(EXACT(H84,"N"),CONCATENATE("R",ROW()),IF(EXACT(H84,"Y"),CONCATENATE("R",ROW()),"")) -> R84 | B84: PPP_R01830_R01067 | C84: 1 D-fructose-6-phosphate + 1 Glyceraldehyde3-phosphate = 1 D-Erythrose4-phosphate + 1 D-Xylulose5-phosphate | D84: 2.2.1.1 | G84: Transketolase, N-terminal subunit | H84: Y | I84: 2508724923 | J84: MetMK1DRAFT_00032750 | K84: MEKGGSDGIPISLEEINKLKEISNRARRNVIKMQFYDQSIHVGSSLSSIE ILTALMFKVIRYSSDPLNRDWLILSKGHAAPALYALLHEKGLIPEEELWK IQDIAGVLQGHPETFIPGVDMSTGSLGQGLSFGIGVATGIKMAKGTGRVF VIMGDGEQDEGEIWEAMTHAVVRNVDNLVAIIEMNGFQLDASTKEVKPKD FLPEVWRAVGWKVFHCDGHDVASIISTVSEAVNARKPSVIFAETKRGKGF PPIEDTKRQRTVPDVARQFLLNS | L84: ATGGAGAAGGGTGGAAGTGATGGAATTCCAATATCATTAGAAGAAATAAA CAAGCTTAAGGAGATATCCAATAGGGCGAGAAGGAACGTCATTAAGATGC AGTTCTACGATCAGTCTATACACGTTGGTTCATCCCTAAGTAGTATAGAG ATACTTACTGCCCTGATGTTCAAGGTAATAAGGTACTCAAGCGATCCTTT AAATAGAGATTGGTTGATACTAAGTAAAGGCCACGCTGCCCCGGCCCTCT ACGCCCTGTTACACGAGAAGGGTCTGATCCCAGAGGAGGAGTTGTGGAAA ATACAGGACATAGCAGGTGTACTTCAGGGCCACCCAGAGACCTTCATACC TGGAGTTGACATGTCGACTGGTAGCCTGGGTCAGGGGTTAAGCTTCGGCA TCGGGGTGGCAACTGGCATAAAGATGGCCAAGGGAACAGGAAGAGTCTTC GTCATCATGGGAGACGGGGAGCAAGATGAAGGAGAGATATGGGAAGCCAT GACACACGCTGTGGTCAGGAACGTGGATAACCTTGTGGCGATAATAGAAA TGAACGGCTTCCAGTTAGATGCCAGTACCAAAGAGGTGAAACCCAAGGAC TTCTTGCCGGAGGTGTGGAGAGCTGTGGGTTGGAAAGTTTTCCACTGCGA TGGCCATGACGTGGCCAGCATAATCTCGACAGTGAGCGAGGCAGTCAACG CCAGAAAGCCTTCGGTCATATTCGCGGAGACCAAGAGAGGGAAGGGATTC CCTCCCATAGAGGACACCAAGAGGCAGAGGACTGTTCCAGATGTTGCGAG GCAGTTTCTCCTCAATTCGTGA
A86: =IF(EXACT(H86,"N"),CONCATENATE("R",ROW()),IF(EXACT(H86,"Y"),CONCATENATE("R",ROW()),"")) -> R86 | B86: PPP_R01529_assumed | C86: D-Ribulose5-phosphate = D-Xylulose5-phosphate | D86: 5.1.3.1 | G86: assumed | H86: Y
A88: =IF(EXACT(H88,"N"),CONCATENATE("R",ROW()),IF(EXACT(H88,"Y"),CONCATENATE("R",ROW()),"")) -> R88 | B88: PPP_R01056 | C88: 1 ribose-5-phosphate = 1 D-Ribulose5-phosphate | D88: 5.3.1.6 | G88: ribose 5-phosphate isomerase | H88: Y | I88: 2508723905 | J88: MetMK1DRAFT_00022570 | K88: MEDPKAIVARHALKYIGDAKLVGLGTGRTVRKLIEVLQEAGLLNGKKVVA SSLDTELLIAKAFPDSVLSLVSGSIPDVYFDSFDQLVKGGNSWTLVKGGG GALLREKVLSYSSRRRVFLGEKSKLWEGRTIKVPIEVVPVALSYVLRGLE NMKVVAEVREGTGKIGPVLTDNGNVVMDVVVETKDLCHLDKRLKSIPGVI ETGVFCEELYDVIILGDPTGNVEIVEKSRS | L88: ATGGAGGATCCAAAAGCGATAGTAGCTAGACACGCGCTTAAGTATATTGG AGACGCCAAGTTAGTAGGTCTGGGCACAGGTAGGACAGTAAGGAAGTTAA TTGAAGTCTTACAAGAGGCTGGTTTACTTAATGGCAAGAAAGTGGTGGCG AGCTCCCTAGATACTGAACTCCTGATAGCTAAAGCGTTTCCAGACTCTGT TTTGTCACTCGTTTCAGGTTCGATTCCTGACGTATATTTCGATAGTTTTG ATCAGTTAGTGAAAGGGGGGAACTCTTGGACCCTGGTAAAGGGAGGTGGA GGGGCATTACTTAGGGAAAAGGTTCTCTCTTACTCCTCTAGGAGGAGAGT GTTCCTAGGTGAGAAGAGTAAATTGTGGGAAGGCCGTACAATAAAGGTAC CAATAGAGGTTGTTCCGGTTGCCCTTTCCTACGTTCTTAGAGGCCTGGAA AACATGAAGGTAGTGGCAGAAGTGAGAGAAGGAACGGGGAAAATAGGTCC TGTCCTCACTGATAATGGAAATGTGGTTATGGATGTCGTTGTGGAAACGA AGGATTTGTGTCATCTTGATAAGAGACTGAAGAGTATACCAGGAGTAATA GAGACGGGGGTGTTCTGTGAAGAGCTTTACGATGTCATCATTTTAGGAGA TCCGACCGGAAATGTGGAGATCGTGGAAAAGAGCAGAAGCTGA
A90: =IF(EXACT(H90,"N"),CONCATENATE("R",ROW()),IF(EXACT(H90,"Y"),CONCATENATE("R",ROW()),"")) -> R90 | B90: PPP_R01049 | C90: 1 ATP + 1 ribose-5-phosphate = 1 AMP + 1 Proton + 1 PRPP | D90: 2.7.6.1 | G90: ribose-phosphate pyrophosphokinase | H90: N | I90: 2508724599 | J90: MetMK1DRAFT_00029510 | K90: MIIVGGTSTNGVDGRLSKLTGYPLVKVESKLFPDGESYIRIPASLDGEEV VLVQTTQPPQNKNLLELLLTLEAIRDMGATKITAVVPYLAYLRQDRRFTD GEALSAKTILNLIHAAGANTLVVVEPHHRESMDYFPGEVRIVDPIPSLAR EARKRVERPFVLAPDRGALERAERLAKELETNFSFLEKERDRKTGEVRIR QADIPPLNGYDVILVDDIISTGGTLAEASRIAYSSGARSVISVAVHLLLV RDAMNRLREAGIREVIGTNTVVPEERVTLVDVSDQIAVRL | L90: ATGATAATAGTAGGCGGGACGTCAACTAACGGCGTTGACGGTAGGCTCTC CAAGCTAACTGGATACCCTCTGGTGAAGGTTGAGTCTAAGCTCTTCCCTG ACGGGGAGTCGTACATCAGGATACCAGCCAGCTTGGACGGCGAGGAGGTT GTCCTGGTTCAGACCACACAACCTCCACAGAACAAGAACCTCCTGGAACT ACTCCTGACCCTTGAGGCCATAAGAGACATGGGGGCGACGAAGATCACCG CAGTTGTCCCCTACCTTGCTTACCTGAGGCAGGACAGGAGGTTCACAGAT GGAGAAGCTTTGAGTGCAAAGACTATCCTCAATCTCATCCACGCAGCTGG TGCAAACACCCTGGTGGTGGTAGAACCCCACCACAGGGAGTCCATGGACT ATTTCCCAGGAGAAGTGAGGATCGTAGATCCTATTCCCTCCCTGGCCAGG GAGGCTAGAAAGAGAGTAGAGAGACCCTTCGTGCTGGCCCCAGATAGGGG AGCTCTGGAGAGGGCTGAGAGGTTGGCCAAGGAGCTTGAGACAAACTTCT CCTTCCTAGAGAAGGAGAGGGACAGGAAGACTGGAGAAGTTAGGATAAGA CAGGCTGACATACCCCCCCTCAACGGTTACGACGTAATCCTGGTAGACGA CATAATAAGCACTGGGGGAACCCTGGCTGAGGCGAGCAGGATTGCTTACT CCTCCGGGGCCAGAAGCGTCATAAGTGTTGCAGTCCACCTACTCCTAGTT CGGGATGCCATGAACAGGTTAAGAGAGGCCGGAATCAGAGAGGTTATAGG TACCAACACGGTCGTGCCTGAGGAGAGGGTAACACTAGTTGACGTATCCG ACCAGATAGCAGTGAGATTATAA
A92: =IF(EXACT(H92,"N"),CONCATENATE("R",ROW()),IF(EXACT(H92,"Y"),CONCATENATE("R",ROW()),"")) -> R92 | B92: PPP_hexulose-6-phosphate_synthase | C92: 1 3-hexulose-6-phosphate = 1 D-Ribulose5-phosphate + 1 formaldehyde | D92: 4.1.2.43 | H92: N
A94: =IF(EXACT(H94,"N"),CONCATENATE("R",ROW()),IF(EXACT(H94,"Y"),CONCATENATE("R",ROW()),"")) -> R94 | B94: PPP_hexulose-6-phosphate_isomerase | C94: 1 D-fructose-6-phosphate = 1 3-hexulose-6-phosphate | D94: 5.3.1.27 | H94: Y
A96: =IF(EXACT(H96,"N"),CONCATENATE("R",ROW()),IF(EXACT(H96,"Y"),CONCATENATE("R",ROW()),"")) -> R96 | B96: PPP_ec_4.1.2.-_assumed | C96: 1 sedoheptulose-1_7-bisphosphate = 1 D-Erythrose4-phosphate + 1 DHAP | D96: 4.1.2.- | G96: assumed | H96: Y
A98: =IF(EXACT(H98,"N"),CONCATENATE("R",ROW()),IF(EXACT(H98,"Y"),CONCATENATE("R",ROW()),"")) -> R98 | B98: PPP_ec_3.1.3.37 | C98: 1 H2O + 1 sedoheptulose-1_7-bisphosphate = 1 Phosphate + 1 Sedoheptulose7-phosphate | H98: N
A99: =IF(EXACT(H99,"N"),CONCATENATE("R",ROW()),IF(EXACT(H99,"Y"),CONCATENATE("R",ROW()),""))
A100: =IF(EXACT(H100,"N"),CONCATENATE("R",ROW()),IF(EXACT(H100,"Y"),CONCATENATE("R",ROW()),"")) -> R100 | B100: BCAA_syn_R00996 | C100: 1 L-Threonine = 1 2-Oxobutyrate + 1 NH3 + 1 Proton | D100: 4.3.1.19 | G100: threonine dehydratase, medium form | H100: N | I100: 2508723928 | J100: MetMK1DRAFT_00022800 | K100: MNIQEIQSLIFKVRQQIAGSIHETPVDFSSTFSKMSGSKVYLKLENLQKT GSFKVRGAFSKLLNISQEERRRGVIAVSAGNHAQGVAYASKMLGIRSVIV MPETAPVSKYNAARNYGAEVILYGRYIHESMKKAEELIHQQNLTLIHPYD DPYVIAGQGTLGVEIASQDPDIVIVPVGGGGLISGISLALKALNKPTRII GVQSYASPSLKISKDLGRLTEVEPSYSIADGILVKSPSLTTFEVVREYVD DIVLVDDEEIATSLVLLLERSKTVVEPAGAASLAALLSGKVKAEGKKVIT VLSGGNIDMSLMARIVDKTLYKTKRIVKVKVMVPDKPGYLNKVLSYVAQI RGNVIDVIHDRISSDVRPGYTKIYVMFEVAEQEALGTFLTKLQSENIEAR LIE | L100: ATGAACATCCAAGAAATACAATCTCTGATCTTTAAGGTCAGACAACAGAT AGCTGGATCAATTCATGAGACCCCGGTCGACTTTTCCTCTACATTCTCTA AAATGAGTGGTTCAAAGGTATATTTGAAATTAGAGAACCTTCAGAAGACT GGGTCCTTTAAGGTACGTGGTGCCTTCAGTAAACTGTTAAACATCTCTCA GGAAGAAAGAAGGAGGGGAGTCATAGCAGTCTCAGCGGGGAACCACGCAC AAGGCGTAGCATACGCCTCAAAAATGCTAGGGATAAGATCGGTGATCGTT ATGCCCGAAACGGCCCCCGTATCTAAGTATAACGCTGCGAGGAACTATGG GGCCGAGGTTATACTTTACGGAAGATATATCCACGAGAGCATGAAAAAGG CAGAGGAGCTAATTCATCAACAGAATCTTACACTCATTCATCCCTATGAC GACCCCTACGTCATAGCAGGGCAGGGAACCCTGGGAGTCGAGATCGCATC GCAAGATCCAGACATTGTTATAGTGCCCGTAGGGGGAGGGGGCCTGATCT CTGGCATCTCTTTAGCGCTCAAAGCCTTAAACAAACCAACCAGAATAATA GGTGTTCAATCGTATGCCTCTCCATCTTTGAAAATATCTAAAGACTTAGG CAGACTTACTGAAGTGGAACCCTCTTATTCAATAGCTGACGGAATATTGG TCAAGTCACCCTCCCTCACTACCTTTGAGGTAGTGAGGGAATACGTCGAT GACATAGTACTCGTGGACGATGAGGAAATAGCAACTTCCTTGGTTCTCTT ACTAGAGCGGTCTAAAACAGTAGTAGAGCCCGCAGGCGCAGCGTCCCTAG CTGCACTTCTATCTGGAAAGGTGAAAGCTGAGGGTAAGAAGGTCATAACG GTGTTAAGCGGAGGAAATATTGACATGTCTCTTATGGCGAGGATAGTCGA TAAGACACTCTATAAAACTAAGAGGATAGTCAAGGTCAAAGTCATGGTTC CTGACAAACCTGGTTACTTGAATAAGGTTCTGAGCTACGTAGCCCAAATT AGAGGTAACGTGATAGACGTGATTCACGATAGGATCAGTAGCGATGTGAG GCCTGGATATACAAAAATTTACGTTATGTTTGAGGTCGCTGAGCAGGAGG CTTTGGGTACCTTCCTCACGAAACTTCAGAGTGAAAACATAGAGGCCAGG CTGATAGAGTAG
A102: =IF(EXACT(H102,"N"),CONCATENATE("R",ROW()),IF(EXACT(H102,"Y"),CONCATENATE("R",ROW()),"")) -> R102 | B102: BCAA_syn_R03194 | C102: 1 2-Hydroxyethyl-ThPP + 1 2-Oxobutyrate = 1 2-Aceto-2-hydroxybutanoate + 1 TPP | D102: 2.2.1.6 | G102: Thiamine pyrophosphate-requiring enzymes [acetolactate synthase, pyruvate dehydrogenase (cytochrome), glyoxylate carboligase, phosphonopyruvate decarboxylase] | H102: N | I102: 2508722376 | J102: MetMK1DRAFT_00007280 | K102: MEMVRLNGAEFVIEYFKRGGIKHVFGIPGHGNAAIVDVIYDMSKDIEFVP VKHEQYGGHMADGYFRVTRKTPAIVTTSVGPGATNLATALATAYVDSSTF IAITGDIQTYLLGKGIFQEVERQFQSDYVNAMRHFTKRSYFVSTVSQLHN VLPNAFKEAVVGRPGPVLISMPMDVQTAPLDVEFREVPMVTDVGRICPDQ TKVLEASKILVRAERPLILVGGGVVMSGASEEVVKLAELLGAPVASTFRG DAKGGFPEDHELYVFSVGNIGNPVANKLAAEADVILAVGVTFSDETTSSY KKGITFNIPPTKLIQIDIDPHEIGKNYPVEVGIWGDAKVTLQQIINYMME LGKKGNYRETEYFKRISQMKKEWLEEMERLREAAPMGIPSVAKTLRETLP QESVITLSAGLPQEIFSQLWISYKPRTFISSGGFSTMGFALPAAIGAKLA LKDTPVIAVEGDGSFLMNNVELLTASQLELPVIAVILNNYGWISIRDLQI RNFQGRIIGTEFKDRKNELKAPDFEKVAKAYGANYLRAESVEQIRSSVRQ ALTSSDTPTVVEIPVETKFPYSGTKAYGFWDIPRRS | L102: ATGGAAATGGTGAGATTAAACGGAGCCGAATTCGTTATCGAATATTTCAA ACGAGGTGGTATAAAACACGTGTTCGGCATTCCTGGTCACGGAAACGCGG CCATAGTGGACGTAATTTACGATATGAGTAAGGACATAGAGTTCGTGCCA GTGAAACACGAGCAGTACGGAGGTCATATGGCTGACGGTTACTTTAGGGT AACTAGGAAGACTCCAGCCATAGTAACTACTTCTGTAGGCCCTGGTGCCA CCAATTTGGCCACTGCCCTAGCAACGGCATACGTTGATTCCTCCACGTTT ATTGCCATAACTGGAGATATTCAGACCTACCTGTTGGGGAAGGGCATCTT CCAGGAAGTGGAAAGGCAATTCCAAAGCGATTACGTGAATGCGATGAGGC ACTTTACCAAGAGATCCTATTTCGTATCAACTGTCTCTCAGCTGCACAAC GTACTCCCCAACGCATTTAAGGAAGCGGTAGTGGGAAGACCAGGTCCGGT GTTAATATCTATGCCTATGGACGTTCAGACCGCCCCCTTGGATGTGGAGT TCAGGGAGGTTCCTATGGTAACTGACGTAGGGCGAATATGCCCAGATCAG ACTAAGGTCCTTGAAGCCTCAAAGATACTGGTCAGGGCTGAGAGACCACT CATACTAGTAGGCGGAGGAGTGGTGATGTCTGGAGCCAGTGAGGAAGTTG TGAAGCTGGCAGAGCTCCTAGGTGCACCAGTAGCTTCTACGTTCAGGGGA GATGCTAAGGGTGGTTTCCCGGAGGATCATGAACTGTACGTCTTTTCTGT AGGTAACATAGGCAATCCTGTAGCAAACAAGTTGGCAGCAGAAGCTGATG TGATATTAGCTGTCGGTGTTACGTTCAGTGACGAGACTACAAGTTCATAC AAGAAGGGAATAACGTTCAATATACCACCCACGAAGCTCATACAGATCGA CATAGACCCGCACGAGATAGGAAAGAACTATCCCGTGGAAGTAGGAATCT GGGGTGACGCCAAAGTGACTCTTCAACAGATAATTAATTACATGATGGAA CTGGGCAAGAAAGGTAACTACAGGGAAACCGAGTACTTTAAGAGAATTTC TCAGATGAAGAAGGAGTGGTTGGAGGAAATGGAAAGATTGAGGGAGGCCG CCCCAATGGGGATACCCAGCGTGGCGAAGACCCTTAGGGAAACTCTTCCA CAAGAGAGTGTAATCACCCTGAGCGCAGGTCTTCCTCAGGAGATATTCTC TCAACTTTGGATCTCCTATAAACCTAGGACTTTCATAAGCTCCGGAGGGT TCTCCACCATGGGTTTCGCCTTACCTGCGGCCATAGGGGCTAAACTCGCC CTGAAGGACACCCCAGTTATAGCCGTAGAGGGAGATGGCTCATTTCTTAT GAACAACGTTGAACTATTAACGGCATCACAACTGGAATTACCTGTGATAG CAGTAATATTAAATAATTACGGTTGGATATCTATAAGAGATTTACAGATA CGTAACTTTCAAGGTAGAATAATAGGGACAGAATTTAAGGACAGGAAGAA CGAGCTCAAGGCACCTGACTTCGAGAAGGTGGCCAAAGCGTATGGGGCTA ACTACCTTAGGGCCGAGAGCGTGGAGCAAATACGTTCATCCGTCAGGCAG GCACTTACGTCCAGTGACACACCTACAGTTGTAGAAATTCCAGTGGAAAC TAAGTTTCCATACAGTGGCACCAAGGCGTATGGGTTTTGGGACATACCCA GGAGATCATAA
A103: =IF(EXACT(H103,"N"),CONCATENATE("R",ROW()),IF(EXACT(H103,"Y"),CONCATENATE("R",ROW()),"")) | G103: Thiamine pyrophosphate-requiring enzymes [acetolactate synthase, pyruvate dehydrogenase (cytochrome), glyoxylate carboligase, phosphonopyruvate decarboxylase] | I103: 2508722389 | J103: MetMK1DRAFT_00007410 | K103: MSENPDSSGSDVRSATYVFLRELKERGVDKLFMVSGTDYAAFIEEKSKDV RNELPDFFLVPHEITAAAAAMGYSIGGKIGAVAVHTTPGTANALGMIMNA HGSKIPLLIIAGRSPYTERGSPASRNLRIHWLQECRDQGEMVRQWVKWDF EIRTADQIPETVSRAIQLALSEPQGPVYVTLPREVSIEKIRPRRTRASVY EPGPSRKALDLSVNLINRAENPVIITWRAGKKKDWFESLKAFADRVGIPV LNYVGEYVNYPSSGISALDNYDLSKVDLVITVEVDVPWIPKYIDVNAKVI RVDTDPGFASIPFYGFPCDVCIQSTPSEFFDQILYRVKPKEWNKEQLKEL KEKQEDSKRKEIERLSDKSPIHPRYLSYKIGELGLAIMNEYTFNPRYAKL DRFNSYFGPPAVGTLGWAIGAAIGYKLATGNDVIATVGDGSFIFGVPDAF YYASLKVPVMVVIYDNGGWYASALAVKEVFPEGNAVKNNRYPGADFEYRM RLGESITSYGGFYKLVEDPQELDEALKMGADYVTSKNKPAIIQVITERDR | L103: ATGAGTGAAAATCCCGATAGTTCTGGATCCGACGTGAGGAGCGCGACCTA TGTGTTCTTAAGGGAATTGAAGGAACGCGGCGTAGATAAGCTCTTCATGG TATCTGGAACTGATTACGCTGCTTTCATTGAGGAGAAATCCAAGGATGTA AGGAACGAATTACCTGACTTTTTCCTAGTGCCCCACGAAATAACCGCTGC TGCAGCGGCTATGGGGTATTCCATTGGGGGAAAGATTGGGGCAGTGGCAG TTCATACCACGCCTGGGACCGCTAACGCATTGGGTATGATAATGAACGCC CATGGCTCTAAGATCCCACTACTGATAATAGCTGGAAGGTCACCTTACAC TGAGAGGGGGTCTCCAGCCAGTCGTAACTTGAGGATTCACTGGCTTCAGG AATGCAGAGATCAAGGAGAAATGGTTAGACAGTGGGTTAAGTGGGACTTC GAGATAAGGACTGCAGATCAGATACCAGAAACCGTGTCCAGGGCAATTCA GCTTGCCTTGAGTGAACCACAGGGCCCAGTATATGTGACTTTGCCTAGGG AAGTTAGTATTGAGAAGATCAGACCTAGGAGAACCAGGGCCTCAGTATAT GAGCCCGGTCCTTCAAGGAAGGCGTTGGACTTATCCGTTAATCTTATAAA TAGAGCCGAAAACCCAGTTATAATAACGTGGAGAGCAGGCAAGAAGAAGG ACTGGTTTGAGTCCCTGAAGGCCTTTGCTGACCGCGTGGGTATTCCGGTG CTAAATTACGTTGGAGAGTATGTAAATTACCCCTCTTCAGGCATCTCGGC CCTAGATAACTACGATCTGTCCAAGGTAGATCTAGTGATAACTGTGGAGG TTGACGTACCTTGGATACCAAAGTATATTGACGTCAATGCGAAAGTGATA AGAGTAGATACTGATCCAGGTTTCGCGTCTATCCCATTCTACGGGTTTCC TTGTGATGTCTGTATCCAATCCACTCCATCAGAATTCTTTGATCAGATAT TATATAGGGTTAAACCTAAGGAGTGGAATAAGGAACAATTGAAAGAACTT AAGGAGAAGCAGGAAGACTCTAAGAGAAAAGAGATAGAAAGGCTTTCCGA CAAGTCTCCCATACATCCAAGGTATCTCTCGTATAAGATAGGGGAACTAG GATTAGCCATAATGAACGAATATACGTTTAACCCAAGATATGCCAAGTTG GATCGTTTTAACTCCTATTTCGGTCCACCGGCAGTAGGTACCCTAGGGTG GGCAATAGGTGCTGCAATAGGGTATAAACTCGCAACGGGAAATGACGTAA TAGCTACAGTGGGAGACGGCTCCTTTATATTCGGCGTTCCAGATGCCTTC TACTACGCATCACTGAAAGTTCCTGTGATGGTAGTCATATATGATAATGG CGGATGGTACGCCTCTGCCCTGGCCGTGAAGGAAGTGTTTCCAGAAGGCA ATGCGGTCAAAAATAACCGTTATCCTGGTGCTGACTTCGAGTACAGAATG AGACTTGGAGAATCCATAACGAGTTACGGCGGTTTCTACAAACTCGTGGA GGATCCTCAAGAACTGGATGAGGCCCTTAAGATGGGAGCAGACTATGTTA CCTCTAAAAACAAGCCGGCAATAATTCAAGTAATAACGGAACGGGACAGG TAG
A104: =IF(EXACT(H104,"N"),CONCATENATE("R",ROW()),IF(EXACT(H104,"Y"),CONCATENATE("R",ROW()),"")) | G104: Thiamine pyrophosphate-requiring enzymes [acetolactate synthase, pyruvate dehydrogenase (cytochrome), glyoxylate carboligase, phosphonopyruvate decarboxylase] | I104: 2508723242 | J104: MetMK1DRAFT_00015940 | K104: MTTQTEEERSGASILLQALRREGVDKIFMVSGTDYAAFIEEKVRDHSLPD FVIVPHEITAASAALGYSLGGKLGAVAVHTVPGTANSLGIIANAFTSRIP LIVIAGRSPYTEEGSTASRNLRIHWTQEARDQGGLVRQYVKWDFEVRRAS QMEVAVMRALQIARSEPQGPVYLVIPREVSVERSSSRRVPMDPYEPGPSP SALRRIEELIRESEKPAIITWRAGRRESWYASLQRFAEKLGAPVLHYVGE VVNYPSTGGMALDRLDLSEPDLLIVVESEVPWIPKKVRVNAKVIKVDVDP SYSYIPYYGFRCDVCLQATPEALDMVRVDARDKWRDEIKERVEKRREEKA KELERLRSGKKIHPRLLSHLVSKLGGVIFNEYPFNPRYANLSYGQYFGDL SEGHLGWSLGAAFGYRVATGREVIATVGDGSFIFGVPEAFYHACASYGLP VLVVIYDNGGWLASAEAVDEVFPEGLAKAKSLYPGADFKRYNIGETVKAF GGYFRLVEMVDEVEESLREGWRSVKAGQIAVVQVIVERTR | L104: ATGACCACTCAGACGGAGGAGGAGAGGAGCGGTGCATCGATCCTGCTCCA GGCACTGAGGAGGGAAGGGGTTGACAAGATATTCATGGTCTCCGGAACCG ACTATGCTGCCTTCATTGAGGAGAAAGTGAGAGATCACTCCCTTCCGGAC TTCGTGATAGTCCCTCACGAGATCACTGCAGCTTCTGCGGCTCTGGGATA CTCCCTGGGAGGAAAGTTGGGAGCGGTAGCTGTCCACACAGTCCCTGGGA CTGCGAACTCGTTGGGGATAATAGCTAACGCCTTCACCAGCAGGATACCC CTCATCGTAATAGCCGGTAGGTCACCCTACACCGAGGAGGGAAGTACAGC CAGCAGGAACTTGAGGATTCATTGGACGCAGGAGGCCAGGGATCAAGGAG GTCTCGTCAGGCAATACGTTAAGTGGGACTTCGAGGTTAGGAGAGCGTCG CAAATGGAGGTGGCAGTGATGAGAGCCCTACAGATCGCCAGGAGCGAACC ACAAGGACCAGTATATCTCGTAATACCCAGGGAAGTGAGCGTGGAGAGAT CCTCCTCAAGGAGAGTTCCCATGGATCCCTACGAACCGGGCCCCTCTCCC TCAGCCCTGAGAAGGATAGAGGAATTGATAAGGGAGTCTGAGAAGCCTGC CATCATCACTTGGAGGGCTGGGAGGAGGGAAAGTTGGTATGCCTCGCTTC AGAGATTCGCCGAGAAACTGGGGGCCCCGGTCCTGCACTACGTGGGGGAA GTGGTGAACTATCCCTCCACGGGAGGGATGGCCTTGGATAGGTTGGATCT CTCTGAGCCAGACCTACTCATCGTAGTGGAGTCTGAGGTTCCCTGGATAC CCAAGAAGGTCAGGGTAAACGCAAAGGTGATAAAGGTCGACGTTGATCCC TCGTACTCCTATATACCATATTACGGTTTCAGGTGTGACGTCTGTCTTCA GGCGACTCCTGAGGCGCTTGACATGGTCAGGGTCGACGCCAGGGATAAGT GGAGGGACGAGATCAAGGAGAGGGTGGAGAAGAGGAGAGAGGAGAAGGCG AAGGAATTGGAGCGATTACGGTCTGGAAAGAAGATACACCCCAGGTTACT GTCCCACTTGGTGTCCAAGCTTGGGGGTGTAATATTCAACGAGTACCCCT TCAACCCCAGGTACGCAAACCTCTCTTACGGCCAGTACTTCGGCGATCTG TCTGAGGGGCACCTGGGTTGGAGTCTGGGAGCGGCCTTCGGTTACAGGGT AGCTACGGGACGTGAAGTGATAGCGACTGTGGGAGACGGCTCCTTCATCT TCGGGGTACCGGAGGCCTTCTATCACGCATGTGCCTCTTACGGTTTACCT GTGCTGGTGGTGATTTACGATAACGGCGGTTGGCTAGCCTCTGCTGAGGC TGTGGACGAGGTCTTCCCGGAGGGCTTAGCTAAGGCTAAGTCACTCTATC CCGGAGCTGACTTCAAGAGGTATAATATAGGTGAGACCGTGAAGGCTTTC GGGGGTTACTTCAGGTTAGTGGAGATGGTGGACGAGGTGGAGGAGTCTCT ACGCGAGGGTTGGAGGAGCGTTAAGGCAGGGCAAATAGCAGTAGTCCAGG TGATAGTGGAGAGGACCAGGTAA
A105: =IF(EXACT(H105,"N"),CONCATENATE("R",ROW()),IF(EXACT(H105,"Y"),CONCATENATE("R",ROW()),"")) | G105: acetolactate synthase, large subunit, biosynthetic type | I105: 2508724864 | J105: MetMK1DRAFT_00032160 | K105: MLPSGARLVVDALKREGVSTIFGIPGLTNMPIYDAFLEDLQNGELRHVLM RHEQAAAHAADGYARASGKPGVCTATSGPGATNLVTGMVTAYWDSSPVVA ITGQVVRSVIGKMAFQEADTPGIFANATKYVVQVKNIHEIPLWIKNAFFI ATTGRPGPVVVDIPRDVQLEKVDDVKWPEKPNVKGYRPFRTIIDTVKIKR AAEILIEAERPIILAGTGAVWSNSTPEILELSELLGIPMVSTLPGKSAIP HDHPLFLGAMGYYGRAEASMAALESDAMLIVGARLSDRTFTSYDEMVETR KKFIMINIDPTDSERAFKIDVPLYGDAKVLLREIISAVRLVGRKKDNTAW IRRVKELRDYYSQYYYHEEDGKLKPWKILKTIRNAIPRDAIVTTGVGQHQ MWSEVFWEVLEPRTFLSSTGMGTMGFGLPAAMGAKMARPDKVVVDLDGDG SFLMTGNNLATAVDEHIPVIAVIFDNRTLGLVRQVQDLFQSKRVVGVDYG PSPDFVKLAEAYGALGFNATSYDEISRSINIAIKENVPAVIRVPIDKEEL ALPTLPPGGKLKQVIVRDPRKGS | L105: ATGTTGCCCAGCGGAGCTAGGCTAGTAGTTGACGCTCTCAAAAGGGAAGG AGTAAGTACCATATTCGGTATCCCCGGACTCACGAATATGCCCATCTATG ACGCCTTCCTGGAGGACCTTCAAAATGGTGAGTTGAGACATGTACTAATG AGACATGAACAGGCAGCAGCTCACGCTGCAGACGGTTACGCTAGAGCCTC AGGGAAACCCGGCGTATGTACGGCGACTTCTGGACCCGGTGCCACTAACC TCGTGACAGGGATGGTCACGGCTTATTGGGACAGTTCCCCGGTCGTTGCA ATAACCGGACAAGTAGTTAGGTCTGTAATAGGAAAGATGGCGTTCCAAGA GGCTGACACACCAGGTATATTCGCTAACGCCACGAAGTATGTGGTCCAGG TCAAGAACATCCACGAAATACCTCTCTGGATCAAGAACGCCTTCTTCATC GCCACCACAGGGAGACCTGGACCGGTAGTGGTAGATATCCCGAGGGATGT CCAGTTGGAGAAGGTAGATGATGTGAAGTGGCCAGAGAAGCCCAACGTCA AAGGCTATAGACCTTTCAGAACGATAATAGATACGGTTAAGATAAAGAGG GCAGCAGAGATTTTAATTGAGGCAGAGAGGCCCATAATTCTCGCCGGGAC CGGTGCGGTTTGGTCTAACTCGACCCCAGAGATCCTAGAGCTCTCCGAGC TTCTGGGAATCCCCATGGTCTCAACTCTACCTGGGAAGTCGGCCATACCT CACGATCATCCCCTGTTCCTTGGGGCCATGGGCTACTACGGGAGGGCAGA GGCCTCTATGGCGGCACTGGAGTCTGATGCCATGCTCATCGTTGGGGCGA GGCTGAGCGATAGAACTTTCACCTCCTACGACGAGATGGTGGAGACTAGA AAGAAATTCATAATGATAAACATAGATCCCACGGACTCAGAGAGGGCCTT TAAGATAGACGTCCCACTGTATGGAGATGCCAAGGTCTTACTGAGGGAGA TAATAAGTGCAGTTCGCTTGGTCGGCAGAAAGAAAGATAACACGGCGTGG ATCAGAAGAGTCAAAGAGCTTAGGGATTATTACTCTCAGTATTACTATCA CGAAGAGGACGGAAAGCTGAAACCGTGGAAGATACTCAAGACCATAAGGA ACGCCATTCCGAGAGACGCCATAGTCACCACGGGCGTGGGACAGCACCAG ATGTGGTCAGAGGTGTTTTGGGAAGTCTTAGAACCTAGGACCTTCCTTTC CTCCACAGGGATGGGAACCATGGGTTTCGGTTTACCTGCCGCCATGGGAG CTAAGATGGCGAGGCCTGACAAGGTAGTGGTGGATCTGGACGGAGATGGT TCTTTCCTGATGACAGGAAATAACTTAGCCACGGCTGTGGATGAGCACAT CCCAGTCATCGCTGTGATATTCGACAACAGGACACTGGGACTGGTCAGAC AGGTCCAAGATCTATTCCAGAGCAAGAGGGTAGTGGGTGTCGACTACGGT CCATCTCCAGACTTCGTTAAGTTAGCTGAGGCCTACGGAGCTTTAGGCTT CAACGCCACTAGCTACGACGAGATCTCGAGATCCATAAACATAGCCATTA AGGAGAACGTTCCTGCAGTGATCAGGGTACCTATAGATAAGGAAGAGCTG GCTCTCCCAACCCTTCCACCAGGAGGAAAACTGAAGCAGGTGATAGTGCG TGACCCAAGGAAAGGTAGTTAG
A106: =IF(EXACT(H106,"N"),CONCATENATE("R",ROW()),IF(EXACT(H106,"Y"),CONCATENATE("R",ROW()),""))
C107: Amino Acid Synthesis
A108: =IF(EXACT(H108,"N"),CONCATENATE("R",ROW()),IF(EXACT(H108,"Y"),CONCATENATE("R",ROW()),"")) -> R108 | B108: BCAA_syn_R05069_R05068 | C108: 1 2-Aceto-2-hydroxybutanoate + 1 NADPH + 1 Proton = 1 2_3-Dihydroxy-3-methylvalerate + 1 NADP | D108: 1.1.1.86 | G108: ketol-acid reductoisomerase | H108: N | I108: 2508724866 | J108: MetMK1DRAFT_00032180 | K108: VSRIAKIYVDSEVRLDPLKGKKIAVLGYGSQGRAWALNLRDSGLDVTVGL EREGKSWQQAQADGFHPKKTEDAVKGADVVIFLVPDMVQRFIYREHVQPN LKPGMDLVFAHGFNIHYRLIEPPQNVDVYMVAPKGPGPIVRDFFVKGGGV PVLVAVHQNYSGRAMEKALAIAKALGGTRAGAIETTFKEETETDLVGEQT ILVGGVMELMKAAFETLVELGYQPEVAYFEAINELKMIVDLIYEKGFTGM LNAVSDTAKYGGFTVGKRVINEETRKRIREAAERVRSGKFAEEWIEEYGR GSPTLKKGMEEAEKSLEEQVGRRLKEIIERGKPKS | L108: GTGAGTCGTATAGCAAAGATATACGTTGATTCGGAAGTAAGACTCGATCC TTTAAAGGGAAAGAAGATCGCCGTGTTAGGATATGGAAGCCAAGGTAGGG CTTGGGCCCTAAACCTCAGGGATTCAGGTCTCGACGTGACCGTGGGACTC GAAAGGGAAGGCAAGAGCTGGCAACAGGCTCAGGCCGATGGTTTTCATCC GAAGAAAACAGAGGACGCCGTGAAGGGAGCAGACGTCGTGATCTTCTTGG TTCCTGATATGGTTCAGAGGTTTATATATAGGGAGCACGTGCAGCCTAAC CTCAAGCCCGGTATGGACTTGGTATTTGCCCACGGTTTCAACATACACTA CAGACTCATTGAGCCCCCCCAAAACGTAGACGTTTACATGGTAGCCCCTA AGGGACCAGGGCCTATAGTGAGGGACTTCTTCGTAAAAGGTGGAGGTGTT CCAGTTCTAGTTGCAGTTCATCAAAACTATTCCGGAAGGGCCATGGAAAA GGCGCTGGCCATAGCTAAGGCCTTAGGAGGAACCAGGGCTGGAGCCATAG AAACGACATTTAAGGAGGAAACTGAGACAGACCTTGTGGGAGAGCAGACG ATCTTAGTTGGGGGAGTCATGGAGTTAATGAAGGCCGCTTTCGAGACCCT AGTTGAACTAGGGTATCAGCCCGAAGTGGCGTACTTTGAGGCCATAAACG AACTTAAGATGATTGTGGATTTGATCTACGAGAAGGGATTCACGGGTATG CTTAACGCTGTCTCAGATACCGCGAAATACGGAGGTTTCACCGTAGGCAA GAGGGTTATCAATGAGGAGACCAGGAAGAGGATTAGGGAGGCTGCAGAGA GAGTGAGGAGCGGAAAATTCGCTGAGGAGTGGATAGAGGAGTACGGGAGA GGAAGTCCTACCCTCAAGAAGGGAATGGAGGAAGCGGAGAAGAGCCTTGA GGAGCAAGTTGGGAGAAGATTGAAGGAAATAATAGAGAGGGGCAAGCCTA AGTCCTGA
A110: =IF(EXACT(H110,"N"),CONCATENATE("R",ROW()),IF(EXACT(H110,"Y"),CONCATENATE("R",ROW()),"")) -> R110 | B110: BCAA_syn_R05070 | C110: 1 2_3-Dihydroxy-3-methylvalerate = 1 3MOP + 1 H2O | D110: 4.2.1.9 | G110: dihydroxy-acid dehydratase | H110: N | I110: 2508722884 | J110: MetMK1DRAFT_00012360 | K110: MVERSRSQKVYGGYEKAPNRAFLKAMGLNDEDLSKPLVGIAVAWSEAGPC NIHLLGLSQVVKEGVRELGGTPRTFVAPVVIDGIAMGSEGMKYSLVSREV IANTVELSVNAHGYDGFVALGGCDKTQPGLMMAMARLNIPSVYMYGGTTL PGNFKGKPIAIGDVYEAVGAYTAGKLTAEDLRLMEDKAIPGPGACGGLYT ANTMAILSEALGLSLLGSASPPAVDSERVRYAKETGLALMRAMETGLKPR DILTFEAFENAIAVLMASGGSTNGVLHLLAIAHEAGVNLSLDDFDRIGRK VPEIVNMKPGGEFVMADLHQVGGAPLILKKLLDANLLHGEALTVTGKTLA QALSEYKLPSVRHDHVVRDVTSPFMPTGGIRVLKGNLAPEGAVVKVSASK IKYHRGPAVVFNSEEEAFRAVLEDKVKSKDVVVIRYEGPRGGPGMREMLA VTSAIVGKGLGEEVALVTDGRFSGATRGLMVGHVAPEAATGGPIALLQDG DVVIIDGGTGRLDVEVSESELKRRAKDWSPPEPRYKTGLLAQYSKLVTSS AKGAVLL | L110: ATGGTGGAAAGATCTAGATCCCAGAAGGTTTACGGAGGTTACGAGAAGGC ACCCAATAGGGCCTTCCTTAAGGCCATGGGCCTCAACGATGAGGATTTGT CCAAGCCACTAGTGGGAATAGCCGTGGCGTGGAGCGAGGCAGGACCTTGT AATATACATCTCCTAGGTCTATCCCAGGTCGTAAAGGAAGGTGTGAGGGA GCTGGGAGGTACTCCGAGGACCTTCGTAGCCCCAGTCGTGATAGACGGTA TAGCCATGGGAAGCGAAGGGATGAAGTACTCCCTTGTGAGCAGGGAGGTG ATAGCTAACACCGTTGAACTTTCCGTGAACGCCCACGGATACGACGGTTT CGTAGCGTTAGGAGGATGCGACAAGACTCAGCCAGGGCTCATGATGGCTA TGGCCAGACTAAACATCCCCTCAGTTTACATGTACGGAGGTACCACACTC CCCGGGAACTTCAAGGGAAAGCCCATAGCCATAGGGGACGTGTATGAGGC CGTGGGGGCCTACACGGCAGGTAAGTTGACTGCGGAAGATCTAAGACTCA TGGAGGATAAGGCAATTCCCGGGCCGGGAGCGTGTGGAGGACTGTACACA GCCAACACCATGGCAATTCTCTCTGAAGCCTTGGGGCTGTCCCTACTTGG GAGCGCCTCCCCGCCTGCAGTGGACAGTGAGAGGGTTAGATACGCCAAGG AGACTGGGTTGGCATTAATGAGGGCCATGGAGACGGGGCTCAAACCTAGG GACATACTCACGTTTGAGGCCTTCGAGAACGCCATCGCGGTCCTCATGGC GAGCGGAGGATCCACCAACGGAGTGCTTCACCTACTGGCCATAGCCCACG AGGCTGGAGTGAACCTATCACTTGACGACTTTGATAGGATCGGGAGGAAA GTACCTGAGATAGTCAACATGAAGCCTGGAGGGGAATTCGTGATGGCTGA CCTACACCAGGTTGGCGGTGCCCCCCTAATCCTGAAGAAACTCCTTGACG CCAACTTGCTTCACGGAGAGGCACTGACGGTAACCGGGAAGACCCTAGCC CAAGCCCTGTCTGAATATAAGCTCCCCAGCGTGAGGCACGACCATGTGGT CAGAGACGTCACTTCTCCGTTCATGCCAACTGGTGGGATAAGAGTCCTTA AGGGAAACCTCGCACCTGAGGGAGCAGTGGTCAAAGTCTCTGCCAGTAAG ATAAAGTATCATAGGGGACCGGCCGTGGTCTTCAATTCAGAGGAGGAGGC CTTTAGGGCCGTCCTCGAGGACAAGGTGAAGAGCAAGGATGTGGTGGTAA TAAGGTATGAGGGGCCTAGAGGAGGACCCGGCATGAGGGAGATGCTGGCA GTGACCAGTGCCATCGTCGGTAAGGGTTTGGGCGAGGAAGTGGCGTTAGT TACAGACGGGAGGTTCTCTGGAGCTACGAGAGGGTTAATGGTAGGACATG TAGCACCAGAGGCAGCAACAGGCGGCCCCATAGCATTGCTACAGGACGGA GACGTCGTAATCATTGACGGCGGAACCGGTAGATTGGACGTTGAGGTGAG CGAAAGTGAACTTAAGAGGAGAGCCAAGGACTGGAGTCCTCCAGAACCTA GGTACAAGACAGGCCTCCTGGCGCAGTACTCCAAACTTGTGACCTCCTCC GCTAAGGGAGCCGTGCTACTTTGA
A112: =IF(EXACT(H112,"N"),CONCATENATE("R",ROW()),IF(EXACT(H112,"Y"),CONCATENATE("R",ROW()),"")) -> R112 | B112: BCAA_syn_R02196 | C112: 1 3MOP + 1 NADH + 1 NH3 + 2 Proton = 1 H2O + 1 L-Isoleucine + 1 NAD | D112: 2.6.1.42 / 1.4.1.9 | G112: assumed | H112: N
A113: =IF(EXACT(H113,"N"),CONCATENATE("R",ROW()),IF(EXACT(H113,"Y"),CONCATENATE("R",ROW()),""))
A114: =IF(EXACT(H114,"N"),CONCATENATE("R",ROW()),IF(EXACT(H114,"Y"),CONCATENATE("R",ROW()),"")) -> R114 | B114: BCAA_syn_R04672 | C114: 1 2-Hydroxyethyl-ThPP + 1 Pyruvate = 1 ALCTT + 1 TPP | D114: 2.2.1.6 | G114: Thiamine pyrophosphate-requiring enzymes [acetolactate synthase, pyruvate dehydrogenase (cytochrome), glyoxylate carboligase, phosphonopyruvate decarboxylase] | H114: N | I114: 2508722376 | J114: MetMK1DRAFT_00007280 | K114: MEMVRLNGAEFVIEYFKRGGIKHVFGIPGHGNAAIVDVIYDMSKDIEFVP VKHEQYGGHMADGYFRVTRKTPAIVTTSVGPGATNLATALATAYVDSSTF IAITGDIQTYLLGKGIFQEVERQFQSDYVNAMRHFTKRSYFVSTVSQLHN VLPNAFKEAVVGRPGPVLISMPMDVQTAPLDVEFREVPMVTDVGRICPDQ TKVLEASKILVRAERPLILVGGGVVMSGASEEVVKLAELLGAPVASTFRG DAKGGFPEDHELYVFSVGNIGNPVANKLAAEADVILAVGVTFSDETTSSY KKGITFNIPPTKLIQIDIDPHEIGKNYPVEVGIWGDAKVTLQQIINYMME LGKKGNYRETEYFKRISQMKKEWLEEMERLREAAPMGIPSVAKTLRETLP QESVITLSAGLPQEIFSQLWISYKPRTFISSGGFSTMGFALPAAIGAKLA LKDTPVIAVEGDGSFLMNNVELLTASQLELPVIAVILNNYGWISIRDLQI RNFQGRIIGTEFKDRKNELKAPDFEKVAKAYGANYLRAESVEQIRSSVRQ ALTSSDTPTVVEIPVETKFPYSGTKAYGFWDIPRRS | L114: ATGGAAATGGTGAGATTAAACGGAGCCGAATTCGTTATCGAATATTTCAA ACGAGGTGGTATAAAACACGTGTTCGGCATTCCTGGTCACGGAAACGCGG CCATAGTGGACGTAATTTACGATATGAGTAAGGACATAGAGTTCGTGCCA GTGAAACACGAGCAGTACGGAGGTCATATGGCTGACGGTTACTTTAGGGT AACTAGGAAGACTCCAGCCATAGTAACTACTTCTGTAGGCCCTGGTGCCA CCAATTTGGCCACTGCCCTAGCAACGGCATACGTTGATTCCTCCACGTTT ATTGCCATAACTGGAGATATTCAGACCTACCTGTTGGGGAAGGGCATCTT CCAGGAAGTGGAAAGGCAATTCCAAAGCGATTACGTGAATGCGATGAGGC ACTTTACCAAGAGATCCTATTTCGTATCAACTGTCTCTCAGCTGCACAAC GTACTCCCCAACGCATTTAAGGAAGCGGTAGTGGGAAGACCAGGTCCGGT GTTAATATCTATGCCTATGGACGTTCAGACCGCCCCCTTGGATGTGGAGT TCAGGGAGGTTCCTATGGTAACTGACGTAGGGCGAATATGCCCAGATCAG ACTAAGGTCCTTGAAGCCTCAAAGATACTGGTCAGGGCTGAGAGACCACT CATACTAGTAGGCGGAGGAGTGGTGATGTCTGGAGCCAGTGAGGAAGTTG TGAAGCTGGCAGAGCTCCTAGGTGCACCAGTAGCTTCTACGTTCAGGGGA GATGCTAAGGGTGGTTTCCCGGAGGATCATGAACTGTACGTCTTTTCTGT AGGTAACATAGGCAATCCTGTAGCAAACAAGTTGGCAGCAGAAGCTGATG TGATATTAGCTGTCGGTGTTACGTTCAGTGACGAGACTACAAGTTCATAC AAGAAGGGAATAACGTTCAATATACCACCCACGAAGCTCATACAGATCGA CATAGACCCGCACGAGATAGGAAAGAACTATCCCGTGGAAGTAGGAATCT GGGGTGACGCCAAAGTGACTCTTCAACAGATAATTAATTACATGATGGAA CTGGGCAAGAAAGGTAACTACAGGGAAACCGAGTACTTTAAGAGAATTTC TCAGATGAAGAAGGAGTGGTTGGAGGAAATGGAAAGATTGAGGGAGGCCG CCCCAATGGGGATACCCAGCGTGGCGAAGACCCTTAGGGAAACTCTTCCA CAAGAGAGTGTAATCACCCTGAGCGCAGGTCTTCCTCAGGAGATATTCTC TCAACTTTGGATCTCCTATAAACCTAGGACTTTCATAAGCTCCGGAGGGT TCTCCACCATGGGTTTCGCCTTACCTGCGGCCATAGGGGCTAAACTCGCC CTGAAGGACACCCCAGTTATAGCCGTAGAGGGAGATGGCTCATTTCTTAT GAACAACGTTGAACTATTAACGGCATCACAACTGGAATTACCTGTGATAG CAGTAATATTAAATAATTACGGTTGGATATCTATAAGAGATTTACAGATA CGTAACTTTCAAGGTAGAATAATAGGGACAGAATTTAAGGACAGGAAGAA CGAGCTCAAGGCACCTGACTTCGAGAAGGTGGCCAAAGCGTATGGGGCTA ACTACCTTAGGGCCGAGAGCGTGGAGCAAATACGTTCATCCGTCAGGCAG GCACTTACGTCCAGTGACACACCTACAGTTGTAGAAATTCCAGTGGAAAC TAAGTTTCCATACAGTGGCACCAAGGCGTATGGGTTTTGGGACATACCCA GGAGATCATAA
A115: =IF(EXACT(H115,"N"),CONCATENATE("R",ROW()),IF(EXACT(H115,"Y"),CONCATENATE("R",ROW()),"")) | G115: Thiamine pyrophosphate-requiring enzymes [acetolactate synthase, pyruvate dehydrogenase (cytochrome), glyoxylate carboligase, phosphonopyruvate decarboxylase] | I115: 2508722389 | J115: MetMK1DRAFT_00007410 | K115: MSENPDSSGSDVRSATYVFLRELKERGVDKLFMVSGTDYAAFIEEKSKDV RNELPDFFLVPHEITAAAAAMGYSIGGKIGAVAVHTTPGTANALGMIMNA HGSKIPLLIIAGRSPYTERGSPASRNLRIHWLQECRDQGEMVRQWVKWDF EIRTADQIPETVSRAIQLALSEPQGPVYVTLPREVSIEKIRPRRTRASVY EPGPSRKALDLSVNLINRAENPVIITWRAGKKKDWFESLKAFADRVGIPV LNYVGEYVNYPSSGISALDNYDLSKVDLVITVEVDVPWIPKYIDVNAKVI RVDTDPGFASIPFYGFPCDVCIQSTPSEFFDQILYRVKPKEWNKEQLKEL KEKQEDSKRKEIERLSDKSPIHPRYLSYKIGELGLAIMNEYTFNPRYAKL DRFNSYFGPPAVGTLGWAIGAAIGYKLATGNDVIATVGDGSFIFGVPDAF YYASLKVPVMVVIYDNGGWYASALAVKEVFPEGNAVKNNRYPGADFEYRM RLGESITSYGGFYKLVEDPQELDEALKMGADYVTSKNKPAIIQVITERDR | L115: ATGAGTGAAAATCCCGATAGTTCTGGATCCGACGTGAGGAGCGCGACCTA TGTGTTCTTAAGGGAATTGAAGGAACGCGGCGTAGATAAGCTCTTCATGG TATCTGGAACTGATTACGCTGCTTTCATTGAGGAGAAATCCAAGGATGTA AGGAACGAATTACCTGACTTTTTCCTAGTGCCCCACGAAATAACCGCTGC TGCAGCGGCTATGGGGTATTCCATTGGGGGAAAGATTGGGGCAGTGGCAG TTCATACCACGCCTGGGACCGCTAACGCATTGGGTATGATAATGAACGCC CATGGCTCTAAGATCCCACTACTGATAATAGCTGGAAGGTCACCTTACAC TGAGAGGGGGTCTCCAGCCAGTCGTAACTTGAGGATTCACTGGCTTCAGG AATGCAGAGATCAAGGAGAAATGGTTAGACAGTGGGTTAAGTGGGACTTC GAGATAAGGACTGCAGATCAGATACCAGAAACCGTGTCCAGGGCAATTCA GCTTGCCTTGAGTGAACCACAGGGCCCAGTATATGTGACTTTGCCTAGGG AAGTTAGTATTGAGAAGATCAGACCTAGGAGAACCAGGGCCTCAGTATAT GAGCCCGGTCCTTCAAGGAAGGCGTTGGACTTATCCGTTAATCTTATAAA TAGAGCCGAAAACCCAGTTATAATAACGTGGAGAGCAGGCAAGAAGAAGG ACTGGTTTGAGTCCCTGAAGGCCTTTGCTGACCGCGTGGGTATTCCGGTG CTAAATTACGTTGGAGAGTATGTAAATTACCCCTCTTCAGGCATCTCGGC CCTAGATAACTACGATCTGTCCAAGGTAGATCTAGTGATAACTGTGGAGG TTGACGTACCTTGGATACCAAAGTATATTGACGTCAATGCGAAAGTGATA AGAGTAGATACTGATCCAGGTTTCGCGTCTATCCCATTCTACGGGTTTCC TTGTGATGTCTGTATCCAATCCACTCCATCAGAATTCTTTGATCAGATAT TATATAGGGTTAAACCTAAGGAGTGGAATAAGGAACAATTGAAAGAACTT AAGGAGAAGCAGGAAGACTCTAAGAGAAAAGAGATAGAAAGGCTTTCCGA CAAGTCTCCCATACATCCAAGGTATCTCTCGTATAAGATAGGGGAACTAG GATTAGCCATAATGAACGAATATACGTTTAACCCAAGATATGCCAAGTTG GATCGTTTTAACTCCTATTTCGGTCCACCGGCAGTAGGTACCCTAGGGTG GGCAATAGGTGCTGCAATAGGGTATAAACTCGCAACGGGAAATGACGTAA TAGCTACAGTGGGAGACGGCTCCTTTATATTCGGCGTTCCAGATGCCTTC TACTACGCATCACTGAAAGTTCCTGTGATGGTAGTCATATATGATAATGG CGGATGGTACGCCTCTGCCCTGGCCGTGAAGGAAGTGTTTCCAGAAGGCA ATGCGGTCAAAAATAACCGTTATCCTGGTGCTGACTTCGAGTACAGAATG AGACTTGGAGAATCCATAACGAGTTACGGCGGTTTCTACAAACTCGTGGA GGATCCTCAAGAACTGGATGAGGCCCTTAAGATGGGAGCAGACTATGTTA CCTCTAAAAACAAGCCGGCAATAATTCAAGTAATAACGGAACGGGACAGG TAG
A116: =IF(EXACT(H116,"N"),CONCATENATE("R",ROW()),IF(EXACT(H116,"Y"),CONCATENATE("R",ROW()),"")) | G116: Thiamine pyrophosphate-requiring enzymes [acetolactate synthase, pyruvate dehydrogenase (cytochrome), glyoxylate carboligase, phosphonopyruvate decarboxylase] | I116: 2508723242 | J116: MetMK1DRAFT_00015940 | K116: MTTQTEEERSGASILLQALRREGVDKIFMVSGTDYAAFIEEKVRDHSLPD FVIVPHEITAASAALGYSLGGKLGAVAVHTVPGTANSLGIIANAFTSRIP LIVIAGRSPYTEEGSTASRNLRIHWTQEARDQGGLVRQYVKWDFEVRRAS QMEVAVMRALQIARSEPQGPVYLVIPREVSVERSSSRRVPMDPYEPGPSP SALRRIEELIRESEKPAIITWRAGRRESWYASLQRFAEKLGAPVLHYVGE VVNYPSTGGMALDRLDLSEPDLLIVVESEVPWIPKKVRVNAKVIKVDVDP SYSYIPYYGFRCDVCLQATPEALDMVRVDARDKWRDEIKERVEKRREEKA KELERLRSGKKIHPRLLSHLVSKLGGVIFNEYPFNPRYANLSYGQYFGDL SEGHLGWSLGAAFGYRVATGREVIATVGDGSFIFGVPEAFYHACASYGLP VLVVIYDNGGWLASAEAVDEVFPEGLAKAKSLYPGADFKRYNIGETVKAF GGYFRLVEMVDEVEESLREGWRSVKAGQIAVVQVIVERTR | L116: ATGACCACTCAGACGGAGGAGGAGAGGAGCGGTGCATCGATCCTGCTCCA GGCACTGAGGAGGGAAGGGGTTGACAAGATATTCATGGTCTCCGGAACCG ACTATGCTGCCTTCATTGAGGAGAAAGTGAGAGATCACTCCCTTCCGGAC TTCGTGATAGTCCCTCACGAGATCACTGCAGCTTCTGCGGCTCTGGGATA CTCCCTGGGAGGAAAGTTGGGAGCGGTAGCTGTCCACACAGTCCCTGGGA CTGCGAACTCGTTGGGGATAATAGCTAACGCCTTCACCAGCAGGATACCC CTCATCGTAATAGCCGGTAGGTCACCCTACACCGAGGAGGGAAGTACAGC CAGCAGGAACTTGAGGATTCATTGGACGCAGGAGGCCAGGGATCAAGGAG GTCTCGTCAGGCAATACGTTAAGTGGGACTTCGAGGTTAGGAGAGCGTCG CAAATGGAGGTGGCAGTGATGAGAGCCCTACAGATCGCCAGGAGCGAACC ACAAGGACCAGTATATCTCGTAATACCCAGGGAAGTGAGCGTGGAGAGAT CCTCCTCAAGGAGAGTTCCCATGGATCCCTACGAACCGGGCCCCTCTCCC TCAGCCCTGAGAAGGATAGAGGAATTGATAAGGGAGTCTGAGAAGCCTGC CATCATCACTTGGAGGGCTGGGAGGAGGGAAAGTTGGTATGCCTCGCTTC AGAGATTCGCCGAGAAACTGGGGGCCCCGGTCCTGCACTACGTGGGGGAA GTGGTGAACTATCCCTCCACGGGAGGGATGGCCTTGGATAGGTTGGATCT CTCTGAGCCAGACCTACTCATCGTAGTGGAGTCTGAGGTTCCCTGGATAC CCAAGAAGGTCAGGGTAAACGCAAAGGTGATAAAGGTCGACGTTGATCCC TCGTACTCCTATATACCATATTACGGTTTCAGGTGTGACGTCTGTCTTCA GGCGACTCCTGAGGCGCTTGACATGGTCAGGGTCGACGCCAGGGATAAGT GGAGGGACGAGATCAAGGAGAGGGTGGAGAAGAGGAGAGAGGAGAAGGCG AAGGAATTGGAGCGATTACGGTCTGGAAAGAAGATACACCCCAGGTTACT GTCCCACTTGGTGTCCAAGCTTGGGGGTGTAATATTCAACGAGTACCCCT TCAACCCCAGGTACGCAAACCTCTCTTACGGCCAGTACTTCGGCGATCTG TCTGAGGGGCACCTGGGTTGGAGTCTGGGAGCGGCCTTCGGTTACAGGGT AGCTACGGGACGTGAAGTGATAGCGACTGTGGGAGACGGCTCCTTCATCT TCGGGGTACCGGAGGCCTTCTATCACGCATGTGCCTCTTACGGTTTACCT GTGCTGGTGGTGATTTACGATAACGGCGGTTGGCTAGCCTCTGCTGAGGC TGTGGACGAGGTCTTCCCGGAGGGCTTAGCTAAGGCTAAGTCACTCTATC CCGGAGCTGACTTCAAGAGGTATAATATAGGTGAGACCGTGAAGGCTTTC GGGGGTTACTTCAGGTTAGTGGAGATGGTGGACGAGGTGGAGGAGTCTCT ACGCGAGGGTTGGAGGAGCGTTAAGGCAGGGCAAATAGCAGTAGTCCAGG TGATAGTGGAGAGGACCAGGTAA
A117: =IF(EXACT(H117,"N"),CONCATENATE("R",ROW()),IF(EXACT(H117,"Y"),CONCATENATE("R",ROW()),"")) | G117: acetolactate synthase, large subunit, biosynthetic type | I117: 2508724864 | J117: MetMK1DRAFT_00032160 | K117: MLPSGARLVVDALKREGVSTIFGIPGLTNMPIYDAFLEDLQNGELRHVLM RHEQAAAHAADGYARASGKPGVCTATSGPGATNLVTGMVTAYWDSSPVVA ITGQVVRSVIGKMAFQEADTPGIFANATKYVVQVKNIHEIPLWIKNAFFI ATTGRPGPVVVDIPRDVQLEKVDDVKWPEKPNVKGYRPFRTIIDTVKIKR AAEILIEAERPIILAGTGAVWSNSTPEILELSELLGIPMVSTLPGKSAIP HDHPLFLGAMGYYGRAEASMAALESDAMLIVGARLSDRTFTSYDEMVETR KKFIMINIDPTDSERAFKIDVPLYGDAKVLLREIISAVRLVGRKKDNTAW IRRVKELRDYYSQYYYHEEDGKLKPWKILKTIRNAIPRDAIVTTGVGQHQ MWSEVFWEVLEPRTFLSSTGMGTMGFGLPAAMGAKMARPDKVVVDLDGDG SFLMTGNNLATAVDEHIPVIAVIFDNRTLGLVRQVQDLFQSKRVVGVDYG PSPDFVKLAEAYGALGFNATSYDEISRSINIAIKENVPAVIRVPIDKEEL ALPTLPPGGKLKQVIVRDPRKGS | L117: ATGTTGCCCAGCGGAGCTAGGCTAGTAGTTGACGCTCTCAAAAGGGAAGG AGTAAGTACCATATTCGGTATCCCCGGACTCACGAATATGCCCATCTATG ACGCCTTCCTGGAGGACCTTCAAAATGGTGAGTTGAGACATGTACTAATG AGACATGAACAGGCAGCAGCTCACGCTGCAGACGGTTACGCTAGAGCCTC AGGGAAACCCGGCGTATGTACGGCGACTTCTGGACCCGGTGCCACTAACC TCGTGACAGGGATGGTCACGGCTTATTGGGACAGTTCCCCGGTCGTTGCA ATAACCGGACAAGTAGTTAGGTCTGTAATAGGAAAGATGGCGTTCCAAGA GGCTGACACACCAGGTATATTCGCTAACGCCACGAAGTATGTGGTCCAGG TCAAGAACATCCACGAAATACCTCTCTGGATCAAGAACGCCTTCTTCATC GCCACCACAGGGAGACCTGGACCGGTAGTGGTAGATATCCCGAGGGATGT CCAGTTGGAGAAGGTAGATGATGTGAAGTGGCCAGAGAAGCCCAACGTCA AAGGCTATAGACCTTTCAGAACGATAATAGATACGGTTAAGATAAAGAGG GCAGCAGAGATTTTAATTGAGGCAGAGAGGCCCATAATTCTCGCCGGGAC CGGTGCGGTTTGGTCTAACTCGACCCCAGAGATCCTAGAGCTCTCCGAGC TTCTGGGAATCCCCATGGTCTCAACTCTACCTGGGAAGTCGGCCATACCT CACGATCATCCCCTGTTCCTTGGGGCCATGGGCTACTACGGGAGGGCAGA GGCCTCTATGGCGGCACTGGAGTCTGATGCCATGCTCATCGTTGGGGCGA GGCTGAGCGATAGAACTTTCACCTCCTACGACGAGATGGTGGAGACTAGA AAGAAATTCATAATGATAAACATAGATCCCACGGACTCAGAGAGGGCCTT TAAGATAGACGTCCCACTGTATGGAGATGCCAAGGTCTTACTGAGGGAGA TAATAAGTGCAGTTCGCTTGGTCGGCAGAAAGAAAGATAACACGGCGTGG ATCAGAAGAGTCAAAGAGCTTAGGGATTATTACTCTCAGTATTACTATCA CGAAGAGGACGGAAAGCTGAAACCGTGGAAGATACTCAAGACCATAAGGA ACGCCATTCCGAGAGACGCCATAGTCACCACGGGCGTGGGACAGCACCAG ATGTGGTCAGAGGTGTTTTGGGAAGTCTTAGAACCTAGGACCTTCCTTTC CTCCACAGGGATGGGAACCATGGGTTTCGGTTTACCTGCCGCCATGGGAG CTAAGATGGCGAGGCCTGACAAGGTAGTGGTGGATCTGGACGGAGATGGT TCTTTCCTGATGACAGGAAATAACTTAGCCACGGCTGTGGATGAGCACAT CCCAGTCATCGCTGTGATATTCGACAACAGGACACTGGGACTGGTCAGAC AGGTCCAAGATCTATTCCAGAGCAAGAGGGTAGTGGGTGTCGACTACGGT CCATCTCCAGACTTCGTTAAGTTAGCTGAGGCCTACGGAGCTTTAGGCTT CAACGCCACTAGCTACGACGAGATCTCGAGATCCATAAACATAGCCATTA AGGAGAACGTTCCTGCAGTGATCAGGGTACCTATAGATAAGGAAGAGCTG GCTCTCCCAACCCTTCCACCAGGAGGAAAACTGAAGCAGGTGATAGTGCG TGACCCAAGGAAAGGTAGTTAG
A118: =IF(EXACT(H118,"N"),CONCATENATE("R",ROW()),IF(EXACT(H118,"Y"),CONCATENATE("R",ROW()),""))
A119: =IF(EXACT(H119,"N"),CONCATENATE("R",ROW()),IF(EXACT(H119,"Y"),CONCATENATE("R",ROW()),"")) -> R119 | B119: BCAA_syn_R05071_R04440 | C119: 1 ALCTT + 1 NADPH + 1 Proton = 1 2_3-Dihydroxy-isovalerate + 1 NADP | D119: 1.1.1.86 | G119: ketol-acid reductoisomerase | H119: N | I119: 2508724866 | J119: MetMK1DRAFT_00032180 | K119: VSRIAKIYVDSEVRLDPLKGKKIAVLGYGSQGRAWALNLRDSGLDVTVGL EREGKSWQQAQADGFHPKKTEDAVKGADVVIFLVPDMVQRFIYREHVQPN LKPGMDLVFAHGFNIHYRLIEPPQNVDVYMVAPKGPGPIVRDFFVKGGGV PVLVAVHQNYSGRAMEKALAIAKALGGTRAGAIETTFKEETETDLVGEQT ILVGGVMELMKAAFETLVELGYQPEVAYFEAINELKMIVDLIYEKGFTGM LNAVSDTAKYGGFTVGKRVINEETRKRIREAAERVRSGKFAEEWIEEYGR GSPTLKKGMEEAEKSLEEQVGRRLKEIIERGKPKS | L119: GTGAGTCGTATAGCAAAGATATACGTTGATTCGGAAGTAAGACTCGATCC TTTAAAGGGAAAGAAGATCGCCGTGTTAGGATATGGAAGCCAAGGTAGGG CTTGGGCCCTAAACCTCAGGGATTCAGGTCTCGACGTGACCGTGGGACTC GAAAGGGAAGGCAAGAGCTGGCAACAGGCTCAGGCCGATGGTTTTCATCC GAAGAAAACAGAGGACGCCGTGAAGGGAGCAGACGTCGTGATCTTCTTGG TTCCTGATATGGTTCAGAGGTTTATATATAGGGAGCACGTGCAGCCTAAC CTCAAGCCCGGTATGGACTTGGTATTTGCCCACGGTTTCAACATACACTA CAGACTCATTGAGCCCCCCCAAAACGTAGACGTTTACATGGTAGCCCCTA AGGGACCAGGGCCTATAGTGAGGGACTTCTTCGTAAAAGGTGGAGGTGTT CCAGTTCTAGTTGCAGTTCATCAAAACTATTCCGGAAGGGCCATGGAAAA GGCGCTGGCCATAGCTAAGGCCTTAGGAGGAACCAGGGCTGGAGCCATAG AAACGACATTTAAGGAGGAAACTGAGACAGACCTTGTGGGAGAGCAGACG ATCTTAGTTGGGGGAGTCATGGAGTTAATGAAGGCCGCTTTCGAGACCCT AGTTGAACTAGGGTATCAGCCCGAAGTGGCGTACTTTGAGGCCATAAACG AACTTAAGATGATTGTGGATTTGATCTACGAGAAGGGATTCACGGGTATG CTTAACGCTGTCTCAGATACCGCGAAATACGGAGGTTTCACCGTAGGCAA GAGGGTTATCAATGAGGAGACCAGGAAGAGGATTAGGGAGGCTGCAGAGA GAGTGAGGAGCGGAAAATTCGCTGAGGAGTGGATAGAGGAGTACGGGAGA GGAAGTCCTACCCTCAAGAAGGGAATGGAGGAAGCGGAGAAGAGCCTTGA GGAGCAAGTTGGGAGAAGATTGAAGGAAATAATAGAGAGGGGCAAGCCTA AGTCCTGA
A121: =IF(EXACT(H121,"N"),CONCATENATE("R",ROW()),IF(EXACT(H121,"Y"),CONCATENATE("R",ROW()),"")) -> R121 | B121: BCAA_syn_R04441 | C121: 1 2_3-Dihydroxy-isovalerate = 1 3-Methyl-2-oxobutanoate + 1 H2O | D121: 4.2.1.9 | G121: dihydroxy-acid dehydratase | H121: N | I121: 2508722884 | J121: MetMK1DRAFT_00012360 | K121: MVERSRSQKVYGGYEKAPNRAFLKAMGLNDEDLSKPLVGIAVAWSEAGPC NIHLLGLSQVVKEGVRELGGTPRTFVAPVVIDGIAMGSEGMKYSLVSREV IANTVELSVNAHGYDGFVALGGCDKTQPGLMMAMARLNIPSVYMYGGTTL PGNFKGKPIAIGDVYEAVGAYTAGKLTAEDLRLMEDKAIPGPGACGGLYT ANTMAILSEALGLSLLGSASPPAVDSERVRYAKETGLALMRAMETGLKPR DILTFEAFENAIAVLMASGGSTNGVLHLLAIAHEAGVNLSLDDFDRIGRK VPEIVNMKPGGEFVMADLHQVGGAPLILKKLLDANLLHGEALTVTGKTLA QALSEYKLPSVRHDHVVRDVTSPFMPTGGIRVLKGNLAPEGAVVKVSASK IKYHRGPAVVFNSEEEAFRAVLEDKVKSKDVVVIRYEGPRGGPGMREMLA VTSAIVGKGLGEEVALVTDGRFSGATRGLMVGHVAPEAATGGPIALLQDG DVVIIDGGTGRLDVEVSESELKRRAKDWSPPEPRYKTGLLAQYSKLVTSS AKGAVLL | L121: ATGGTGGAAAGATCTAGATCCCAGAAGGTTTACGGAGGTTACGAGAAGGC ACCCAATAGGGCCTTCCTTAAGGCCATGGGCCTCAACGATGAGGATTTGT CCAAGCCACTAGTGGGAATAGCCGTGGCGTGGAGCGAGGCAGGACCTTGT AATATACATCTCCTAGGTCTATCCCAGGTCGTAAAGGAAGGTGTGAGGGA GCTGGGAGGTACTCCGAGGACCTTCGTAGCCCCAGTCGTGATAGACGGTA TAGCCATGGGAAGCGAAGGGATGAAGTACTCCCTTGTGAGCAGGGAGGTG ATAGCTAACACCGTTGAACTTTCCGTGAACGCCCACGGATACGACGGTTT CGTAGCGTTAGGAGGATGCGACAAGACTCAGCCAGGGCTCATGATGGCTA TGGCCAGACTAAACATCCCCTCAGTTTACATGTACGGAGGTACCACACTC CCCGGGAACTTCAAGGGAAAGCCCATAGCCATAGGGGACGTGTATGAGGC CGTGGGGGCCTACACGGCAGGTAAGTTGACTGCGGAAGATCTAAGACTCA TGGAGGATAAGGCAATTCCCGGGCCGGGAGCGTGTGGAGGACTGTACACA GCCAACACCATGGCAATTCTCTCTGAAGCCTTGGGGCTGTCCCTACTTGG GAGCGCCTCCCCGCCTGCAGTGGACAGTGAGAGGGTTAGATACGCCAAGG AGACTGGGTTGGCATTAATGAGGGCCATGGAGACGGGGCTCAAACCTAGG GACATACTCACGTTTGAGGCCTTCGAGAACGCCATCGCGGTCCTCATGGC GAGCGGAGGATCCACCAACGGAGTGCTTCACCTACTGGCCATAGCCCACG AGGCTGGAGTGAACCTATCACTTGACGACTTTGATAGGATCGGGAGGAAA GTACCTGAGATAGTCAACATGAAGCCTGGAGGGGAATTCGTGATGGCTGA CCTACACCAGGTTGGCGGTGCCCCCCTAATCCTGAAGAAACTCCTTGACG CCAACTTGCTTCACGGAGAGGCACTGACGGTAACCGGGAAGACCCTAGCC CAAGCCCTGTCTGAATATAAGCTCCCCAGCGTGAGGCACGACCATGTGGT CAGAGACGTCACTTCTCCGTTCATGCCAACTGGTGGGATAAGAGTCCTTA AGGGAAACCTCGCACCTGAGGGAGCAGTGGTCAAAGTCTCTGCCAGTAAG ATAAAGTATCATAGGGGACCGGCCGTGGTCTTCAATTCAGAGGAGGAGGC CTTTAGGGCCGTCCTCGAGGACAAGGTGAAGAGCAAGGATGTGGTGGTAA TAAGGTATGAGGGGCCTAGAGGAGGACCCGGCATGAGGGAGATGCTGGCA GTGACCAGTGCCATCGTCGGTAAGGGTTTGGGCGAGGAAGTGGCGTTAGT TACAGACGGGAGGTTCTCTGGAGCTACGAGAGGGTTAATGGTAGGACATG TAGCACCAGAGGCAGCAACAGGCGGCCCCATAGCATTGCTACAGGACGGA GACGTCGTAATCATTGACGGCGGAACCGGTAGATTGGACGTTGAGGTGAG CGAAAGTGAACTTAAGAGGAGAGCCAAGGACTGGAGTCCTCCAGAACCTA GGTACAAGACAGGCCTCCTGGCGCAGTACTCCAAACTTGTGACCTCCTCC GCTAAGGGAGCCGTGCTACTTTGA
A123: =IF(EXACT(H123,"N"),CONCATENATE("R",ROW()),IF(EXACT(H123,"Y"),CONCATENATE("R",ROW()),"")) -> R123 | B123: BCAA_syn_R01434 | C123: 1 3-Methyl-2-oxobutanoate + 1 NADH + 1 NH3 + 2 Proton = 1 H2O + 1 L-Valine + 1 NAD | D123: 2.6.1.42 / 1.4.1.9 | G123: assumed | H123: N
A124: =IF(EXACT(H124,"N"),CONCATENATE("R",ROW()),IF(EXACT(H124,"Y"),CONCATENATE("R",ROW()),""))
A125: =IF(EXACT(H125,"N"),CONCATENATE("R",ROW()),IF(EXACT(H125,"Y"),CONCATENATE("R",ROW()),"")) -> R125 | B125: BCAA_syn_R01213 | C125: 1 3-Methyl-2-oxobutanoate + 1 Acetyl-CoA + 1 H2O = 1 2-Isopropylmalate + 1 CoA + 1 Proton | D125: 2.3.3.13 | G125: isopropylmalate/citramalate/homocitrate synthases | H125: N | I125: 2508722777 | J125: MetMK1DRAFT_00011290 | K125: VFSTRRIRIFDTTLRDGEQAPGIDLTVEQKVRIARQLQRLGVDVIEAGFP ASSEGEFIATKKILEEVGDSVEVTGLARANKNDIDKGIEAGLSSIHVFIA TSDIHLKYKLKLTREQVLDRIYESVRYAKSHGLVVEYSPEDATRTDEDFL IQAVKTAVEAGADRVNIPDTVGTMYPFKFYDLIKKVVNATSGRIVSVHCH NDFGLATANSLAGVQAGARQVHVTVNGIGERAGNASLEEVVMALKKLMDY EVGVKTWLLYDTSRLVSELSGVPVPYFKAIVGENAFGHEAGIHVHGVIEN PLTYEPMSPEEVGNFRRLALGKHSGIHGLRKILEEDGIHLDDEKLKAVLQ EVKRMADTGKKITAEDAKRIASKYLNT | L125: GTGTTCTCCACTAGGAGAATTAGAATATTCGATACGACACTCAGGGATGG GGAGCAGGCCCCAGGAATAGACCTCACCGTGGAGCAGAAGGTGAGGATAG CTAGGCAGCTTCAGAGGCTGGGAGTGGACGTAATAGAGGCAGGTTTCCCG GCCTCCTCGGAGGGGGAGTTCATAGCCACCAAGAAGATCTTAGAGGAGGT AGGCGATAGCGTAGAGGTGACCGGGCTGGCCAGGGCCAACAAGAACGATA TAGACAAGGGTATAGAGGCCGGTCTCTCCAGCATTCACGTGTTCATAGCT ACTTCTGACATACATCTGAAATACAAGCTCAAGTTGACCAGGGAGCAAGT CTTGGACAGGATCTACGAGTCCGTTAGATACGCTAAGTCCCACGGATTAG TCGTAGAGTACAGCCCAGAGGATGCTACGAGGACAGACGAGGACTTCCTA ATCCAGGCCGTGAAAACGGCAGTGGAGGCGGGGGCAGATAGAGTTAACAT ACCAGACACTGTGGGTACGATGTACCCGTTCAAGTTCTACGACCTCATCA AGAAGGTAGTTAACGCCACTTCTGGCAGAATTGTGAGTGTACATTGCCAC AACGACTTCGGCCTAGCCACGGCTAACTCGCTGGCAGGAGTTCAGGCAGG AGCTAGGCAAGTCCACGTTACAGTTAACGGAATAGGTGAGAGAGCAGGTA ACGCCTCCCTTGAGGAGGTTGTGATGGCTTTGAAGAAACTGATGGACTAC GAGGTAGGCGTTAAGACATGGCTACTTTACGACACCAGCAGGTTGGTATC TGAGCTCAGCGGAGTCCCAGTGCCGTACTTCAAGGCAATAGTGGGCGAAA ACGCTTTCGGCCACGAGGCGGGCATACACGTGCACGGAGTCATAGAGAAC CCTCTGACCTACGAGCCGATGTCACCCGAAGAGGTAGGTAACTTCAGGAG ATTAGCTTTGGGTAAACACAGTGGGATTCACGGACTGAGGAAGATATTAG AGGAGGATGGGATACACCTCGACGATGAGAAATTAAAGGCGGTTCTCCAG GAAGTCAAGAGGATGGCAGACACAGGAAAGAAGATAACAGCAGAGGATGC CAAGAGGATAGCATCTAAATACCTGAACACATGA
A126: =IF(EXACT(H126,"N"),CONCATENATE("R",ROW()),IF(EXACT(H126,"Y"),CONCATENATE("R",ROW()),"")) | G126: homocitrate synthase | I126: 2508724564 | J126: MetMK1DRAFT_00029160 | K126: MKVGILDSTLREGEQTPGVVFSVEQRVEIAKALSEIGVAMIEAGHPAVSP DIYEGIKRIVKLKREGELTSEILAHSRAVKRDIEIVNEVEADRIAIFYGV SDIHLKAKTKTTREEALNVIAEAVSYAKSHGVKIRFTAEDATRTDLDYLV KVIKTARDSGADRIGIADTVGILYPTKTKELFSFLVKEVPGVEYDIHAHN DLGMAVANALAAVEGGATIIHATVNGLGERVGIVPLQAVAAALKYHFNLD VVKLEGLSKVASLVEKYSGIPMPPNFPITGDYAFVHKAGIHVAGVLTDPR TYEFMPPEVFGRSRDYVIDKYTGKHALKDRFERLGVKLEERELELVLAKI KSSQTTRYFRDVDLLEIAEEVTGKVLKPRPPDRIEAVISIKCASNVYTTS VTRRLASISGIKEVMEISGDYDIVAKVEARDPTELNNIIENIRSVKGVES TLTSLVLKKM | L126: ATGAAGGTAGGAATCTTAGACTCCACCCTCAGGGAAGGGGAACAGACCCC AGGTGTCGTCTTCAGTGTAGAGCAGAGGGTGGAGATAGCTAAGGCCCTTT CTGAGATAGGGGTCGCCATGATAGAGGCAGGACATCCTGCCGTCTCACCT GACATTTACGAGGGAATAAAGAGAATAGTTAAGCTCAAAAGGGAGGGAGA GTTAACCTCCGAGATCTTGGCCCACAGTAGGGCAGTTAAGAGGGACATAG AGATAGTGAACGAGGTCGAGGCAGACAGGATAGCCATATTTTATGGGGTC AGCGACATTCACCTCAAGGCTAAGACTAAGACCACGAGGGAGGAGGCCCT TAACGTAATCGCCGAGGCTGTGAGCTATGCGAAATCCCACGGAGTGAAGA TCAGGTTCACAGCTGAGGATGCCACTAGGACGGACCTGGACTACCTGGTC AAGGTGATAAAGACCGCCAGGGACTCGGGAGCCGACAGGATAGGGATAGC TGACACTGTCGGGATACTCTATCCTACCAAGACCAAGGAGCTCTTCTCCT TCTTGGTTAAGGAGGTTCCTGGAGTAGAGTACGATATTCACGCCCACAAT GATTTAGGGATGGCGGTAGCTAACGCGTTAGCTGCAGTTGAGGGCGGTGC AACCATAATTCACGCAACCGTAAACGGGCTGGGGGAGAGGGTGGGGATAG TCCCCCTACAGGCAGTCGCCGCTGCGCTGAAGTACCACTTCAACTTGGAC GTGGTCAAGTTAGAGGGGTTGAGCAAGGTCGCATCACTGGTCGAAAAGTA CAGCGGAATTCCGATGCCTCCCAACTTCCCGATCACTGGAGATTACGCCT TTGTACACAAGGCTGGAATACATGTGGCTGGAGTACTCACCGACCCCAGG ACGTATGAGTTCATGCCTCCAGAAGTCTTCGGAAGATCTAGGGATTACGT GATAGATAAATACACTGGTAAGCATGCATTGAAGGATAGGTTTGAGAGGT TGGGAGTGAAGTTGGAAGAGAGGGAACTGGAGTTAGTCCTTGCCAAGATA AAGTCCAGCCAGACCACAAGGTATTTCAGAGACGTGGATCTCCTGGAAAT AGCAGAAGAGGTGACTGGGAAGGTCCTGAAGCCGAGGCCTCCAGACAGGA TAGAGGCAGTCATCTCCATCAAGTGTGCCTCTAACGTCTACACAACCTCT GTTACCAGAAGGCTAGCCTCAATTTCAGGAATAAAGGAGGTCATGGAAAT CTCAGGAGACTATGATATAGTGGCTAAGGTAGAGGCCAGGGATCCCACAG AACTCAACAATATAATTGAGAACATAAGGTCAGTCAAAGGTGTCGAGTCG ACCTTAACCTCTCTCGTCTTGAAGAAGATGTGA
A127: =IF(EXACT(H127,"N"),CONCATENATE("R",ROW()),IF(EXACT(H127,"Y"),CONCATENATE("R",ROW()),"")) | G127: 2-isopropylmalate synthase/homocitrate synthase family protein | I127: 2508724688 | J127: MetMK1DRAFT_00030400 | K127: VVKKSIQILDTTLRDGAQAALVSFTLRDKVKIALMLDELGVDYIEGGWPG SNPKDFEFFKEIKNYSLRKSKIAAFGSTRRKENKPEEDPSLNSIIDADVK VAVIFGKTWPLHVKEVLKTTLEDNLSIISDSIEFLRDHGMEVIFDAEHFY QGFKENPDYATRVVETAWRSRASVVVLADTNGGTPPHEILEITRKVREAS SAKLGVHMHNDIGCAVANSLMGVVGGATHVQGTINGIGERTGNADLVQII PTLVLKMGYRVLEGSESLKKLKEVSTMVYELAGMHPNPYQPYVGDNAFTH KAGVHADAVMKNTRAYEHIDPSLVGNRRRIVISELSGTANLVSYLDRVGI KVEKKEEKLKVALNKIKEMEMRGYSFDIAPESALLVVLKELGLYTRYVNL RYWKVINENGLSLAVVKVNDQIEASEGLGPVHAVDLALRRALSREFPEIQ KVTLTDYRVILPGQVKNTESVVRVTIEFTDGNDSWRTEGVSTSVIEASIM ALVDGLDYYLQINKKLKPMLTKQTS | L127: GTGGTCAAGAAATCCATACAAATTCTTGATACTACTTTACGTGACGGGGC TCAAGCTGCCCTGGTTTCTTTCACCCTAAGAGACAAGGTGAAGATTGCCT TAATGTTGGACGAGTTAGGTGTCGACTATATAGAAGGAGGTTGGCCTGGA TCAAATCCTAAGGACTTCGAATTCTTTAAAGAGATAAAGAACTACTCCCT GAGGAAGTCAAAGATTGCGGCATTTGGAAGCACAAGAAGAAAGGAGAATA AACCAGAGGAGGATCCAAGTCTTAATTCGATAATAGATGCCGACGTTAAG GTGGCTGTGATCTTCGGGAAGACTTGGCCCCTTCACGTGAAGGAGGTACT TAAAACTACTCTGGAGGACAACCTGTCCATAATCAGTGACAGCATAGAGT TCCTTAGGGATCACGGAATGGAAGTTATCTTCGATGCTGAACACTTCTAT CAAGGCTTCAAGGAGAACCCAGATTATGCGACGAGGGTAGTCGAAACTGC TTGGAGATCCAGAGCTAGCGTGGTTGTTTTAGCGGATACAAACGGCGGTA CACCGCCTCACGAAATCCTAGAGATTACTAGGAAAGTTAGAGAGGCCAGT AGTGCCAAGCTGGGAGTTCATATGCATAACGACATAGGTTGTGCTGTTGC AAATTCACTAATGGGGGTAGTTGGAGGGGCAACACATGTACAGGGTACCA TAAACGGTATAGGGGAGAGGACAGGAAACGCCGATCTGGTTCAAATTATT CCTACCTTAGTTTTGAAGATGGGATACAGGGTGTTGGAGGGTTCAGAGAG TCTCAAGAAACTCAAGGAAGTCTCTACCATGGTGTATGAACTAGCAGGGA TGCATCCCAATCCTTACCAGCCCTACGTAGGAGATAATGCCTTCACGCAT AAGGCAGGTGTTCATGCAGATGCTGTCATGAAAAATACGAGGGCATATGA GCACATAGATCCGTCACTTGTCGGAAACAGGAGGAGGATAGTGATTTCAG AACTCTCGGGCACCGCAAACTTAGTGAGCTATCTAGACAGAGTAGGGATA AAGGTTGAGAAGAAGGAGGAAAAATTGAAAGTAGCCCTCAACAAGATAAA GGAAATGGAAATGAGGGGCTACAGCTTTGACATAGCACCCGAGTCTGCCC TACTAGTGGTCCTAAAGGAACTGGGCCTTTACACCAGGTACGTGAACCTT AGGTATTGGAAGGTTATCAATGAAAATGGATTATCACTAGCTGTTGTCAA AGTGAATGATCAAATAGAGGCTTCAGAGGGTTTAGGGCCAGTTCATGCAG TGGATTTGGCATTGAGGAGGGCACTCTCGAGAGAGTTCCCTGAGATCCAG AAAGTTACGCTTACCGACTATAGGGTTATATTACCTGGACAGGTCAAGAA CACAGAGAGCGTGGTTAGGGTTACAATAGAGTTCACCGACGGGAACGATA GTTGGAGGACGGAGGGTGTATCTACTAGTGTGATAGAAGCTTCCATCATG GCCCTTGTGGATGGGCTAGATTACTACTTACAGATAAATAAGAAATTAAA ACCGATGCTGACTAAACAGACATCGTGA
A129: =IF(EXACT(H129,"N"),CONCATENATE("R",ROW()),IF(EXACT(H129,"Y"),CONCATENATE("R",ROW()),"")) -> R129 | B129: BCAA_syn_R03968 | C129: 1 2-Isopropylmalate = 1 2-Isopropylmaleate + 1 H2O | D129: 4.2.1.33 | G129: homoaconitate hydratase family protein/3-isopropylmalate dehydratase, large subunit | H129: N | I129: 2508722662 | J129: MetMK1DRAFT_00010140 | K129: MTGTLTEKILSRASGRSVSPGDVIEANVDIVAFHDLTGYHVIEVMEKANM MKIFDKSKIVVAFDHLAPPPDVRSAEIQVNIRKFVREMRLPNFHDVNVGI LHELLIEKYALPGQVIVAADSHTTTSGALGAFAQGMGASDVAAAVITGKT WMVVPQPFKVELTGTPGKWVNGKDVALKLLGDFKADYFNGMSIEVHVRNP KAFPTDYRATVSNMGIEMNADALMFVPDQETKDYIKTMRGKEVELLTPDP KASYQDEYTIELEKLEPLVAAPYSVDNVKTAREVSNVEVDQVYIGSCTNG RLSDFQMAAEILKGRTVKTRCIAIPSSYEMFKQAMEKGYIETLVNAGCVV TYGTCGPCLGGHFGVAGPGEVIVSTSSRNFRGRMGSNEAKVYLSGPSVAA ATAATGRITDPRDLQ | L129: ATGACCGGAACATTAACTGAAAAAATACTAAGTAGAGCCTCTGGAAGAAG CGTCTCTCCAGGAGACGTGATAGAGGCCAACGTGGACATAGTAGCTTTTC ATGACCTCACGGGCTATCACGTGATCGAGGTCATGGAGAAGGCCAACATG ATGAAGATATTTGACAAGTCCAAGATAGTGGTGGCCTTCGATCACCTGGC CCCTCCTCCAGACGTGAGGAGTGCCGAGATACAGGTTAACATAAGGAAGT TCGTAAGGGAGATGAGACTTCCCAACTTTCATGACGTAAACGTCGGTATC CTCCACGAGTTGCTCATAGAGAAGTACGCCCTCCCCGGGCAGGTCATAGT GGCAGCTGACAGTCACACCACGACCTCAGGAGCCCTAGGGGCGTTCGCAC AGGGCATGGGTGCCAGTGATGTGGCAGCTGCTGTGATAACTGGTAAGACC TGGATGGTAGTACCGCAGCCGTTCAAGGTAGAACTCACGGGGACTCCAGG TAAATGGGTAAACGGCAAGGACGTCGCCCTGAAACTCCTGGGGGACTTCA AGGCAGATTACTTCAACGGTATGTCCATAGAGGTTCACGTAAGGAATCCA AAGGCCTTCCCCACCGACTATAGGGCCACAGTGTCCAACATGGGAATAGA GATGAACGCTGACGCACTGATGTTCGTGCCAGACCAGGAGACTAAGGATT ACATTAAGACCATGAGGGGGAAGGAGGTGGAATTACTGACGCCCGATCCA AAGGCATCTTACCAAGACGAGTATACCATAGAGCTAGAGAAACTTGAGCC CTTAGTGGCAGCTCCTTACAGTGTAGACAACGTGAAGACAGCAAGGGAGG TCTCCAACGTAGAGGTCGACCAGGTCTATATAGGATCATGCACAAACGGG AGGCTATCTGACTTCCAGATGGCTGCGGAGATCCTGAAGGGAAGGACCGT GAAGACTAGGTGTATAGCGATCCCCTCTTCCTACGAGATGTTCAAACAGG CCATGGAGAAGGGATATATAGAGACCCTGGTGAACGCTGGGTGCGTAGTG ACTTACGGTACGTGTGGGCCCTGTCTCGGAGGACACTTCGGGGTTGCAGG ACCAGGAGAAGTCATAGTGTCCACGAGTTCCAGGAACTTCAGAGGGAGGA TGGGAAGCAATGAGGCAAAGGTTTACTTGTCAGGCCCCTCCGTGGCTGCT GCGACTGCAGCGACTGGGAGAATAACCGATCCGAGGGATTTGCAGTGA
A130: =IF(EXACT(H130,"N"),CONCATENATE("R",ROW()),IF(EXACT(H130,"Y"),CONCATENATE("R",ROW()),"")) | G130: 3-isopropylmalate dehydratase, small subunit | I130: 2508722663 | J130: MetMK1DRAFT_00010150 | K130: VIIEGPVLKYGDKIDTDIIIPARHLKYTDPNYLAQHAMEPLDPEFYKKAS KGVVVVAGKVFGMGSSREQAAIALKAAGVRVIVAESFARIFYRNCINNGL PLITLPYATKEIKEGDVVKVNVETGEVRVGNKVLNGKGITGMALDILKAG GIMEYLKRVSQVPTQGG | L130: GTGATCATTGAAGGTCCCGTACTCAAATACGGCGATAAGATAGACACGGA TATAATAATACCCGCCAGGCACCTGAAGTACACGGATCCCAACTACCTGG CACAGCACGCCATGGAGCCCCTAGACCCCGAGTTCTACAAGAAAGCCTCC AAGGGTGTAGTCGTCGTTGCAGGAAAGGTATTCGGTATGGGCTCGTCTAG GGAACAGGCCGCCATAGCCCTCAAGGCCGCTGGAGTAAGGGTGATCGTAG CTGAGAGCTTTGCAAGGATATTCTATAGGAACTGTATAAACAATGGCCTG CCCCTCATCACGCTGCCTTATGCCACAAAGGAGATAAAGGAGGGTGACGT AGTGAAGGTCAACGTGGAGACAGGGGAAGTCCGAGTGGGTAACAAGGTCC TAAATGGGAAGGGAATAACGGGGATGGCATTGGACATACTCAAGGCCGGA GGGATAATGGAATATCTGAAGAGAGTATCTCAAGTCCCGACTCAGGGTGG TTGA
A132: =IF(EXACT(H132,"N"),CONCATENATE("R",ROW()),IF(EXACT(H132,"Y"),CONCATENATE("R",ROW()),"")) -> R132 | B132: BCAA_syn_R04001 | C132: 1 2-Isopropylmaleate + 1 H2O = 1 3-Isopropylmalate | D132: 4.2.1.33 | G132: homoaconitate hydratase family protein/3-isopropylmalate dehydratase, large subunit | H132: N | I132: 2508722662 | J132: MetMK1DRAFT_00010140 | K132: MTGTLTEKILSRASGRSVSPGDVIEANVDIVAFHDLTGYHVIEVMEKANM MKIFDKSKIVVAFDHLAPPPDVRSAEIQVNIRKFVREMRLPNFHDVNVGI LHELLIEKYALPGQVIVAADSHTTTSGALGAFAQGMGASDVAAAVITGKT WMVVPQPFKVELTGTPGKWVNGKDVALKLLGDFKADYFNGMSIEVHVRNP KAFPTDYRATVSNMGIEMNADALMFVPDQETKDYIKTMRGKEVELLTPDP KASYQDEYTIELEKLEPLVAAPYSVDNVKTAREVSNVEVDQVYIGSCTNG RLSDFQMAAEILKGRTVKTRCIAIPSSYEMFKQAMEKGYIETLVNAGCVV TYGTCGPCLGGHFGVAGPGEVIVSTSSRNFRGRMGSNEAKVYLSGPSVAA ATAATGRITDPRDLQ | L132: ATGACCGGAACATTAACTGAAAAAATACTAAGTAGAGCCTCTGGAAGAAG CGTCTCTCCAGGAGACGTGATAGAGGCCAACGTGGACATAGTAGCTTTTC ATGACCTCACGGGCTATCACGTGATCGAGGTCATGGAGAAGGCCAACATG ATGAAGATATTTGACAAGTCCAAGATAGTGGTGGCCTTCGATCACCTGGC CCCTCCTCCAGACGTGAGGAGTGCCGAGATACAGGTTAACATAAGGAAGT TCGTAAGGGAGATGAGACTTCCCAACTTTCATGACGTAAACGTCGGTATC CTCCACGAGTTGCTCATAGAGAAGTACGCCCTCCCCGGGCAGGTCATAGT GGCAGCTGACAGTCACACCACGACCTCAGGAGCCCTAGGGGCGTTCGCAC AGGGCATGGGTGCCAGTGATGTGGCAGCTGCTGTGATAACTGGTAAGACC TGGATGGTAGTACCGCAGCCGTTCAAGGTAGAACTCACGGGGACTCCAGG TAAATGGGTAAACGGCAAGGACGTCGCCCTGAAACTCCTGGGGGACTTCA AGGCAGATTACTTCAACGGTATGTCCATAGAGGTTCACGTAAGGAATCCA AAGGCCTTCCCCACCGACTATAGGGCCACAGTGTCCAACATGGGAATAGA GATGAACGCTGACGCACTGATGTTCGTGCCAGACCAGGAGACTAAGGATT ACATTAAGACCATGAGGGGGAAGGAGGTGGAATTACTGACGCCCGATCCA AAGGCATCTTACCAAGACGAGTATACCATAGAGCTAGAGAAACTTGAGCC CTTAGTGGCAGCTCCTTACAGTGTAGACAACGTGAAGACAGCAAGGGAGG TCTCCAACGTAGAGGTCGACCAGGTCTATATAGGATCATGCACAAACGGG AGGCTATCTGACTTCCAGATGGCTGCGGAGATCCTGAAGGGAAGGACCGT GAAGACTAGGTGTATAGCGATCCCCTCTTCCTACGAGATGTTCAAACAGG CCATGGAGAAGGGATATATAGAGACCCTGGTGAACGCTGGGTGCGTAGTG ACTTACGGTACGTGTGGGCCCTGTCTCGGAGGACACTTCGGGGTTGCAGG ACCAGGAGAAGTCATAGTGTCCACGAGTTCCAGGAACTTCAGAGGGAGGA TGGGAAGCAATGAGGCAAAGGTTTACTTGTCAGGCCCCTCCGTGGCTGCT GCGACTGCAGCGACTGGGAGAATAACCGATCCGAGGGATTTGCAGTGA
A133: =IF(EXACT(H133,"N"),CONCATENATE("R",ROW()),IF(EXACT(H133,"Y"),CONCATENATE("R",ROW()),"")) | G133: 3-isopropylmalate dehydratase, small subunit | I133: 2508722663 | J133: MetMK1DRAFT_00010150 | K133: VIIEGPVLKYGDKIDTDIIIPARHLKYTDPNYLAQHAMEPLDPEFYKKAS KGVVVVAGKVFGMGSSREQAAIALKAAGVRVIVAESFARIFYRNCINNGL PLITLPYATKEIKEGDVVKVNVETGEVRVGNKVLNGKGITGMALDILKAG GIMEYLKRVSQVPTQGG | L133: GTGATCATTGAAGGTCCCGTACTCAAATACGGCGATAAGATAGACACGGA TATAATAATACCCGCCAGGCACCTGAAGTACACGGATCCCAACTACCTGG CACAGCACGCCATGGAGCCCCTAGACCCCGAGTTCTACAAGAAAGCCTCC AAGGGTGTAGTCGTCGTTGCAGGAAAGGTATTCGGTATGGGCTCGTCTAG GGAACAGGCCGCCATAGCCCTCAAGGCCGCTGGAGTAAGGGTGATCGTAG CTGAGAGCTTTGCAAGGATATTCTATAGGAACTGTATAAACAATGGCCTG CCCCTCATCACGCTGCCTTATGCCACAAAGGAGATAAAGGAGGGTGACGT AGTGAAGGTCAACGTGGAGACAGGGGAAGTCCGAGTGGGTAACAAGGTCC TAAATGGGAAGGGAATAACGGGGATGGCATTGGACATACTCAAGGCCGGA GGGATAATGGAATATCTGAAGAGAGTATCTCAAGTCCCGACTCAGGGTGG TTGA
A135: =IF(EXACT(H135,"N"),CONCATENATE("R",ROW()),IF(EXACT(H135,"Y"),CONCATENATE("R",ROW()),"")) -> R135 | B135: BCAA_syn_R04426 | C135: 1 3-Isopropylmalate + 1 NAD = 1 2-isopropyl-3-oxosuccinate + 1 NADH + 1 Proton | D135: 1.1.1.85 | G135: isopropylmalate/isohomocitrate dehydrogenases | H135: N | I135: 2508723836 | J135: MetMK1DRAFT_00021880 | K135: MTFRIAVIPGDGVGPEIFFESKKILGRLIENYNLDLELIEVEAGDSALAK YGEALPKQTLKTIEKSDMILKGPVGETAMDVVVKLRQMYEMYANIRPAKS LPGVQTKYGEVDVLIVRENTEDLYKGMEYQLTEDVAVGMKVITYKASRRI AEVALEMAQRRKKKVTCVHKSNVMRVTDGLFAKACRSVLLGKVQYNEMYV DAAAANLVKDPNMFDVIVTTNMYGDILSDEAAQIAGSLGLAPSANIGDNK SLFEPVHGAAFDIAGKGVVNPTAFLLSVSMMLDRMYQLSDQEKYRLASNA LTEAIYNVYREGKSLTKDVGGSVGLKEMIDAIYSKLT | L135: ATGACATTTAGGATAGCAGTCATACCTGGGGATGGTGTGGGACCAGAGAT ATTTTTTGAATCAAAAAAGATTCTAGGAAGACTAATTGAAAATTATAACT TAGATCTGGAATTAATTGAGGTAGAAGCTGGGGATTCAGCCTTAGCCAAG TATGGTGAGGCCTTGCCCAAGCAGACCCTGAAGACGATAGAGAAATCAGA CATGATACTTAAGGGACCGGTTGGCGAGACGGCCATGGACGTTGTAGTCA AGTTGAGGCAAATGTATGAAATGTATGCCAACATAAGGCCTGCAAAATCC TTGCCAGGAGTGCAGACCAAATACGGAGAGGTGGACGTTCTAATCGTGAG GGAGAACACCGAGGATCTATACAAGGGCATGGAGTATCAGCTAACAGAAG ATGTGGCAGTAGGTATGAAGGTGATAACATACAAGGCTTCCAGGAGGATA GCAGAGGTCGCGTTGGAGATGGCTCAGAGAAGAAAGAAAAAGGTGACGTG TGTCCATAAGTCCAACGTCATGAGGGTCACCGACGGTCTCTTCGCCAAGG CCTGTAGATCTGTGCTTTTGGGTAAAGTTCAATATAACGAGATGTACGTT GACGCTGCTGCCGCGAACTTAGTGAAAGATCCCAACATGTTTGACGTAAT CGTGACTACTAACATGTATGGTGATATCTTAAGTGACGAGGCAGCTCAAA TAGCAGGAAGTTTAGGCCTGGCACCGTCGGCTAACATAGGGGATAACAAG TCCCTCTTCGAACCAGTTCACGGAGCAGCATTCGATATAGCTGGAAAGGG AGTAGTTAATCCTACCGCATTCCTACTATCAGTATCAATGATGTTAGATA GGATGTACCAACTCAGTGACCAGGAAAAATATAGGTTGGCCTCAAATGCG CTGACCGAGGCCATTTACAACGTATATAGGGAAGGGAAGTCTCTAACTAA AGACGTTGGGGGAAGCGTGGGGTTGAAGGAGATGATAGACGCTATATACT CTAAGCTAACGTAG
A137: =IF(EXACT(H137,"N"),CONCATENATE("R",ROW()),IF(EXACT(H137,"Y"),CONCATENATE("R",ROW()),"")) -> R137 | B137: BCAA_syn_R01652 | C137: 1 2-isopropyl-3-oxosuccinate + 1 Proton = 1 4MOP + 1 CO2 | D137: spontaneous | H137: N
A139: =IF(EXACT(H139,"N"),CONCATENATE("R",ROW()),IF(EXACT(H139,"Y"),CONCATENATE("R",ROW()),"")) -> R139 | B139: BCAA_syn_R01088 | C139: 1 4MOP + 1 NADH + 1 NH3 + 2 Proton = 1 H2O + 1 L-Leucine + 1 NAD | D139: 2.6.1.42 / 1.4.1.9 | G139: assumed | H139: N
A140: =IF(EXACT(H140,"N"),CONCATENATE("R",ROW()),IF(EXACT(H140,"Y"),CONCATENATE("R",ROW()),""))
A141: =IF(EXACT(H141,"N"),CONCATENATE("R",ROW()),IF(EXACT(H141,"Y"),CONCATENATE("R",ROW()),"")) -> R141 | B141: GST_serine_syn_condensed | C141: 1 3-Phosphoglycerate + 1 H2O + 1 L-Glutamate + 1 NAD = 1 2-Oxoglutarate + 1 L-Serine + 1 NADH + 1 Phosphate + 1 Proton | H141: N
...

Sheet Reactions
A1: =Master!A5 -> R5 | B1: =Master!B5 -> autotrophy_reduction | C1: =Master!C5 -> Acetyl-CoA + 2 HCO3 + 3 ATP + 3 NADPH + 1 Proton = Succinyl-CoA + 2 ADP + 2 Phosphate + 3 NADP + AMP + PPi + H2O | D1: =Master!D5 -> 0 | E1: =Master!E5 -> 0 | F1: =Master!F5 -> 0 | G1: =Master!G5 -> 0 | H1: =Master!H5 -> N | J1: =A1 -> R5 | K1: =C1 -> Acetyl-CoA + 2 HCO3 + 3 ATP + 3 NADPH + 1 Proton = Succinyl-CoA + 2 ADP + 2 Phosphate + 3 NADP + AMP + PPi + H2O | L1: | | M1: # | N1: =IF(EXACT(H1,"Y"),"-inf","0") -> 0 | O1: Inf | P1: 0 | Q1: 0 | R1: 1 | S1: 1 | T1: 0 | U1: 0.01
A2: =Master!A7 -> R7 | B2: =Master!B7 -> autotrophy_regeneration | C2: =Master!C7 -> Succinyl-CoA + 2 NADPH + Proton + ATP + NAD = 2 NADP + Acetoacetyl-CoA + NADH + AMP + PPi | D2: =Master!D7 -> 0 | E2: =Master!E7 -> 0 | F2: =Master!F7 -> 0 | G2: =Master!G7 -> 0 | H2: =Master!H7 -> N | J2: =A2 -> R7 | K2: =C2 -> Succinyl-CoA + 2 NADPH + Proton + ATP + NAD = 2 NADP + Acetoacetyl-CoA + NADH + AMP + PPi | L2: | | M2: # | N2: =IF(EXACT(H2,"Y"),"-inf","0") -> 0 | O2: Inf | P2: 0 | Q2: 0 | R2: 1 | S2: 1 | T2: 0 | U2: 0.01
A3: =Master!A10 -> R10 | B3: =Master!B10 -> TCA_R01325 | C3: =Master!C10 -> 1 Citrate = 1 Isocitrate | D3: =Master!D10 -> 4.2.1.3 | E3: =Master!E10 -> 0 | F3: =Master!F10 -> 0 | G3: =Master!G10 -> aconitate hydratase 1 | H3: =Master!H10 -> Y | J3: =A3 -> R10 | K3: =C3 -> 1 Citrate = 1 Isocitrate | L3: | | M3: # | N3: =IF(EXACT(H3,"Y"),"-inf","0") -> -inf | O3: Inf | P3: 0 | Q3: 0 | R3: 1 | S3: 1 | T3: 0 | U3: 0.01
A4: =Master!A12 -> R12 | B4: =Master!B12 -> TCA_R01899 | C4: =Master!C12 -> NADP + Isocitrate = NADPH + CO2 + 2-Oxoglutarate | D4: =Master!D12 -> 1.1.1.42 | E4: =Master!E12 -> 0 | F4: =Master!F12 -> 0 | G4: =Master!G12 -> Isocitrate dehydrogenases | H4: =Master!H12 -> N | J4: =A4 -> R12 | K4: =C4 -> NADP + Isocitrate = NADPH + CO2 + 2-Oxoglutarate | L4: | | M4: # | N4: =IF(EXACT(H4,"Y"),"-inf","0") -> 0 | O4: Inf | P4: 0 | Q4: 0 | R4: 1 | S4: 1 | T4: 0 | U4: 0.01
A5: =Master!A14 -> R14 | B5: =Master!B14 -> TCA_R01197_assumed | C5: =Master!C14 -> CoA + 2-Oxoglutarate + 1 NAD = CO2 + Succinyl-CoA + 1 NADH | D5: =Master!D14 -> 1.2.7.3 | E5: =Master!E14 -> 0 | F5: =Master!F14 -> 0 | G5: =Master!G14 -> 2-oxoacid:acceptor oxidoreductase, alpha subunit | H5: =Master!H14 -> N | J5: =A5 -> R14 | K5: =C5 -> CoA + 2-Oxoglutarate + 1 NAD = CO2 + Succinyl-CoA + 1 NADH | L5: | | M5: # | N5: =IF(EXACT(H5,"Y"),"-inf","0") -> 0 | O5: Inf | P5: 0 | Q5: 0 | R5: 1 | S5: 1 | T5: 0 | U5: 0.01
A6: =Master!A17 -> R17 | B6: =Master!B17 -> TCA_R00405 | C6: =Master!C17 -> 1 ADP + 1 Phosphate + 1 Succinyl-CoA = 1 ATP + 1 CoA + 1 Succinate | D6: =Master!D17 -> 6.2.1.5 | E6: =Master!E17 -> 0 | F6: =Master!F17 -> 0 | G6: =Master!G17 -> succinyl-CoA synthetase, alpha subunit | H6: =Master!H17 -> Y | J6: =A6 -> R17 | K6: =C6 -> 1 ADP + 1 Phosphate + 1 Succinyl-CoA = 1 ATP + 1 CoA + 1 Succinate | L6: | | M6: # | N6: =IF(EXACT(H6,"Y"),"-inf","0") -> -inf | O6: Inf | P6: 0 | Q6: 0 | R6: 1 | S6: 1 | T6: 0 | U6: 0.01
A7: =Master!A20 -> R20 | B7: =Master!B20 -> TCA_complex_II-EC-1.3.99.1_assumed | C7: =Master!C20 -> 1 ubiquinone + 1 Succinate = 1 ubiquinol + 1 Fumarate | D7: =Master!D20 -> 1.3.99.1 | E7: =Master!E20 -> 0 | F7: =Master!F20 -> 0 | G7: =Master!G20 -> succinate dehydrogenase and fumarate reductase iron-sulfur protein | H7: =Master!H20 -> Y | J7: =A7 -> R20 | K7: =C7 -> 1 ubiquinone + 1 Succinate = 1 ubiquinol + 1 Fumarate | L7: | | M7: # | N7: =IF(EXACT(H7,"Y"),"-inf","0") -> -inf | O7: Inf | P7: 0 | Q7: 0 | R7: 1 | S7: 1 | T7: 0 | U7: 0.01
A8: =Master!A27 -> R27 | B8: =Master!B27 -> TCA_R01082 | C8: =Master!C27 -> 1 Fumarate + 1 H2O = 1 L-Malate | D8: =Master!D27 -> 4.2.1.2 | E8: =Master!E27 -> 0 | F8: =Master!F27 -> 0 | G8: =Master!G27 -> hydro-lyases, Fe-S type, tartrate/fumarate subfamily, beta region | H8: =Master!H27 -> Y | J8: =A8 -> R27 | K8: =C8 -> 1 Fumarate + 1 H2O = 1 L-Malate | L8: | | M8: # | N8: =IF(EXACT(H8,"Y"),"-inf","0") -> -inf | O8: Inf | P8: 0 | Q8: 0 | R8: 1 | S8: 1 | T8: 0 | U8: 0.01
A9: =Master!A31 -> R31 | B9: =Master!B31 -> TCA_R00342 | C9: =Master!C31 -> 1 L-Malate + 1 NAD = 1 NADH + 1 Oxaloacetate + 1 Proton | D9: =Master!D31 -> 1.1.1.37 | E9: =Master!E31 -> 0 | F9: =Master!F31 -> 0 | G9: =Master!G31 -> Malate/lactate dehydrogenases | H9: =Master!H31 -> Y | J9: =A9 -> R31 | K9: =C9 -> 1 L-Malate + 1 NAD = 1 NADH + 1 Oxaloacetate + 1 Proton | L9: | | M9: # | N9: =IF(EXACT(H9,"Y"),"-inf","0") -> -inf | O9: Inf | P9: 0 | Q9: 0 | R9: 1 | S9: 1 | T9: 0 | U9: 0.01
A10: =Master!A33 -> R33 | B10: =Master!B33 -> TCA_R00351 | C10: =Master!C33 -> 1 Acetyl-CoA + 1 H2O + 1 Oxaloacetate = 1 Citrate + 1 CoA + 1 Proton | D10: =Master!D33 -> 2.3.3.1 | E10: =Master!E33 -> 0 | F10: =Master!F33 -> 0 | G10: =Master!G33 -> 2-methylcitrate synthase/citrate synthase II | H10: =Master!H33 -> Y | J10: =A10 -> R33 | K10: =C10 -> 1 Acetyl-CoA + 1 H2O + 1 Oxaloacetate = 1 Citrate + 1 CoA + 1 Proton | L10: | | M10: # | N10: =IF(EXACT(H10,"Y"),"-inf","0") -> -inf | O10: Inf | P10: 0 | Q10: 0 | R10: 1 | S10: 1 | T10: 0 | U10: 0.01
A11: =Master!A36 -> R36 | B11: =Master!B36 -> Pyruvate_R00344 | C11: =Master!C36 -> ADP + Phosphate + Oxaloacetate + 2 Proton = ATP + Pyruvate + H2CO3 | D11: =Master!D36 -> 0 | E11: =Master!E36 -> 0 | F11: =Master!F36 -> 0 | G11: =Master!G36 -> 0 | H11: =Master!H36 -> N | J11: =A11 -> R36 | K11: =C11 -> ADP + Phosphate + Oxaloacetate + 2 Proton = ATP + Pyruvate + H2CO3 | L11: | | M11: # | N11: =IF(EXACT(H11,"Y"),"-inf","0") -> 0 | O11: Inf | P11: 0 | Q11: 0 | R11: 1 | S11: 1 | T11: 0 | U11: 0.01
A12: =Master!A38 -> R38 | B12: =Master!B38 -> G-G_R00341_assumedfor_R00726 | C12: =Master!C38 -> ATP + Oxaloacetate = ADP + CO2 + Phosphoenolpyruvate | D12: =Master!D38 -> 4.1.1.32 | E12: =Master!E38 -> 0 | F12: =Master!F38 -> 0 | G12: =Master!G38 -> Phosphoenolpyruvate carboxykinase (GTP) | H12: =Master!H38 -> Y | J12: =A12 -> R38 | K12: =C12 -> ATP + Oxaloacetate = ADP + CO2 + Phosphoenolpyruvate | L12: | | M12: # | N12: =IF(EXACT(H12,"Y"),"-inf","0") -> -inf | O12: Inf | P12: 0 | Q12: 0 | R12: 1 | S12: 1 | T12: 0 | U12: 0.01
A13: =Master!A40 -> R40 | B13: =Master!B40 -> pyruvate-dehyd | C13: =Master!C40 -> Pyruvate + CoA + 1 NAD = Acetyl-CoA + CO2 + 1 NADH | D13: =Master!D40 -> 1.2.7.1 | E13: =Master!E40 -> 0 | F13: =Master!F40 -> 0 | G13: =Master!G40 -> 2-oxoacid:acceptor oxidoreductase, gamma subunit, pyruvate/2-ketoisovalerate family | H13: =Master!H40 -> Y | J13: =A13 -> R40 | K13: =C13 -> Pyruvate + CoA + 1 NAD = Acetyl-CoA + CO2 + 1 NADH | L13: | | M13: # | N13: =IF(EXACT(H13,"Y"),"-inf","0") -> -inf | O13: Inf | P13: 0 | Q13: 0 | R13: 1 | S13: 1 | T13: 0 | U13: 0.01
A14: =Master!A49 -> R49 | B14: =Master!B49 -> G-G_R00235 | C14: =Master!C49 -> ATP + CoA + Acetate = PPi + AMP + Acetyl-CoA | D14: =Master!D49 -> 6.2.1.1 | E14: =Master!E49 -> 0 | F14: =Master!F49 -> 0 | G14: =Master!G49 -> 0 | H14: =Master!H49 -> N | J14: =A14 -> R49 | K14: =C14 -> ATP + CoA + Acetate = PPi + AMP + Acetyl-CoA | L14: | | M14: # | N14: =IF(EXACT(H14,"Y"),"-inf","0") -> 0 | O14: Inf | P14: 0 | Q14: 0 | R14: 1 | S14: 1 | T14: 0 | U14: 0.01
A15: =Master!A52 -> R52 | B15: =Master!B52 -> G-G_R00200 | C15: =Master!C52 -> 1 ADP + 1 Phosphoenolpyruvate + 1 Proton = 1 ATP + 1 Pyruvate | D15: =Master!D52 -> 2.7.1.40 | E15: =Master!E52 -> 0 | F15: =Master!F52 -> 0 | G15: =Master!G52 -> pyruvate kinase | H15: =Master!H52 -> N | J15: =A15 -> R52 | K15: =C15 -> 1 ADP + 1 Phosphoenolpyruvate + 1 Proton = 1 ATP + 1 Pyruvate | L15: | | M15: # | N15: =IF(EXACT(H15,"Y"),"-inf","0") -> 0 | O15: Inf | P15: 0 | Q15: 0 | R15: 1 | S15: 1 | T15: 0 | U15: 0.01
A16: =Master!A54 -> R54 | B16: =Master!B54 -> G-G_R00658 | C16: =Master!C54 -> 1 2-Phospho-D-glycerate = 1 H2O + 1 Phosphoenolpyruvate | D16: =Master!D54 -> 4.2.1.11 | E16: =Master!E54 -> 0 | F16: =Master!F54 -> 0 | G16: =Master!G54 -> phosphopyruvate hydratase | H16: =Master!H54 -> Y | J16: =A16 -> R54 | K16: =C16 -> 1 2-Phospho-D-glycerate = 1 H2O + 1 Phosphoenolpyruvate | L16: | | M16: # | N16: =IF(EXACT(H16,"Y"),"-inf","0") -> -inf | O16: Inf | P16: 0 | Q16: 0 | R16: 1 | S16: 1 | T16: 0 | U16: 0.01
A17: =Master!A56 -> R56 | B17: =Master!B56 -> G-G_R01518 | C17: =Master!C56 -> 1 2-Phospho-D-glycerate = 1 3-Phosphoglycerate | D17: =Master!D56 -> 5.4.2.1 | E17: =Master!E56 -> 0 | F17: =Master!F56 -> 0 | G17: =Master!G56 -> Fructose-2,6-bisphosphatase | H17: =Master!H56 -> Y | J17: =A17 -> R56 | K17: =C17 -> 1 2-Phospho-D-glycerate = 1 3-Phosphoglycerate | L17: | | M17: # | N17: =IF(EXACT(H17,"Y"),"-inf","0") -> -inf | O17: Inf | P17: 0 | Q17: 0 | R17: 1 | S17: 1 | T17: 0 | U17: 0.01
A18: =Master!A59 -> R59 | B18: =Master!B59 -> G-G_R01512 | C18: =Master!C59 -> 1 3-Phosphoglycerate + 1 ATP = 1 1_3-Bisphospho-D-glycerate + 1 ADP | D18: =Master!D59 -> 2.7.2.3 | E18: =Master!E59 -> 0 | F18: =Master!F59 -> 0 | G18: =Master!G59 -> 3-phosphoglycerate kinase | H18: =Master!H59 -> Y | J18: =A18 -> R59 | K18: =C18 -> 1 3-Phosphoglycerate + 1 ATP = 1 1_3-Bisphospho-D-glycerate + 1 ADP | L18: | | M18: # | N18: =IF(EXACT(H18,"Y"),"-inf","0") -> -inf | O18: Inf | P18: 0 | Q18: 0 | R18: 1 | S18: 1 | T18: 0 | U18: 0.01
A19: =Master!A61 -> R61 | B19: =Master!B61 -> G-G_R01061 | C19: =Master!C61 -> 1 Glyceraldehyde3-phosphate + 1 NAD + 1 Phosphate = 1 1_3-Bisphospho-D-glycerate + 1 NADH + 1 Proton | D19: =Master!D61 -> 1.2.1.59 | E19: =Master!E61 -> 0 | F19: =Master!F61 -> 0 | G19: =Master!G61 -> glyceraldehyde-3-phosphate dehydrogenase, type II | H19: =Master!H61 -> Y | J19: =A19 -> R61 | K19: =C19 -> 1 Glyceraldehyde3-phosphate + 1 NAD + 1 Phosphate = 1 1_3-Bisphospho-D-glycerate + 1 NADH + 1 Proton | L19: | | M19: # | N19: =IF(EXACT(H19,"Y"),"-inf","0") -> -inf | O19: Inf | P19: 0 | Q19: 0 | R19: 1 | S19: 1 | T19: 0 | U19: 0.01
A20: =Master!A63 -> R63 | B20: =Master!B63 -> G-G_R01015 | C20: =Master!C63 -> 1 Glyceraldehyde3-phosphate = 1 DHAP | D20: =Master!D63 -> 5.3.1.1 | E20: =Master!E63 -> 0 | F20: =Master!F63 -> 0 | G20: =Master!G63 -> triosephosphate isomerase | H20: =Master!H63 -> Y | J20: =A20 -> R63 | K20: =C20 -> 1 Glyceraldehyde3-phosphate = 1 DHAP | L20: | | M20: # | N20: =IF(EXACT(H20,"Y"),"-inf","0") -> -inf | O20: Inf | P20: 0 | Q20: 0 | R20: 1 | S20: 1 | T20: 0 | U20: 0.01
A21: =Master!A65 -> R65 | B21: =Master!B65 -> G-G_R01070_assumed | C21: =Master!C65 -> D-fructose-1_6-bisphosphate = DHAP + Glyceraldehyde3-phosphate | D21: =Master!D65 -> 4.1.2.13 | E21: =Master!E65 -> 0 | F21: =Master!F65 -> 0 | G21: =Master!G65 -> DhnA-type fructose-1,6-bisphosphate aldolase and related enzymes | H21: =Master!H65 -> Y | J21: =A21 -> R65 | K21: =C21 -> D-fructose-1_6-bisphosphate = DHAP + Glyceraldehyde3-phosphate | L21: | | M21: # | N21: =IF(EXACT(H21,"Y"),"-inf","0") -> -inf | O21: Inf | P21: 0 | Q21: 0 | R21: 1 | S21: 1 | T21: 0 | U21: 0.01
A22: =Master!A68 -> R68 | B22: =Master!B68 -> G-G_R04780 | C22: =Master!C68 -> 1 D-fructose-1_6-bisphosphate + 1 H2O = 1 D-fructose-6-phosphate + 1 Phosphate | D22: =Master!D68 -> 3.1.3.11 | E22: =Master!E68 -> 0 | F22: =Master!F68 -> 0 | G22: =Master!G68 -> Archaeal fructose 1,6-bisphosphatase | H22: =Master!H68 -> N | J22: =A22 -> R68 | K22: =C22 -> 1 D-fructose-1_6-bisphosphate + 1 H2O = 1 D-fructose-6-phosphate + 1 Phosphate | L22: | | M22: # | N22: =IF(EXACT(H22,"Y"),"-inf","0") -> 0 | O22: Inf | P22: 0 | Q22: 0 | R22: 1 | S22: 1 | T22: 0 | U22: 0.01
A23: =Master!A70 -> R70 | B23: =Master!B70 -> G-G_glc6p-frc6p-isom | C23: =Master!C70 -> 1 glucose-6-phosphate = 1 D-fructose-6-phosphate | D23: =Master!D70 -> 5.3.1.9 | E23: =Master!E70 -> 0 | F23: =Master!F70 -> 0 | G23: =Master!G70 -> bifunctional phosphoglucose/phosphomannose isomerase | H23: =Master!H70 -> Y | J23: =A23 -> R70 | K23: =C23 -> 1 glucose-6-phosphate = 1 D-fructose-6-phosphate | L23: | | M23: # | N23: =IF(EXACT(H23,"Y"),"-inf","0") -> -inf | O23: Inf | P23: 0 | Q23: 0 | R23: 1 | S23: 1 | T23: 0 | U23: 0.01
A24: =Master!A72 -> R72 | B24: =Master!B72 -> G-G_R01058 | C24: =Master!C72 -> 1 Glyceraldehyde3-phosphate + 1 H2O + 1 NADP = 1 3-Phosphoglycerate + 1 NADPH + 2 Proton | D24: =Master!D72 -> 0 | E24: =Master!E72 -> 0 | F24: =Master!F72 -> 0 | G24: =Master!G72 -> 0 | H24: =Master!H72 -> N | J24: =A24 -> R72 | K24: =C24 -> 1 Glyceraldehyde3-phosphate + 1 H2O + 1 NADP = 1 3-Phosphoglycerate + 1 NADPH + 2 Proton | L24: | | M24: # | N24: =IF(EXACT(H24,"Y"),"-inf","0") -> 0 | O24: Inf | P24: 0 | Q24: 0 | R24: 1 | S24: 1 | T24: 0 | U24: 0.01
A25: =Master!A74 -> R74 | B25: =Master!B74 -> pyruvate_R00199 | C25: =Master!C74 -> H2O + ATP + Pyruvate = Phosphate + AMP + Phosphoenolpyruvate + 2 Proton | D25: =Master!D74 -> 2.7.9.2 | E25: =Master!E74 -> 0 | F25: =Master!F74 -> 0 | G25: =Master!G74 -> Phosphoenolpyruvate synthase/pyruvate phosphate dikinase | H25: =Master!H74 -> N | J25: =A25 -> R74 | K25: =C25 -> H2O + ATP + Pyruvate = Phosphate + AMP + Phosphoenolpyruvate + 2 Proton | L25: | | M25: # | N25: =IF(EXACT(H25,"Y"),"-inf","0") -> 0 | O25: Inf | P25: 0 | Q25: 0 | R25: 1 | S25: 1 | T25: 0 | U25: 0.01
A26: =Master!A77 -> R77 | B26: =Master!B77 -> pyruvate_R00345 | C26: =Master!C77 -> 1 CO2 + 1 H2O + 1 Phosphoenolpyruvate = 1 Oxaloacetate + 1 Phosphate + 1 Proton | D26: =Master!D77 -> 4.1.1.31 | E26: =Master!E77 -> 0 | F26: =Master!F77 -> 0 | G26: =Master!G77 -> phosphoenolpyruvate carboxylase, archaeal type | H26: =Master!H77 -> N | J26: =A26 -> R77 | K26: =C26 -> 1 CO2 + 1 H2O + 1 Phosphoenolpyruvate = 1 Oxaloacetate + 1 Phosphate + 1 Proton | L26: | | M26: # | N26: =IF(EXACT(H26,"Y"),"-inf","0") -> 0 | O26: Inf | P26: 0 | Q26: 0 | R26: 1 | S26: 1 | T26: 0 | U26: 0.01
A27: =Master!A79 -> R79 | B27: =Master!B79 -> pyruvate_R00216 | C27: =Master!C79 -> 1 L-Malate + 1 NADP = 1 CO2 + 1 NADPH + 1 Pyruvate | D27: =Master!D79 -> 1.1.1.38 | E27: =Master!E79 -> 0 | F27: =Master!F79 -> 0 | G27: =Master!G79 -> Malic enzyme | H27: =Master!H79 -> Y | J27: =A27 -> R79 | K27: =C27 -> 1 L-Malate + 1 NADP = 1 CO2 + 1 NADPH + 1 Pyruvate | L27: | | M27: # | N27: =IF(EXACT(H27,"Y"),"-inf","0") -> -inf | O27: Inf | P27: 0 | Q27: 0 | R27: 1 | S27: 1 | T27: 0 | U27: 0.01
A28: =Master!A83 -> R83 | B28: =Master!B83 -> PPP_R01641 | C28: =Master!C83 -> 1 Glyceraldehyde3-phosphate + 1 Sedoheptulose7-phosphate = 1 D-Xylulose5-phosphate + 1 ribose-5-phosphate | D28: =Master!D83 -> 2.2.1.1 | E28: =Master!E83 -> 0 | F28: =Master!F83 -> 0 | G28: =Master!G83 -> Transketolase, C-terminal subunit | H28: =Master!H83 -> Y | J28: =A28 -> R83 | K28: =C28 -> 1 Glyceraldehyde3-phosphate + 1 Sedoheptulose7-phosphate = 1 D-Xylulose5-phosphate + 1 ribose-5-phosphate | L28: | | M28: # | N28: =IF(EXACT(H28,"Y"),"-inf","0") -> -inf | O28: Inf | P28: 0 | Q28: 0 | R28: 1 | S28: 1 | T28: 0 | U28: 0.01
A29: =Master!A84 -> R84 | B29: =Master!B84 -> PPP_R01830_R01067 | C29: =Master!C84 -> 1 D-fructose-6-phosphate + 1 Glyceraldehyde3-phosphate = 1 D-Erythrose4-phosphate + 1 D-Xylulose5-phosphate | D29: =Master!D84 -> 2.2.1.1 | E29: =Master!E84 -> 0 | F29: =Master!F84 -> 0 | G29: =Master!G84 -> Transketolase, N-terminal subunit | H29: =Master!H84 -> Y | J29: =A29 -> R84 | K29: =C29 -> 1 D-fructose-6-phosphate + 1 Glyceraldehyde3-phosphate = 1 D-Erythrose4-phosphate + 1 D-Xylulose5-phosphate | L29: | | M29: # | N29: =IF(EXACT(H29,"Y"),"-inf","0") -> -inf | O29: Inf | P29: 0 | Q29: 0 | R29: 1 | S29: 1 | T29: 0 | U29: 0.01
A30: =Master!A86 -> R86 | B30: =Master!B86 -> PPP_R01529_assumed | C30: =Master!C86 -> D-Ribulose5-phosphate = D-Xylulose5-phosphate | D30: =Master!D86 -> 5.1.3.1 | E30: =Master!E86 -> 0 | F30: =Master!F86 -> 0 | G30: =Master!G86 -> assumed | H30: =Master!H86 -> Y | J30: =A30 -> R86 | K30: =C30 -> D-Ribulose5-phosphate = D-Xylulose5-phosphate | L30: | | M30: # | N30: =IF(EXACT(H30,"Y"),"-inf","0") -> -inf | O30: Inf | P30: 0 | Q30: 0 | R30: 1 | S30: 1 | T30: 0 | U30: 0.01
A31: =Master!A88 -> R88 | B31: =Master!B88 -> PPP_R01056 | C31: =Master!C88 -> 1 ribose-5-phosphate = 1 D-Ribulose5-phosphate | D31: =Master!D88 -> 5.3.1.6 | E31: =Master!E88 -> 0 | F31: =Master!F88 -> 0 | G31: =Master!G88 -> ribose 5-phosphate isomerase | H31: =Master!H88 -> Y | J31: =A31 -> R88 | K31: =C31 -> 1 ribose-5-phosphate = 1 D-Ribulose5-phosphate | L31: | | M31: # | N31: =IF(EXACT(H31,"Y"),"-inf","0") -> -inf | O31: Inf | P31: 0 | Q31: 0 | R31: 1 | S31: 1 | T31: 0 | U31: 0.01
A32: =Master!A90 -> R90 | B32: =Master!B90 -> PPP_R01049 | C32: =Master!C90 -> 1 ATP + 1 ribose-5-phosphate = 1 AMP + 1 Proton + 1 PRPP | D32: =Master!D90 -> 2.7.6.1 | E32: =Master!E90 -> 0 | F32: =Master!F90 -> 0 | G32: =Master!G90 -> ribose-phosphate pyrophosphokinase | H32: =Master!H90 -> N | J32: =A32 -> R90 | K32: =C32 -> 1 ATP + 1 ribose-5-phosphate = 1 AMP + 1 Proton + 1 PRPP | L32: | | M32: # | N32: =IF(EXACT(H32,"Y"),"-inf","0") -> 0 | O32: Inf | P32: 0 | Q32: 0 | R32: 1 | S32: 1 | T32: 0 | U32: 0.01
A33: =Master!A92 -> R92 | B33: =Master!B92 -> PPP_hexulose-6-phosphate_synthase | C33: =Master!C92 -> 1 3-hexulose-6-phosphate = 1 D-Ribulose5-phosphate + 1 formaldehyde | D33: =Master!D92 -> 4.1.2.43 | E33: =Master!E92 -> 0 | F33: =Master!F92 -> 0 | G33: =Master!G92 -> 0 | H33: =Master!H92 -> N | J33: =A33 -> R92 | K33: =C33 -> 1 3-hexulose-6-phosphate = 1 D-Ribulose5-phosphate + 1 formaldehyde | L33: | | M33: # | N33: =IF(EXACT(H33,"Y"),"-inf","0") -> 0 | O33: Inf | P33: 0 | Q33: 0 | R33: 1 | S33: 1 | T33: 0 | U33: 0.01
A34: =Master!A94 -> R94 | B34: =Master!B94 -> PPP_hexulose-6-phosphate_isomerase | C34: =Master!C94 -> 1 D-fructose-6-phosphate = 1 3-hexulose-6-phosphate | D34: =Master!D94 -> 5.3.1.27 | E34: =Master!E94 -> 0 | F34: =Master!F94 -> 0 | G34: =Master!G94 -> 0 | H34: =Master!H94 -> Y | J34: =A34 -> R94 | K34: =C34 -> 1 D-fructose-6-phosphate = 1 3-hexulose-6-phosphate | L34: | | M34: # | N34: =IF(EXACT(H34,"Y"),"-inf","0") -> -inf | O34: Inf | P34: 0 | Q34: 0 | R34: 1 | S34: 1 | T34: 0 | U34: 0.01
A35: =Master!A96 -> R96 | B35: =Master!B96 -> PPP_ec_4.1.2.-_assumed | C35: =Master!C96 -> 1 sedoheptulose-1_7-bisphosphate = 1 D-Erythrose4-phosphate + 1 DHAP | D35: =Master!D96 -> 4.1.2.- | E35: =Master!E96 -> 0 | F35: =Master!F96 -> 0 | G35: =Master!G96 -> assumed | H35: =Master!H96 -> Y | J35: =A35 -> R96 | K35: =C35 -> 1 sedoheptulose-1_7-bisphosphate = 1 D-Erythrose4-phosphate + 1 DHAP | L35: | | M35: # | N35: =IF(EXACT(H35,"Y"),"-inf","0") -> -inf | O35: Inf | P35: 0 | Q35: 0 | R35: 1 | S35: 1 | T35: 0 | U35: 0.01
A36: =Master!A98 -> R98 | B36: =Master!B98 -> PPP_ec_3.1.3.37 | C36: =Master!C98 -> 1 H2O + 1 sedoheptulose-1_7-bisphosphate = 1 Phosphate + 1 Sedoheptulose7-phosphate | D36: =Master!D98 -> 0 | E36: =Master!E98 -> 0 | F36: =Master!F98 -> 0 | G36: =Master!G98 -> 0 | H36: =Master!H98 -> N | J36: =A36 -> R98 | K36: =C36 -> 1 H2O + 1 sedoheptulose-1_7-bisphosphate = 1 Phosphate + 1 Sedoheptulose7-phosphate | L36: | | M36: # | N36: =IF(EXACT(H36,"Y"),"-inf","0") -> 0 | O36: Inf | P36: 0 | Q36: 0 | R36: 1 | S36: 1 | T36: 0 | U36: 0.01
A37: =Master!A100 -> R100 | B37: =Master!B100 -> BCAA_syn_R00996 | C37: =Master!C100 -> 1 L-Threonine = 1 2-Oxobutyrate + 1 NH3 + 1 Proton | D37: =Master!D100 -> 4.3.1.19 | E37: =Master!E100 -> 0 | F37: =Master!F100 -> 0 | G37: =Master!G100 -> threonine dehydratase, medium form | H37: =Master!H100 -> N | J37: =A37 -> R100 | K37: =C37 -> 1 L-Threonine = 1 2-Oxobutyrate + 1 NH3 + 1 Proton | L37: | | M37: # | N37: =IF(EXACT(H37,"Y"),"-inf","0") -> 0 | O37: Inf | P37: 0 | Q37: 0 | R37: 1 | S37: 1 | T37: 0 | U37: 0.01
A38: =Master!A102 -> R102 | B38: =Master!B102 -> BCAA_syn_R03194 | C38: =Master!C102 -> 1 2-Hydroxyethyl-ThPP + 1 2-Oxobutyrate = 1 2-Aceto-2-hydroxybutanoate + 1 TPP | D38: =Master!D102 -> 2.2.1.6 | E38: =Master!E102 -> 0 | F38: =Master!F102 -> 0 | G38: =Master!G102 -> Thiamine pyrophosphate-requiring enzymes [acetolactate synthase, pyruvate dehydrogenase (cytochrome), glyoxylate carboligase, phosphonopyruvate decarboxylase] | H38: =Master!H102 -> N | J38: =A38 -> R102 | K38: =C38 -> 1 2-Hydroxyethyl-ThPP + 1 2-Oxobutyrate = 1 2-Aceto-2-hydroxybutanoate + 1 TPP | L38: | | M38: # | N38: =IF(EXACT(H38,"Y"),"-inf","0") -> 0 | O38: Inf | P38: 0 | Q38: 0 | R38: 1 | S38: 1 | T38: 0 | U38: 0.01
A39: =Master!A108 -> R108 | B39: =Master!B108 -> BCAA_syn_R05069_R05068 | C39: =Master!C108 -> 1 2-Aceto-2-hydroxybutanoate + 1 NADPH + 1 Proton = 1 2_3-Dihydroxy-3-methylvalerate + 1 NADP | D39: =Master!D108 -> 1.1.1.86 | E39: =Master!E108 -> 0 | F39: =Master!F108 -> 0 | G39: =Master!G108 -> ketol-acid reductoisomerase | H39: =Master!H108 -> N | J39: =A39 -> R108 | K39: =C39 -> 1 2-Aceto-2-hydroxybutanoate + 1 NADPH + 1 Proton = 1 2_3-Dihydroxy-3-methylvalerate + 1 NADP | L39: | | M39: # | N39: =IF(EXACT(H39,"Y"),"-inf","0") -> 0 | O39: Inf | P39: 0 | Q39: 0 | R39: 1 | S39: 1 | T39: 0 | U39: 0.01
A40: =Master!A110 -> R110 | B40: =Master!B110 -> BCAA_syn_R05070 | C40: =Master!C110 -> 1 2_3-Dihydroxy-3-methylvalerate = 1 3MOP + 1 H2O | D40: =Master!D110 -> 4.2.1.9 | E40: =Master!E110 -> 0 | F40: =Master!F110 -> 0 | G40: =Master!G110 -> dihydroxy-acid dehydratase | H40: =Master!H110 -> N | J40: =A40 -> R110 | K40: =C40 -> 1 2_3-Dihydroxy-3-methylvalerate = 1 3MOP + 1 H2O | L40: | | M40: # | N40: =IF(EXACT(H40,"Y"),"-inf","0") -> 0 | O40: Inf | P40: 0 | Q40: 0 | R40: 1 | S40: 1 | T40: 0 | U40: 0.01
A41: =Master!A112 -> R112 | B41: =Master!B112 -> BCAA_syn_R02196 | C41: =Master!C112 -> 1 3MOP + 1 NADH + 1 NH3 + 2 Proton = 1 H2O + 1 L-Isoleucine + 1 NAD | D41: =Master!D112 -> 2.6.1.42 / 1.4.1.9 | E41: =Master!E112 -> 0 | F41: =Master!F112 -> 0 | G41: =Master!G112 -> assumed | H41: =Master!H112 -> N | J41: =A41 -> R112 | K41: =C41 -> 1 3MOP + 1 NADH + 1 NH3 + 2 Proton = 1 H2O + 1 L-Isoleucine + 1 NAD | L41: | | M41: # | N41: =IF(EXACT(H41,"Y"),"-inf","0") -> 0 | O41: Inf | P41: 0 | Q41: 0 | R41: 1 | S41: 1 | T41: 0 | U41: 0.01
A42: =Master!A114 -> R114 | B42: =Master!B114 -> BCAA_syn_R04672 | C42: =Master!C114 -> 1 2-Hydroxyethyl-ThPP + 1 Pyruvate = 1 ALCTT + 1 TPP | D42: =Master!D114 -> 2.2.1.6 | E42: =Master!E114 -> 0 | F42: =Master!F114 -> 0 | G42: =Master!G114 -> Thiamine pyrophosphate-requiring enzymes [acetolactate synthase, pyruvate dehydrogenase (cytochrome), glyoxylate carboligase, phosphonopyruvate decarboxylase] | H42: =Master!H114 -> N | J42: =A42 -> R114 | K42: =C42 -> 1 2-Hydroxyethyl-ThPP + 1 Pyruvate = 1 ALCTT + 1 TPP | L42: | | M42: # | N42: =IF(EXACT(H42,"Y"),"-inf","0") -> 0 | O42: Inf | P42: 0 | Q42: 0 | R42: 1 | S42: 1 | T42: 0 | U42: 0.01
A43: =Master!A119 -> R119 | B43: =Master!B119 -> BCAA_syn_R05071_R04440 | C43: =Master!C119 -> 1 ALCTT + 1 NADPH + 1 Proton = 1 2_3-Dihydroxy-isovalerate + 1 NADP | D43: =Master!D119 -> 1.1.1.86 | E43: =Master!E119 -> 0 | F43: =Master!F119 -> 0 | G43: =Master!G119 -> ketol-acid reductoisomerase | H43: =Master!H119 -> N | J43: =A43 -> R119 | K43: =C43 -> 1 ALCTT + 1 NADPH + 1 Proton = 1 2_3-Dihydroxy-isovalerate + 1 NADP | L43: | | M43: # | N43: =IF(EXACT(H43,"Y"),"-inf","0") -> 0 | O43: Inf | P43: 0 | Q43: 0 | R43: 1 | S43: 1 | T43: 0 | U43: 0.01
A44: =Master!A121 -> R121 | B44: =Master!B121 -> BCAA_syn_R04441 | C44: =Master!C121 -> 1 2_3-Dihydroxy-isovalerate = 1 3-Methyl-2-oxobutanoate + 1 H2O | D44: =Master!D121 -> 4.2.1.9 | E44: =Master!E121 -> 0 | F44: =Master!F121 -> 0 | G44: =Master!G121 -> dihydroxy-acid dehydratase | H44: =Master!H121 -> N | J44: =A44 -> R121 | K44: =C44 -> 1 2_3-Dihydroxy-isovalerate = 1 3-Methyl-2-oxobutanoate + 1 H2O | L44: | | M44: # | N44: =IF(EXACT(H44,"Y"),"-inf","0") -> 0 | O44: Inf | P44: 0 | Q44: 0 | R44: 1 | S44: 1 | T44: 0 | U44: 0.01
A45: =Master!A123 -> R123 | B45: =Master!B123 -> BCAA_syn_R01434 | C45: =Master!C123 -> 1 3-Methyl-2-oxobutanoate + 1 NADH + 1 NH3 + 2 Proton = 1 H2O + 1 L-Valine + 1 NAD | D45: =Master!D123 -> 2.6.1.42 / 1.4.1.9 | E45: =Master!E123 -> 0 | F45: =Master!F123 -> 0 | G45: =Master!G123 -> assumed | H45: =Master!H123 -> N | J45: =A45 -> R123 | K45: =C45 -> 1 3-Methyl-2-oxobutanoate + 1 NADH + 1 NH3 + 2 Proton = 1 H2O + 1 L-Valine + 1 NAD | L45: | | M45: # | N45: =IF(EXACT(H45,"Y"),"-inf","0") -> 0 | O45: Inf | P45: 0 | Q45: 0 | R45: 1 | S45: 1 | T45: 0 | U45: 0.01
A46: =Master!A125 -> R125 | B46: =Master!B125 -> BCAA_syn_R01213 | C46: =Master!C125 -> 1 3-Methyl-2-oxobutanoate + 1 Acetyl-CoA + 1 H2O = 1 2-Isopropylmalate + 1 CoA + 1 Proton | D46: =Master!D125 -> 2.3.3.13 | E46: =Master!E125 -> 0 | F46: =Master!F125 -> 0 | G46: =Master!G125 -> isopropylmalate/citramalate/homocitrate synthases | H46: =Master!H125 -> N | J46: =A46 -> R125 | K46: =C46 -> 1 3-Methyl-2-oxobutanoate + 1 Acetyl-CoA + 1 H2O = 1 2-Isopropylmalate + 1 CoA + 1 Proton | L46: | | M46: # | N46: =IF(EXACT(H46,"Y"),"-inf","0") -> 0 | O46: Inf | P46: 0 | Q46: 0 | R46: 1 | S46: 1 | T46: 0 | U46: 0.01
A47: =Master!A129 -> R129 | B47: =Master!B129 -> BCAA_syn_R03968 | C47: =Master!C129 -> 1 2-Isopropylmalate = 1 2-Isopropylmaleate + 1 H2O | D47: =Master!D129 -> 4.2.1.33 | E47: =Master!E129 -> 0 | F47: =Master!F129 -> 0 | G47: =Master!G129 -> homoaconitate hydratase family protein/3-isopropylmalate dehydratase, large subunit | H47: =Master!H129 -> N | J47: =A47 -> R129 | K47: =C47 -> 1 2-Isopropylmalate = 1 2-Isopropylmaleate + 1 H2O | L47: | | M47: # | N47: =IF(EXACT(H47,"Y"),"-inf","0") -> 0 | O47: Inf | P47: 0 | Q47: 0 | R47: 1 | S47: 1 | T47: 0 | U47: 0.01
A48: =Master!A132 -> R132 | B48: =Master!B132 -> BCAA_syn_R04001 | C48: =Master!C132 -> 1 2-Isopropylmaleate + 1 H2O = 1 3-Isopropylmalate | D48: =Master!D132 -> 4.2.1.33 | E48: =Master!E132 -> 0 | F48: =Master!F132 -> 0 | G48: =Master!G132 -> homoaconitate hydratase family protein/3-isopropylmalate dehydratase, large subunit | H48: =Master!H132 -> N | J48: =A48 -> R132 | K48: =C48 -> 1 2-Isopropylmaleate + 1 H2O = 1 3-Isopropylmalate | L48: | | M48: # | N48: =IF(EXACT(H48,"Y"),"-inf","0") -> 0 | O48: Inf | P48: 0 | Q48: 0 | R48: 1 | S48: 1 | T48: 0 | U48: 0.01
A49: =Master!A135 -> R135 | B49: =Master!B135 -> BCAA_syn_R04426 | C49: =Master!C135 -> 1 3-Isopropylmalate + 1 NAD = 1 2-isopropyl-3-oxosuccinate + 1 NADH + 1 Proton | D49: =Master!D135 -> 1.1.1.85 | E49: =Master!E135 -> 0 | F49: =Master!F135 -> 0 | G49: =Master!G135 -> isopropylmalate/isohomocitrate dehydrogenases | H49: =Master!H135 -> N | J49: =A49 -> R135 | K49: =C49 -> 1 3-Isopropylmalate + 1 NAD = 1 2-isopropyl-3-oxosuccinate + 1 NADH + 1 Proton | L49: | | M49: # | N49: =IF(EXACT(H49,"Y"),"-inf","0") -> 0 | O49: Inf | P49: 0 | Q49: 0 | R49: 1 | S49: 1 | T49: 0 | U49: 0.01
A50: =Master!A137 -> R137 | B50: =Master!B137 -> BCAA_syn_R01652 | C50: =Master!C137 -> 1 2-isopropyl-3-oxosuccinate + 1 Proton = 1 4MOP + 1 CO2 | D50: =Master!D137 -> spontaneous | E50: =Master!E137 -> 0 | F50: =Master!F137 -> 0 | G50: =Master!G137 -> 0 | H50: =Master!H137 -> N | J50: =A50 -> R137 | K50: =C50 -> 1 2-isopropyl-3-oxosuccinate + 1 Proton = 1 4MOP + 1 CO2 | L50: | | M50: # | N50: =IF(EXACT(H50,"Y"),"-inf","0") -> 0 | O50: Inf | P50: 0 | Q50: 0 | R50: 1 | S50: 1 | T50: 0 | U50: 0.01
A51: =Master!A139 -> R139 | B51: =Master!B139 -> BCAA_syn_R01088 | C51: =Master!C139 -> 1 4MOP + 1 NADH + 1 NH3 + 2 Proton = 1 H2O + 1 L-Leucine + 1 NAD | D51: =Master!D139 -> 2.6.1.42 / 1.4.1.9 | E51: =Master!E139 -> 0 | F51: =Master!F139 -> 0 | G51: =Master!G139 -> assumed | H51: =Master!H139 -> N | J51: =A51 -> R139 | K51: =C51 -> 1 4MOP + 1 NADH + 1 NH3 + 2 Proton = 1 H2O + 1 L-Leucine + 1 NAD | L51: | | M51: # | N51: =IF(EXACT(H51,"Y"),"-inf","0") -> 0 | O51: Inf | P51: 0 | Q51: 0 | R51: 1 | S51: 1 | T51: 0 | U51: 0.01
A52: =Master!A141 -> R141 | B52: =Master!B141 -> GST_serine_syn_condensed | C52: =Master!C141 -> 1 3-Phosphoglycerate + 1 H2O + 1 L-Glutamate + 1 NAD = 1 2-Oxoglutarate + 1 L-Serine + 1 NADH + 1 Phosphate + 1 Proton | D52: =Master!D141 -> 0 | E52: =Master!E141 -> 0 | F52: =Master!F141 -> 0 | G52: =Master!G141 -> 0 | H52: =Master!H141 -> N | J52: =A52 -> R141 | K52: =C52 -> 1 3-Phosphoglycerate + 1 H2O + 1 L-Glutamate + 1 NAD = 1 2-Oxoglutarate + 1 L-Serine + 1 NADH + 1 Phosphate + 1 Proton | L52: | | M52: # | N52: =IF(EXACT(H52,"Y"),"-inf","0") -> 0 | O52: Inf | P52: 0 | Q52: 0 | R52: 1 | S52: 1 | T52: 0 | U52: 0.01
A53: =Master!A143 -> R143 | B53: =Master!B143 -> GST_syn_R00480 | C53: =Master!C143 -> 1 ATP + 1 L-Aspartate = 1 4-Phospho-L-aspartate + 1 ADP | D53: =Master!D143 -> 2.7.2.4 | E53: =Master!E143 -> 0 | F53: =Master!F143 -> 0 | G53: =Master!G143 -> aspartate kinase | H53: =Master!H143 -> Y | J53: =A53 -> R143 | K53: =C53 -> 1 ATP + 1 L-Aspartate = 1 4-Phospho-L-aspartate + 1 ADP | L53: | | M53: # | N53: =IF(EXACT(H53,"Y"),"-inf","0") -> -inf | O53: Inf | P53: 0 | Q53: 0 | R53: 1 | S53: 1 | T53: 0 | U53: 0.01
A54: =Master!A145 -> R145 | B54: =Master!B145 -> GST_syn_R02291 | C54: =Master!C145 -> 1 4-Phospho-L-aspartate + 1 NADPH + 1 Proton = 1 L-Aspartate4-semialdehyde + 1 NADP + 1 Phosphate | D54: =Master!D145 -> 1.2.1.11 | E54: =Master!E145 -> 0 | F54: =Master!F145 -> 0 | G54: =Master!G145 -> aspartate-semialdehyde dehydrogenase (non-peptidoglycan organisms) | H54: =Master!H145 -> Y | J54: =A54 -> R145 | K54: =C54 -> 1 4-Phospho-L-aspartate + 1 NADPH + 1 Proton = 1 L-Aspartate4-semialdehyde + 1 NADP + 1 Phosphate | L54: | | M54: # | N54: =IF(EXACT(H54,"Y"),"-inf","0") -> -inf | O54: Inf | P54: 0 | Q54: 0 | R54: 1 | S54: 1 | T54: 0 | U54: 0.01
A55: =Master!A147 -> R147 | B55: =Master!B147 -> GST_syn_R01773 | C55: =Master!C147 -> 1 L-Aspartate4-semialdehyde + 1 NADH + 1 Proton = 1 L-Homoserine + 1 NAD | D55: =Master!D147 -> 1.1.1.3 | E55: =Master!E147 -> 0 | F55: =Master!F147 -> 0 | G55: =Master!G147 -> Homoserine dehydrogenase | H55: =Master!H147 -> Y | J55: =A55 -> R147 | K55: =C55 -> 1 L-Aspartate4-semialdehyde + 1 NADH + 1 Proton = 1 L-Homoserine + 1 NAD | L55: | | M55: # | N55: =IF(EXACT(H55,"Y"),"-inf","0") -> -inf | O55: Inf | P55: 0 | Q55: 0 | R55: 1 | S55: 1 | T55: 0 | U55: 0.01
A56: =Master!A149 -> R149 | B56: =Master!B149 -> GST_syn_R01771 | C56: =Master!C149 -> 1 ATP + 1 L-Homoserine = 1 ADP + 1 O-Phospho-L-homoserine + 1 Proton | D56: =Master!D149 -> 2.7.1.39 | E56: =Master!E149 -> 0 | F56: =Master!F149 -> 0 | G56: =Master!G149 -> homoserine kinase | H56: =Master!H149 -> N | J56: =A56 -> R149 | K56: =C56 -> 1 ATP + 1 L-Homoserine = 1 ADP + 1 O-Phospho-L-homoserine + 1 Proton | L56: | | M56: # | N56: =IF(EXACT(H56,"Y"),"-inf","0") -> 0 | O56: Inf | P56: 0 | Q56: 0 | R56: 1 | S56: 1 | T56: 0 | U56: 0.01
A57: =Master!A151 -> R151 | B57: =Master!B151 -> GST_syn_R01466 | C57: =Master!C151 -> 1 H2O + 1 O-Phospho-L-homoserine = 1 L-Threonine + 1 Phosphate | D57: =Master!D151 -> 4.2.3.1 | E57: =Master!E151 -> 0 | F57: =Master!F151 -> 0 | G57: =Master!G151 -> Threonine synthase | H57: =Master!H151 -> N | J57: =A57 -> R151 | K57: =C57 -> 1 H2O + 1 O-Phospho-L-homoserine = 1 L-Threonine + 1 Phosphate | L57: | | M57: # | N57: =IF(EXACT(H57,"Y"),"-inf","0") -> 0 | O57: Inf | P57: 0 | Q57: 0 | R57: 1 | S57: 1 | T57: 0 | U57: 0.01
A58: =Master!A154 -> R154 | B58: =Master!B154 -> ala_asp_R00355 | C58: =Master!C154 -> 1 L-Glutamate + 1 Oxaloacetate = 1 2-Oxoglutarate + 1 L-Aspartate | D58: =Master!D154 -> 2.6.1.1 | E58: =Master!E154 -> 0 | F58: =Master!F154 -> 0 | G58: =Master!G154 -> Aspartate/tyrosine/aromatic aminotransferase | H58: =Master!H154 -> Y | J58: =A58 -> R154 | K58: =C58 -> 1 L-Glutamate + 1 Oxaloacetate = 1 2-Oxoglutarate + 1 L-Aspartate | L58: | | M58: # | N58: =IF(EXACT(H58,"Y"),"-inf","0") -> -inf | O58: Inf | P58: 0 | Q58: 0 | R58: 1 | S58: 1 | T58: 0 | U58: 0.01
A59: =Master!A156 -> R156 | B59: =Master!B156 -> phe_tyr_trp_R01826 | C59: =Master!C156 -> 1 D-Erythrose4-phosphate + 1 H2O + 1 Phosphoenolpyruvate = 1 DAHP + 1 Phosphate | D59: =Master!D156 -> 2.5.1.54 | E59: =Master!E156 -> 0 | F59: =Master!F156 -> 0 | G59: =Master!G156 -> phospho-2-dehydro-3-deoxyheptonate aldolase | H59: =Master!H156 -> N | J59: =A59 -> R156 | K59: =C59 -> 1 D-Erythrose4-phosphate + 1 H2O + 1 Phosphoenolpyruvate = 1 DAHP + 1 Phosphate | L59: | | M59: # | N59: =IF(EXACT(H59,"Y"),"-inf","0") -> 0 | O59: Inf | P59: 0 | Q59: 0 | R59: 1 | S59: 1 | T59: 0 | U59: 0.01
A60: =Master!A158 -> R158 | B60: =Master!B158 -> phe_tyr_trp_R03083 | C60: =Master!C158 -> 1 DAHP = 1 5-Dehydroquinate + 1 Phosphate | D60: =Master!D158 -> 4.2.3.4 | E60: =Master!E158 -> 0 | F60: =Master!F158 -> 0 | G60: =Master!G158 -> 3-dehydroquinate synthase | H60: =Master!H158 -> N | J60: =A60 -> R158 | K60: =C60 -> 1 DAHP = 1 5-Dehydroquinate + 1 Phosphate | L60: | | M60: # | N60: =IF(EXACT(H60,"Y"),"-inf","0") -> 0 | O60: Inf | P60: 0 | Q60: 0 | R60: 1 | S60: 1 | T60: 0 | U60: 0.01
A61: =Master!A160 -> R160 | B61: =Master!B160 -> phe_tyr_trp_R03084 | C61: =Master!C160 -> 1 5-Dehydroquinate = 1 3-Dehydroshikimate + 1 H2O | D61: =Master!D160 -> 4.2.1.10 | E61: =Master!E160 -> 0 | F61: =Master!F160 -> 0 | G61: =Master!G160 -> 3-dehydroquinate dehydratase | H61: =Master!H160 -> N | J61: =A61 -> R160 | K61: =C61 -> 1 5-Dehydroquinate = 1 3-Dehydroshikimate + 1 H2O | L61: | | M61: # | N61: =IF(EXACT(H61,"Y"),"-inf","0") -> 0 | O61: Inf | P61: 0 | Q61: 0 | R61: 1 | S61: 1 | T61: 0 | U61: 0.01
A62: =Master!A162 -> R162 | B62: =Master!B162 -> phe_tyr_trp_R02413 | C62: =Master!C162 -> 1 3-Dehydroshikimate + 1 NADPH + 1 Proton = 1 NADP + 1 Shikimate | D62: =Master!D162 -> 1.1.1.25 | E62: =Master!E162 -> 0 | F62: =Master!F162 -> 0 | G62: =Master!G162 -> Shikimate 5-dehydrogenase | H62: =Master!H162 -> N | J62: =A62 -> R162 | K62: =C62 -> 1 3-Dehydroshikimate + 1 NADPH + 1 Proton = 1 NADP + 1 Shikimate | L62: | | M62: # | N62: =IF(EXACT(H62,"Y"),"-inf","0") -> 0 | O62: Inf | P62: 0 | Q62: 0 | R62: 1 | S62: 1 | T62: 0 | U62: 0.01
A63: =Master!A164 -> R164 | B63: =Master!B164 -> phe_tyr_trp_R02412 | C63: =Master!C164 -> 1 ATP + 1 Shikimate = 1 3-phosphoshikimate + 1 ADP + 1 Proton | D63: =Master!D164 -> 2.7.1.71 | E63: =Master!E164 -> 0 | F63: =Master!F164 -> 0 | G63: =Master!G164 -> shikimate kinase | H63: =Master!H164 -> N | J63: =A63 -> R164 | K63: =C63 -> 1 ATP + 1 Shikimate = 1 3-phosphoshikimate + 1 ADP + 1 Proton | L63: | | M63: # | N63: =IF(EXACT(H63,"Y"),"-inf","0") -> 0 | O63: Inf | P63: 0 | Q63: 0 | R63: 1 | S63: 1 | T63: 0 | U63: 0.01
A64: =Master!A166 -> R166 | B64: =Master!B166 -> phe_tyr_trp_R03460 | C64: =Master!C166 -> 1 3-phosphoshikimate + 1 Phosphoenolpyruvate = 1 5-O--1-Carboxyvinyl-3-phosphoshikimate + 1 Phosphate | D64: =Master!D166 -> 2.5.1.19 | E64: =Master!E166 -> 0 | F64: =Master!F166 -> 0 | G64: =Master!G166 -> 5-enolpyruvylshikimate-3-phosphate synthase | H64: =Master!H166 -> N | J64: =A64 -> R166 | K64: =C64 -> 1 3-phosphoshikimate + 1 Phosphoenolpyruvate = 1 5-O--1-Carboxyvinyl-3-phosphoshikimate + 1 Phosphate | L64: | | M64: # | N64: =IF(EXACT(H64,"Y"),"-inf","0") -> 0 | O64: Inf | P64: 0 | Q64: 0 | R64: 1 | S64: 1 | T64: 0 | U64: 0.01
A65: =Master!A168 -> R168 | B65: =Master!B168 -> phe_tyr_trp_R01714 | C65: =Master!C168 -> 1 5-O--1-Carboxyvinyl-3-phosphoshikimate = 1 Chorismate + 1 Phosphate | D65: =Master!D168 -> 4.2.3.5 | E65: =Master!E168 -> 0 | F65: =Master!F168 -> 0 | G65: =Master!G168 -> chorismate synthase | H65: =Master!H168 -> N | J65: =A65 -> R168 | K65: =C65 -> 1 5-O--1-Carboxyvinyl-3-phosphoshikimate = 1 Chorismate + 1 Phosphate | L65: | | M65: # | N65: =IF(EXACT(H65,"Y"),"-inf","0") -> 0 | O65: Inf | P65: 0 | Q65: 0 | R65: 1 | S65: 1 | T65: 0 | U65: 0.01
A66: =Master!A170 -> R170 | B66: =Master!B170 -> phe_tyr_trp_R00985 | C66: =Master!C170 -> 1 Chorismate + 1 NH3 = 1 Anthranilate + 1 H2O + 1 Pyruvate | D66: =Master!D170 -> 4.1.3.27 | E66: =Master!E170 -> 0 | F66: =Master!F170 -> 0 | G66: =Master!G170 -> glutamine amidotransferase of anthranilate synthase or aminodeoxychorismate synthase | H66: =Master!H170 -> N | J66: =A66 -> R170 | K66: =C66 -> 1 Chorismate + 1 NH3 = 1 Anthranilate + 1 H2O + 1 Pyruvate | L66: | | M66: # | N66: =IF(EXACT(H66,"Y"),"-inf","0") -> 0 | O66: Inf | P66: 0 | Q66: 0 | R66: 1 | S66: 1 | T66: 0 | U66: 0.01
A67: =Master!A173 -> R173 | B67: =Master!B173 -> phe_tyr_trp_R01073 | C67: =Master!C173 -> 1 Anthranilate + 1 PRPP = 1 N-5-phosphoribosyl-anthranilate + 1 PPi | D67: =Master!D173 -> 2.4.2.18 | E67: =Master!E173 -> 0 | F67: =Master!F173 -> 0 | G67: =Master!G173 -> anthranilate phosphoribosyltransferase | H67: =Master!H173 -> N | J67: =A67 -> R173 | K67: =C67 -> 1 Anthranilate + 1 PRPP = 1 N-5-phosphoribosyl-anthranilate + 1 PPi | L67: | | M67: # | N67: =IF(EXACT(H67,"Y"),"-inf","0") -> 0 | O67: Inf | P67: 0 | Q67: 0 | R67: 1 | S67: 1 | T67: 0 | U67: 0.01
A68: =Master!A175 -> R175 | B68: =Master!B175 -> phe_tyr_trp_R03509 | C68: =Master!C175 -> 1 N-5-phosphoribosyl-anthranilate = 1 1-2-carboxyphenylamino-1-deoxyribulose-5-phosphate | D68: =Master!D175 -> 5.3.1.24 | E68: =Master!E175 -> 0 | F68: =Master!F175 -> 0 | G68: =Master!G175 -> Phosphoribosylanthranilate isomerase | H68: =Master!H175 -> N | J68: =A68 -> R175 | K68: =C68 -> 1 N-5-phosphoribosyl-anthranilate = 1 1-2-carboxyphenylamino-1-deoxyribulose-5-phosphate | L68: | | M68: # | N68: =IF(EXACT(H68,"Y"),"-inf","0") -> 0 | O68: Inf | P68: 0 | Q68: 0 | R68: 1 | S68: 1 | T68: 0 | U68: 0.01
A69: =Master!A177 -> R177 | B69: =Master!B177 -> phe_tyr_trp_R03508 | C69: =Master!C177 -> 1 1-2-carboxyphenylamino-1-deoxyribulose-5-phosphate + 1 Proton = 1 CO2 + 1 H2O + 1 Indoleglycerol-phosphate | D69: =Master!D177 -> 4.1.1.48 | E69: =Master!E177 -> 0 | F69: =Master!F177 -> 0 | G69: =Master!G177 -> Indole-3-glycerol phosphate synthase | H69: =Master!H177 -> N | J69: =A69 -> R177 | K69: =C69 -> 1 1-2-carboxyphenylamino-1-deoxyribulose-5-phosphate + 1 Proton = 1 CO2 + 1 H2O + 1 Indoleglycerol-phosphate | L69: | | M69: # | N69: =IF(EXACT(H69,"Y"),"-inf","0") -> 0 | O69: Inf | P69: 0 | Q69: 0 | R69: 1 | S69: 1 | T69: 0 | U69: 0.01
A70: =Master!A179 -> R179 | B70: =Master!B179 -> phe_tyr_trp_R02722 | C70: =Master!C179 -> 1 Indoleglycerol-phosphate + 1 L-Serine = 1 Glyceraldehyde3-phosphate + 1 H2O + 1 L-Tryptophan | D70: =Master!D179 -> 4.2.1.20 | E70: =Master!E179 -> 0 | F70: =Master!F179 -> 0 | G70: =Master!G179 -> pyridoxal-phosphate dependent TrpB-like enzyme | H70: =Master!H179 -> N | J70: =A70 -> R179 | K70: =C70 -> 1 Indoleglycerol-phosphate + 1 L-Serine = 1 Glyceraldehyde3-phosphate + 1 H2O + 1 L-Tryptophan | L70: | | M70: # | N70: =IF(EXACT(H70,"Y"),"-inf","0") -> 0 | O70: Inf | P70: 0 | Q70: 0 | R70: 1 | S70: 1 | T70: 0 | U70: 0.01
A71: =Master!A183 -> R183 | B71: =Master!B183 -> phe_tyr_trp_R01715 | C71: =Master!C183 -> 1 Chorismate = 1 Prephenate | D71: =Master!D183 -> 5.4.99.5 | E71: =Master!E183 -> 0 | F71: =Master!F183 -> 0 | G71: =Master!G183 -> chorismate mutase, archaeal type | H71: =Master!H183 -> N | J71: =A71 -> R183 | K71: =C71 -> 1 Chorismate = 1 Prephenate | L71: | | M71: # | N71: =IF(EXACT(H71,"Y"),"-inf","0") -> 0 | O71: Inf | P71: 0 | Q71: 0 | R71: 1 | S71: 1 | T71: 0 | U71: 0.01
A72: =Master!A185 -> R185 | B72: =Master!B185 -> phe_tyr_trp_R01373 | C72: =Master!C185 -> 1 Prephenate + 1 Proton = 1 CO2 + 1 H2O + 1 Phenylpyruvate | D72: =Master!D185 -> 4.2.1.51 | E72: =Master!E185 -> 0 | F72: =Master!F185 -> 0 | G72: =Master!G185 -> Prephenate dehydratase | H72: =Master!H185 -> N | J72: =A72 -> R185 | K72: =C72 -> 1 Prephenate + 1 Proton = 1 CO2 + 1 H2O + 1 Phenylpyruvate | L72: | | M72: # | N72: =IF(EXACT(H72,"Y"),"-inf","0") -> 0 | O72: Inf | P72: 0 | Q72: 0 | R72: 1 | S72: 1 | T72: 0 | U72: 0.01
A73: =Master!A187 -> R187 | B73: =Master!B187 -> phe_tyr_trp_R00694 | C73: =Master!C187 -> 1 L-Glutamate + 1 Phenylpyruvate = 1 2-Oxoglutarate + 1 L-Phenylalanine | D73: =Master!D187 -> 2.6.1.1/2.6.1.9 | E73: =Master!E187 -> 0 | F73: =Master!F187 -> 0 | G73: =Master!G187 -> Aspartate/tyrosine/aromatic aminotransferase | H73: =Master!H187 -> Y | J73: =A73 -> R187 | K73: =C73 -> 1 L-Glutamate + 1 Phenylpyruvate = 1 2-Oxoglutarate + 1 L-Phenylalanine | L73: | | M73: # | N73: =IF(EXACT(H73,"Y"),"-inf","0") -> -inf | O73: Inf | P73: 0 | Q73: 0 | R73: 1 | S73: 1 | T73: 0 | U73: 0.01
A74: =Master!A191 -> R191 | B74: =Master!B191 -> phe_tyr_trp_R01728 | C74: =Master!C191 -> 1 NAD + 1 Prephenate = 1 CO2 + 1 NADH + 1 p-hydroxyphenylpyruvate | D74: =Master!D191 -> 1.3.1.12 | E74: =Master!E191 -> 0 | F74: =Master!F191 -> 0 | G74: =Master!G191 -> chorismate mutase, archaeal type | H74: =Master!H191 -> N | J74: =A74 -> R191 | K74: =C74 -> 1 NAD + 1 Prephenate = 1 CO2 + 1 NADH + 1 p-hydroxyphenylpyruvate | L74: | | M74: # | N74: =IF(EXACT(H74,"Y"),"-inf","0") -> 0 | O74: Inf | P74: 0 | Q74: 0 | R74: 1 | S74: 1 | T74: 0 | U74: 0.01
A75: =Master!A193 -> R193 | B75: =Master!B193 -> phe_tyr_trp_R00734 | C75: =Master!C193 -> 1 L-Glutamate + 1 p-hydroxyphenylpyruvate = 1 2-Oxoglutarate + 1 L-Tyrosine | D75: =Master!D193 -> 2.6.1.1/2.6.1.9 | E75: =Master!E193 -> 0 | F75: =Master!F193 -> 0 | G75: =Master!G193 -> Aspartate/tyrosine/aromatic aminotransferase | H75: =Master!H193 -> Y | J75: =A75 -> R193 | K75: =C75 -> 1 L-Glutamate + 1 p-hydroxyphenylpyruvate = 1 2-Oxoglutarate + 1 L-Tyrosine | L75: | | M75: # | N75: =IF(EXACT(H75,"Y"),"-inf","0") -> -inf | O75: Inf | P75: 0 | Q75: 0 | R75: 1 | S75: 1 | T75: 0 | U75: 0.01
A76: =Master!A197 -> R197 | B76: =Master!B197 -> GST_syn_R00945 | C76: =Master!C197 -> 1 L-Serine + 1 tetrahydrofolate_B9 = 1 5-10-Methylenetetrahydrofolate + 1 Glycine + 1 H2O | D76: =Master!D197 -> 0 | E76: =Master!E197 -> 0 | F76: =Master!F197 -> 0 | G76: =Master!G197 -> 0 | H76: =Master!H197 -> Y | J76: =A76 -> R197 | K76: =C76 -> 1 L-Serine + 1 tetrahydrofolate_B9 = 1 5-10-Methylenetetrahydrofolate + 1 Glycine + 1 H2O | L76: | | M76: # | N76: =IF(EXACT(H76,"Y"),"-inf","0") -> -inf | O76: Inf | P76: 0 | Q76: 0 | R76: 1 | S76: 1 | T76: 0 | U76: 0.01
A77: =Master!A199 -> R199 | B77: =Master!B199 -> cys_R00586_assumed | C77: =Master!C199 -> 1 Acetyl-CoA + 1 L-Serine = 1 CoA + 1 O-Acetyl-L-serine | D77: =Master!D199 -> 2.3.1.30 | E77: =Master!E199 -> 0 | F77: =Master!F199 -> 0 | G77: =Master!G199 -> assumed | H77: =Master!H199 -> Y | J77: =A77 -> R199 | K77: =C77 -> 1 Acetyl-CoA + 1 L-Serine = 1 CoA + 1 O-Acetyl-L-serine | L77: | | M77: # | N77: =IF(EXACT(H77,"Y"),"-inf","0") -> -inf | O77: Inf | P77: 0 | Q77: 0 | R77: 1 | S77: 1 | T77: 0 | U77: 0.01
A78: =Master!A201 -> R201 | B78: =Master!B201 -> cys_R04859 | C78: =Master!C201 -> 1 O-Acetyl-L-serine + 1 thioredoxin_red + 1 Thiosulfate = 1 Acetate + 1 L-Cysteine + 2 Proton + 1 Sulfite + 1 thioredoxin_ox | D78: =Master!D201 -> 2.5.1.47 | E78: =Master!E201 -> 0 | F78: =Master!F201 -> 0 | G78: =Master!G201 -> Cysteine synthase | H78: =Master!H201 -> N | J78: =A78 -> R201 | K78: =C78 -> 1 O-Acetyl-L-serine + 1 thioredoxin_red + 1 Thiosulfate = 1 Acetate + 1 L-Cysteine + 2 Proton + 1 Sulfite + 1 thioredoxin_ox | L78: | | M78: # | N78: =IF(EXACT(H78,"Y"),"-inf","0") -> 0 | O78: Inf | P78: 0 | Q78: 0 | R78: 1 | S78: 1 | T78: 0 | U78: 0.01
A79: =Master!A203 -> R203 | B79: =Master!B203 -> ala_asp_R00258_assumed | C79: =Master!C203 -> 1 L-Glutamate + 1 Pyruvate = 1 2-Oxoglutarate + 1 L-Alanine | D79: =Master!D203 -> 4.1.1.12 | E79: =Master!E203 -> 0 | F79: =Master!F203 -> 0 | G79: =Master!G203 -> assumed | H79: =Master!H203 -> Y | J79: =A79 -> R203 | K79: =C79 -> 1 L-Glutamate + 1 Pyruvate = 1 2-Oxoglutarate + 1 L-Alanine | L79: | | M79: # | N79: =IF(EXACT(H79,"Y"),"-inf","0") -> -inf | O79: Inf | P79: 0 | Q79: 0 | R79: 1 | S79: 1 | T79: 0 | U79: 0.01
A80: =Master!A205 -> R205 | B80: =Master!B205 -> Gln_syn_R00253 | C80: =Master!C205 -> 1 ATP + 1 L-Glutamate + 1 NH3 = 1 ADP + 1 L-Glutamine + 1 Phosphate | D80: =Master!D205 -> 6.3.1.2 | E80: =Master!E205 -> 0 | F80: =Master!F205 -> 0 | G80: =Master!G205 -> Glutamine synthetase | H80: =Master!H205 -> N | J80: =A80 -> R205 | K80: =C80 -> 1 ATP + 1 L-Glutamate + 1 NH3 = 1 ADP + 1 L-Glutamine + 1 Phosphate | L80: | | M80: # | N80: =IF(EXACT(H80,"Y"),"-inf","0") -> 0 | O80: Inf | P80: 0 | Q80: 0 | R80: 1 | S80: 1 | T80: 0 | U80: 0.01
A81: =Master!A209 -> R209 | B81: =Master!B209 -> glut_R00243 | C81: =Master!C209 -> 1 2-Oxoglutarate + 1 NADH + 1 NH3 + 2 Proton = 1 H2O + 1 L-Glutamate + 1 NAD | D81: =Master!D209 -> 1.4.1.3 | E81: =Master!E209 -> 0 | F81: =Master!F209 -> 0 | G81: =Master!G209 -> Glutamate dehydrogenase/leucine dehydrogenase | H81: =Master!H209 -> Y | J81: =A81 -> R209 | K81: =C81 -> 1 2-Oxoglutarate + 1 NADH + 1 NH3 + 2 Proton = 1 H2O + 1 L-Glutamate + 1 NAD | L81: | | M81: # | N81: =IF(EXACT(H81,"Y"),"-inf","0") -> -inf | O81: Inf | P81: 0 | Q81: 0 | R81: 1 | S81: 1 | T81: 0 | U81: 0.01
A82: =Master!A211 -> R211 | B82: =Master!B211 -> arg_pro_R00150_assumed | C82: =Master!C211 -> 1 ATP + 1 CO2 + 1 NH3 = 1 ADP + 1 Carbamoylphosphate + 1 Proton | D82: =Master!D211 -> 0 | E82: =Master!E211 -> 0 | F82: =Master!F211 -> 0 | G82: =Master!G211 -> 0 | H82: =Master!H211 -> N | J82: =A82 -> R211 | K82: =C82 -> 1 ATP + 1 CO2 + 1 NH3 = 1 ADP + 1 Carbamoylphosphate + 1 Proton | L82: | | M82: # | N82: =IF(EXACT(H82,"Y"),"-inf","0") -> 0 | O82: Inf | P82: 0 | Q82: 0 | R82: 1 | S82: 1 | T82: 0 | U82: 0.01
A83: =Master!A213 -> R213 | B83: =Master!B213 -> arg_pro_2_3_1_1_assumed | C83: =Master!C213 -> L-Glutamate + Acetyl-CoA = N-Acetyl-L-glutamate + CoA + Proton | D83: =Master!D213 -> 0 | E83: =Master!E213 -> 0 | F83: =Master!F213 -> 0 | G83: =Master!G213 -> 0 | H83: =Master!H213 -> N | J83: =A83 -> R213 | K83: =C83 -> L-Glutamate + Acetyl-CoA = N-Acetyl-L-glutamate + CoA + Proton | L83: | | M83: # | N83: =IF(EXACT(H83,"Y"),"-inf","0") -> 0 | O83: Inf | P83: 0 | Q83: 0 | R83: 1 | S83: 1 | T83: 0 | U83: 0.01
A84: =Master!A215 -> R215 | B84: =Master!B215 -> arg_pro_2_7_2_8 | C84: =Master!C215 -> ATP + N-Acetyl-L-glutamate = ADP + N-Acetyl-L-glutamate5-phosphate | D84: =Master!D215 -> 2.7.2.8 | E84: =Master!E215 -> 0 | F84: =Master!F215 -> 0 | G84: =Master!G215 -> acetylglutamate kinase | H84: =Master!H215 -> N | J84: =A84 -> R215 | K84: =C84 -> ATP + N-Acetyl-L-glutamate = ADP + N-Acetyl-L-glutamate5-phosphate | L84: | | M84: # | N84: =IF(EXACT(H84,"Y"),"-inf","0") -> 0 | O84: Inf | P84: 0 | Q84: 0 | R84: 1 | S84: 1 | T84: 0 | U84: 0.01
A85: =Master!A217 -> R217 | B85: =Master!B217 -> arg_pro_1_2_1_38 | C85: =Master!C217 -> N-Acetyl-L-glutamate5-semialdehyde + Phosphate + NADP = N-Acetyl-L-glutamate5-phosphate + NADPH + Proton | D85: =Master!D217 -> 1.2.1.38 | E85: =Master!E217 -> 0 | F85: =Master!F217 -> 0 | G85: =Master!G217 -> N-acetyl-gamma-glutamyl-phosphate reductase, common form | H85: =Master!H217 -> Y | J85: =A85 -> R217 | K85: =C85 -> N-Acetyl-L-glutamate5-semialdehyde + Phosphate + NADP = N-Acetyl-L-glutamate5-phosphate + NADPH + Proton | L85: | | M85: # | N85: =IF(EXACT(H85,"Y"),"-inf","0") -> -inf | O85: Inf | P85: 0 | Q85: 0 | R85: 1 | S85: 1 | T85: 0 | U85: 0.01
A86: =Master!A219 -> R219 | B86: =Master!B219 -> arg_pro_2_6_1_11 | C86: =Master!C219 -> N-Acetylornithine + 2-Oxoglutarate = N-Acetyl-L-glutamate5-semialdehyde + L-Glutamate | D86: =Master!D219 -> 2.6.1.11 | E86: =Master!E219 -> 0 | F86: =Master!F219 -> 0 | G86: =Master!G219 -> acetylornithine and succinylornithine aminotransferases | H86: =Master!H219 -> Y | J86: =A86 -> R219 | K86: =C86 -> N-Acetylornithine + 2-Oxoglutarate = N-Acetyl-L-glutamate5-semialdehyde + L-Glutamate | L86: | | M86: # | N86: =IF(EXACT(H86,"Y"),"-inf","0") -> -inf | O86: Inf | P86: 0 | Q86: 0 | R86: 1 | S86: 1 | T86: 0 | U86: 0.01
A87: =Master!A221 -> R221 | B87: =Master!B221 -> arg_pro_3_5_1_14_assumed | C87: =Master!C221 -> N-Acetylornithine + H2O = Acetate + Ornithine | D87: =Master!D221 -> 0 | E87: =Master!E221 -> 0 | F87: =Master!F221 -> 0 | G87: =Master!G221 -> 0 | H87: =Master!H221 -> N | J87: =A87 -> R221 | K87: =C87 -> N-Acetylornithine + H2O = Acetate + Ornithine | L87: | | M87: # | N87: =IF(EXACT(H87,"Y"),"-inf","0") -> 0 | O87: Inf | P87: 0 | Q87: 0 | R87: 1 | S87: 1 | T87: 0 | U87: 0.01
A88: =Master!A223 -> R223 | B88: =Master!B223 -> arg_pro_R01398 | C88: =Master!C223 -> 1 Carbamoylphosphate + 1 Ornithine = 1 Citrulline + 1 Phosphate + 1 Proton | D88: =Master!D223 -> 0 | E88: =Master!E223 -> 0 | F88: =Master!F223 -> 0 | G88: =Master!G223 -> 0 | H88: =Master!H223 -> Y | J88: =A88 -> R223 | K88: =C88 -> 1 Carbamoylphosphate + 1 Ornithine = 1 Citrulline + 1 Phosphate + 1 Proton | L88: | | M88: # | N88: =IF(EXACT(H88,"Y"),"-inf","0") -> -inf | O88: Inf | P88: 0 | Q88: 0 | R88: 1 | S88: 1 | T88: 0 | U88: 0.01
A89: =Master!A225 -> R225 | B89: =Master!B225 -> ala_asp_R01954 | C89: =Master!C225 -> 1 ATP + 1 Citrulline + 1 L-Aspartate = 1 AMP + 1 L-Argininosuccinate + 1 PPi + 1 Proton | D89: =Master!D225 -> 0 | E89: =Master!E225 -> 0 | F89: =Master!F225 -> 0 | G89: =Master!G225 -> 0 | H89: =Master!H225 -> Y | J89: =A89 -> R225 | K89: =C89 -> 1 ATP + 1 Citrulline + 1 L-Aspartate = 1 AMP + 1 L-Argininosuccinate + 1 PPi + 1 Proton | L89: | | M89: # | N89: =IF(EXACT(H89,"Y"),"-inf","0") -> -inf | O89: Inf | P89: 0 | Q89: 0 | R89: 1 | S89: 1 | T89: 0 | U89: 0.01
A90: =Master!A227 -> R227 | B90: =Master!B227 -> ala_asp_R01086 | C90: =Master!C227 -> 1 L-Argininosuccinate = 1 Fumarate + 1 L-Arginine | D90: =Master!D227 -> 0 | E90: =Master!E227 -> 0 | F90: =Master!F227 -> 0 | G90: =Master!G227 -> 0 | H90: =Master!H227 -> Y | J90: =A90 -> R227 | K90: =C90 -> 1 L-Argininosuccinate = 1 Fumarate + 1 L-Arginine | L90: | | M90: # | N90: =IF(EXACT(H90,"Y"),"-inf","0") -> -inf | O90: Inf | P90: 0 | Q90: 0 | R90: 1 | S90: 1 | T90: 0 | U90: 0.01
A91: =Master!A229 -> R229 | B91: =Master!B229 -> asn_condensed | C91: =Master!C229 -> 2 ATP + 2 H2O + 1 L-Aspartate + 1 L-Glutamine = 1 ADP + 1 AMP + 1 L-Asparagine + 1 L-Glutamate + 1 Phosphate + 1 PPi + 2 Proton | D91: =Master!D229 -> 0 | E91: =Master!E229 -> 0 | F91: =Master!F229 -> 0 | G91: =Master!G229 -> 0 | H91: =Master!H229 -> N | J91: =A91 -> R229 | K91: =C91 -> 2 ATP + 2 H2O + 1 L-Aspartate + 1 L-Glutamine = 1 ADP + 1 AMP + 1 L-Asparagine + 1 L-Glutamate + 1 Phosphate + 1 PPi + 2 Proton | L91: | | M91: # | N91: =IF(EXACT(H91,"Y"),"-inf","0") -> 0 | O91: Inf | P91: 0 | Q91: 0 | R91: 1 | S91: 1 | T91: 0 | U91: 0.01
A92: =Master!A231 -> R231 | B92: =Master!B231 -> his_R01071 | C92: =Master!C231 -> 1 ATP + 1 PRPP = 1 Phosphoribosyl-ATP + 1 PPi | D92: =Master!D231 -> 2.4.2.17 | E92: =Master!E231 -> 0 | F92: =Master!F231 -> 0 | G92: =Master!G231 -> ATP phosphoribosyltransferase | H92: =Master!H231 -> Y | J92: =A92 -> R231 | K92: =C92 -> 1 ATP + 1 PRPP = 1 Phosphoribosyl-ATP + 1 PPi | L92: | | M92: # | N92: =IF(EXACT(H92,"Y"),"-inf","0") -> -inf | O92: Inf | P92: 0 | Q92: 0 | R92: 1 | S92: 1 | T92: 0 | U92: 0.01
A93: =Master!A233 -> R233 | B93: =Master!B233 -> his_R04035 | C93: =Master!C233 -> 1 H2O + 1 Phosphoribosyl-ATP = 1 Phosphoribosyl-AMP + 1 PPi + 1 Proton | D93: =Master!D233 -> 3.6.1.31 | E93: =Master!E233 -> 0 | F93: =Master!F233 -> 0 | G93: =Master!G233 -> phosphoribosyl-ATP pyrophosphohydrolase | H93: =Master!H233 -> N | J93: =A93 -> R233 | K93: =C93 -> 1 H2O + 1 Phosphoribosyl-ATP = 1 Phosphoribosyl-AMP + 1 PPi + 1 Proton | L93: | | M93: # | N93: =IF(EXACT(H93,"Y"),"-inf","0") -> 0 | O93: Inf | P93: 0 | Q93: 0 | R93: 1 | S93: 1 | T93: 0 | U93: 0.01
A94: =Master!A235 -> R235 | B94: =Master!B235 -> his_R04037 | C94: =Master!C235 -> 1 H2O + 1 Phosphoribosyl-AMP = 1 phosphoribosylformiminoaicar-phosphate | D94: =Master!D235 -> 3.5.4.19 | E94: =Master!E235 -> 0 | F94: =Master!F235 -> 0 | G94: =Master!G235 -> Phosphoribosyl-AMP cyclohydrolase | H94: =Master!H235 -> N | J94: =A94 -> R235 | K94: =C94 -> 1 H2O + 1 Phosphoribosyl-AMP = 1 phosphoribosylformiminoaicar-phosphate | L94: | | M94: # | N94: =IF(EXACT(H94,"Y"),"-inf","0") -> 0 | O94: Inf | P94: 0 | Q94: 0 | R94: 1 | S94: 1 | T94: 0 | U94: 0.01
A95: =Master!A237 -> R237 | B95: =Master!B237 -> his_R04640 | C95: =Master!C237 -> 1 phosphoribosylformiminoaicar-phosphate = 1 phosphoribulosylformimino-AICAR-phosphate | D95: =Master!D237 -> 5.3.1.16 | E95: =Master!E237 -> 0 | F95: =Master!F237 -> 0 | G95: =Master!G237 -> Phosphoribosylformimino-5-aminoimidazole carboxamide ribonucleotide (ProFAR) isomerase | H95: =Master!H237 -> Y | J95: =A95 -> R237 | K95: =C95 -> 1 phosphoribosylformiminoaicar-phosphate = 1 phosphoribulosylformimino-AICAR-phosphate | L95: | | M95: # | N95: =IF(EXACT(H95,"Y"),"-inf","0") -> -inf | O95: Inf | P95: 0 | Q95: 0 | R95: 1 | S95: 1 | T95: 0 | U95: 0.01
A96: =Master!A239 -> R239 | B96: =Master!B239 -> his_R04558 | C96: =Master!C239 -> 1 L-Glutamine + 1 phosphoribulosylformimino-AICAR-phosphate = 1 AICAR + 1 D-erythro-imidazol-glycerol-phosphate + 1 L-Glutamate + 1 Proton | D96: =Master!D239 -> 0 | E96: =Master!E239 -> 0 | F96: =Master!F239 -> 0 | G96: =Master!G239 -> imidazoleglycerol phosphate synthase, cyclase subunit | H96: =Master!H239 -> N | J96: =A96 -> R239 | K96: =C96 -> 1 L-Glutamine + 1 phosphoribulosylformimino-AICAR-phosphate = 1 AICAR + 1 D-erythro-imidazol-glycerol-phosphate + 1 L-Glutamate + 1 Proton | L96: | | M96: # | N96: =IF(EXACT(H96,"Y"),"-inf","0") -> 0 | O96: Inf | P96: 0 | Q96: 0 | R96: 1 | S96: 1 | T96: 0 | U96: 0.01
A97: =Master!A242 -> R242 | B97: =Master!B242 -> his_R03457 | C97: =Master!C242 -> 1 D-erythro-imidazol-glycerol-phosphate = 1 H2O + 1 imidazole-acetol-phosphate | D97: =Master!D242 -> 4.2.1.19 | E97: =Master!E242 -> 0 | F97: =Master!F242 -> 0 | G97: =Master!G242 -> Imidazoleglycerol-phosphate dehydratase | H97: =Master!H242 -> N | J97: =A97 -> R242 | K97: =C97 -> 1 D-erythro-imidazol-glycerol-phosphate = 1 H2O + 1 imidazole-acetol-phosphate | L97: | | M97: # | N97: =IF(EXACT(H97,"Y"),"-inf","0") -> 0 | O97: Inf | P97: 0 | Q97: 0 | R97: 1 | S97: 1 | T97: 0 | U97: 0.01
A98: =Master!A244 -> R244 | B98: =Master!B244 -> his_R03243 | C98: =Master!C244 -> 1 imidazole-acetol-phosphate + 1 L-Glutamate = 1 2-Oxoglutarate + 1 L-histidinol-phosphate | D98: =Master!D244 -> 2.6.1.9 | E98: =Master!E244 -> 0 | F98: =Master!F244 -> 0 | G98: =Master!G244 -> histidinol-phosphate aminotransferase | H98: =Master!H244 -> Y | J98: =A98 -> R244 | K98: =C98 -> 1 imidazole-acetol-phosphate + 1 L-Glutamate = 1 2-Oxoglutarate + 1 L-histidinol-phosphate | L98: | | M98: # | N98: =IF(EXACT(H98,"Y"),"-inf","0") -> -inf | O98: Inf | P98: 0 | Q98: 0 | R98: 1 | S98: 1 | T98: 0 | U98: 0.01
A99: =Master!A246 -> R246 | B99: =Master!B246 -> his_R03013_assumed | C99: =Master!C246 -> 1 H2O + 1 L-histidinol-phosphate = 1 L-Histidinol + 1 Phosphate | D99: =Master!D246 -> 3.1.3.15 | E99: =Master!E246 -> 0 | F99: =Master!F246 -> 0 | G99: =Master!G246 -> Histidinol-phosphate/aromatic aminotransferase and cobyric acid decarboxylase | H99: =Master!H246 -> N | J99: =A99 -> R246 | K99: =C99 -> 1 H2O + 1 L-histidinol-phosphate = 1 L-Histidinol + 1 Phosphate | L99: | | M99: # | N99: =IF(EXACT(H99,"Y"),"-inf","0") -> 0 | O99: Inf | P99: 0 | Q99: 0 | R99: 1 | S99: 1 | T99: 0 | U99: 0.01
A100: =Master!A248 -> R248 | B100: =Master!B248 -> his_R03012 | C100: =Master!C248 -> 1 L-Histidinol + 1 NAD = 1 L-Histidinal + 1 NADH + 1 Proton | D100: =Master!D248 -> 1.1.1.23 | E100: =Master!E248 -> 0 | F100: =Master!F248 -> 0 | G100: =Master!G248 -> histidinol dehydrogenase | H100: =Master!H248 -> N | J100: =A100 -> R248 | K100: =C100 -> 1 L-Histidinol + 1 NAD = 1 L-Histidinal + 1 NADH + 1 Proton | L100: | | M100: # | N100: =IF(EXACT(H100,"Y"),"-inf","0") -> 0 | O100: Inf | P100: 0 | Q100: 0 | R100: 1 | S100: 1 | T100: 0 | U100: 0.01
...

Sheet Metabolites
D1: =IF(OR(EXACT(A1,"CO2_out"),EXACT(A1,"Fe_II_ext"),EXACT(A1,"Fe_III_ext"),EXACT(A1,"formate_ext"),EXACT(A1,"formaldehyde_ext"),EXACT(A1,"H2O"),EXACT(A1,"H2O2_ext"),EXACT(A1,"H2S_ext"),EXACT(A1,"kg_biomass_EXT"),EXACT(A1,"Maintenance_leak"),EXACT(A1,"NH3_ext"),EXACT(A1,"O2_out"),EXACT(A1,"Phosphate_out"),EXACT(A1,"proton_external"),EXACT(A1,"Sulfate_ext"),EXACT(A1,"Sulfite_ext"),EXACT(A1,"Sulfur_ext"),EXACT(A1,"tetrathionate_ext"),EXACT(A1,"Thiosulfate_ext")),1,0) -> 0 | F1: formula | G1: C | H1: H | I1: N | J1: O | K1: P | L1: S | M1: e- avail. (NH3 ref) | N1: γ (° of red., NH3 ref) | O1: SMILES | P1: Minus Charge | Q1: Plus Charge | R1: Total Charge
A2: 1_3-Bisphospho-D-glycerate | B2: 1_3-Bisphospho-D-glycerate | C2: 0 | D2: =IF(OR(EXACT(A2,"CO2_out"),EXACT(A2,"Fe_II_ext"),EXACT(A2,"Fe_III_ext"),EXACT(A2,"formate_ext"),EXACT(A2,"formaldehyde_ext"),EXACT(A2,"H2O"),EXACT(A2,"H2O2_ext"),EXACT(A2,"H2S_ext"),EXACT(A2,"kg_biomass_EXT"),EXACT(A2,"Maintenance_leak"),EXACT(A2,"NH3_ext"),EXACT(A2,"O2_out"),EXACT(A2,"Phosphate_out"),EXACT(A2,"proton_external"),EXACT(A2,"Sulfate_ext"),EXACT(A2,"Sulfite_ext"),EXACT(A2,"Sulfur_ext"),EXACT(A2,"tetrathionate_ext"),EXACT(A2,"Thiosulfate_ext")),1,0) -> 0 | F2: C3H4O10P2 | G2: 3 | H2: 4 | J2: 10 | K2: 2 | M2: =IF(G2=0,N2,N2*G2) -> 10 | N2: =IF(G2=0,(4*G2+H2-2*J2-3*I2+5*K2-2*L2-R2),(4*G2+H2-2*J2-3*I2+5*K2-2*L2-R2)/G2) -> 3.3333333 | O2: C(C(O)C(OP(=O)([O-])[O-])=O)OP(=O)([O-])[O-] | P2: =SUM(LEN($O2)-LEN(SUBSTITUTE($O2,"-","")))/LEN("-") -> 4 | Q2: =SUM(LEN($O2)-LEN(SUBSTITUTE($O2,"+","")))/LEN("+") -> 0 | R2: =Q2-P2 -> -4
A3: 10-Formyltetrahydrofolate | B3: 10-Formyltetrahydrofolate | C3: 0 | D3: =IF(OR(EXACT(A3,"CO2_out"),EXACT(A3,"Fe_II_ext"),EXACT(A3,"Fe_III_ext"),EXACT(A3,"formate_ext"),EXACT(A3,"formaldehyde_ext"),EXACT(A3,"H2O"),EXACT(A3,"H2O2_ext"),EXACT(A3,"H2S_ext"),EXACT(A3,"kg_biomass_EXT"),EXACT(A3,"Maintenance_leak"),EXACT(A3,"NH3_ext"),EXACT(A3,"O2_out"),EXACT(A3,"Phosphate_out"),EXACT(A3,"proton_external"),EXACT(A3,"Sulfate_ext"),EXACT(A3,"Sulfite_ext"),EXACT(A3,"Sulfur_ext"),EXACT(A3,"tetrathionate_ext"),EXACT(A3,"Thiosulfate_ext")),1,0) -> 0 | F3: C20H21N7O7 | G3: 20 | H3: 21 | I3: 7 | J3: 7 | M3: =IF(G3=0,N3,N3*G3) -> 68 | N3: =IF(G3=0,(4*G3+H3-2*J3-3*I3+5*K3-2*L3-R3),(4*G3+H3-2*J3-3*I3+5*K3-2*L3-R3)/G3) -> 3.4 | O3: C(=O)N(CC1(CNC2(NC(N)=NC(=O)C(N1)=2)))C3(=CC=C(C=C3)C(=O)NC(CCC(=O)[O-])C(=O)[O-]) | P3: =SUM(LEN($O3)-LEN(SUBSTITUTE($O3,"-","")))/LEN("-") -> 2 | Q3: =SUM(LEN($O3)-LEN(SUBSTITUTE($O3,"+","")))/LEN("+") -> 0 | R3: =Q3-P3 -> -2
A4: 1-2-carboxyphenylamino-1-deoxyribulose-5-phosphate | B4: 1-2-carboxyphenylamino-1-deoxyribulose-5-phosphate | C4: 0 | D4: =IF(OR(EXACT(A4,"CO2_out"),EXACT(A4,"Fe_II_ext"),EXACT(A4,"Fe_III_ext"),EXACT(A4,"formate_ext"),EXACT(A4,"formaldehyde_ext"),EXACT(A4,"H2O"),EXACT(A4,"H2O2_ext"),EXACT(A4,"H2S_ext"),EXACT(A4,"kg_biomass_EXT"),EXACT(A4,"Maintenance_leak"),EXACT(A4,"NH3_ext"),EXACT(A4,"O2_out"),EXACT(A4,"Phosphate_out"),EXACT(A4,"proton_external"),EXACT(A4,"Sulfate_ext"),EXACT(A4,"Sulfite_ext"),EXACT(A4,"Sulfur_ext"),EXACT(A4,"tetrathionate_ext"),EXACT(A4,"Thiosulfate_ext")),1,0) -> 0 | F4: C12H13NO9P | G4: 12 | H4: 13 | I4: 1 | J4: 9 | K4: 1 | M4: =IF(G4=0,N4,N4*G4) -> 48 | N4: =IF(G4=0,(4*G4+H4-2*J4-3*I4+5*K4-2*L4-R4),(4*G4+H4-2*J4-3*I4+5*K4-2*L4-R4)/G4) -> 4 | O4: C(=O)([O-])C1(C=CC=CC(NCC(=O)C(O)C(O)COP(=O)([O-])[O-])=1) | P4: =SUM(LEN($O4)-LEN(SUBSTITUTE($O4,"-","")))/LEN("-") -> 3 | Q4: =SUM(LEN($O4)-LEN(SUBSTITUTE($O4,"+","")))/LEN("+") -> 0 | R4: =Q4-P4 -> -3
A5: 1-Pyrroline-5-carboxylate | B5: 1-Pyrroline-5-carboxylate | C5: 0 | D5: =IF(OR(EXACT(A5,"CO2_out"),EXACT(A5,"Fe_II_ext"),EXACT(A5,"Fe_III_ext"),EXACT(A5,"formate_ext"),EXACT(A5,"formaldehyde_ext"),EXACT(A5,"H2O"),EXACT(A5,"H2O2_ext"),EXACT(A5,"H2S_ext"),EXACT(A5,"kg_biomass_EXT"),EXACT(A5,"Maintenance_leak"),EXACT(A5,"NH3_ext"),EXACT(A5,"O2_out"),EXACT(A5,"Phosphate_out"),EXACT(A5,"proton_external"),EXACT(A5,"Sulfate_ext"),EXACT(A5,"Sulfite_ext"),EXACT(A5,"Sulfur_ext"),EXACT(A5,"tetrathionate_ext"),EXACT(A5,"Thiosulfate_ext")),1,0) -> 0 | F5: C5H6NO2 | G5: 5 | H5: 6 | I5: 1 | J5: 2 | M5: =IF(G5=0,N5,N5*G5) -> 20 | N5: =IF(G5=0,(4*G5+H5-2*J5-3*I5+5*K5-2*L5-R5),(4*G5+H5-2*J5-3*I5+5*K5-2*L5-R5)/G5) -> 4 | O5: C1(CCC(N=1)C(=O)[O-]) | P5: =SUM(LEN($O5)-LEN(SUBSTITUTE($O5,"-","")))/LEN("-") -> 1 | Q5: =SUM(LEN($O5)-LEN(SUBSTITUTE($O5,"+","")))/LEN("+") -> 0 | R5: =Q5-P5 -> -1
A6: 2_3-Dihydroxy-3-methylvalerate | B6: 2_3-Dihydroxy-3-methylvalerate | C6: 0 | D6: =IF(OR(EXACT(A6,"CO2_out"),EXACT(A6,"Fe_II_ext"),EXACT(A6,"Fe_III_ext"),EXACT(A6,"formate_ext"),EXACT(A6,"formaldehyde_ext"),EXACT(A6,"H2O"),EXACT(A6,"H2O2_ext"),EXACT(A6,"H2S_ext"),EXACT(A6,"kg_biomass_EXT"),EXACT(A6,"Maintenance_leak"),EXACT(A6,"NH3_ext"),EXACT(A6,"O2_out"),EXACT(A6,"Phosphate_out"),EXACT(A6,"proton_external"),EXACT(A6,"Sulfate_ext"),EXACT(A6,"Sulfite_ext"),EXACT(A6,"Sulfur_ext"),EXACT(A6,"tetrathionate_ext"),EXACT(A6,"Thiosulfate_ext")),1,0) -> 0 | F6: C6H11O4 | G6: 6 | H6: 11 | J6: 4 | M6: =IF(G6=0,N6,N6*G6) -> 28 | N6: =IF(G6=0,(4*G6+H6-2*J6-3*I6+5*K6-2*L6-R6),(4*G6+H6-2*J6-3*I6+5*K6-2*L6-R6)/G6) -> 4.6666667 | O6: CC(CC)(O)C(C([O-])=O)O | P6: =SUM(LEN($O6)-LEN(SUBSTITUTE($O6,"-","")))/LEN("-") -> 1 | Q6: =SUM(LEN($O6)-LEN(SUBSTITUTE($O6,"+","")))/LEN("+") -> 0 | R6: =Q6-P6 -> -1
A7: 2_3-Dihydroxy-isovalerate | B7: 2_3-Dihydroxy-isovalerate | C7: 0 | D7: =IF(OR(EXACT(A7,"CO2_out"),EXACT(A7,"Fe_II_ext"),EXACT(A7,"Fe_III_ext"),EXACT(A7,"formate_ext"),EXACT(A7,"formaldehyde_ext"),EXACT(A7,"H2O"),EXACT(A7,"H2O2_ext"),EXACT(A7,"H2S_ext"),EXACT(A7,"kg_biomass_EXT"),EXACT(A7,"Maintenance_leak"),EXACT(A7,"NH3_ext"),EXACT(A7,"O2_out"),EXACT(A7,"Phosphate_out"),EXACT(A7,"proton_external"),EXACT(A7,"Sulfate_ext"),EXACT(A7,"Sulfite_ext"),EXACT(A7,"Sulfur_ext"),EXACT(A7,"tetrathionate_ext"),EXACT(A7,"Thiosulfate_ext")),1,0) -> 0 | F7: C5H9O4 | G7: 5 | H7: 9 | J7: 4 | M7: =IF(G7=0,N7,N7*G7) -> 22 | N7: =IF(G7=0,(4*G7+H7-2*J7-3*I7+5*K7-2*L7-R7),(4*G7+H7-2*J7-3*I7+5*K7-2*L7-R7)/G7) -> 4.4 | O7: CC(C)(O)C(O)C(=O)[O-] | P7: =SUM(LEN($O7)-LEN(SUBSTITUTE($O7,"-","")))/LEN("-") -> 1 | Q7: =SUM(LEN($O7)-LEN(SUBSTITUTE($O7,"+","")))/LEN("+") -> 0 | R7: =Q7-P7 -> -1
A8: 2-Aceto-2-hydroxybutanoate | B8: 2-Aceto-2-hydroxybutanoate | C8: 0 | D8: =IF(OR(EXACT(A8,"CO2_out"),EXACT(A8,"Fe_II_ext"),EXACT(A8,"Fe_III_ext"),EXACT(A8,"formate_ext"),EXACT(A8,"formaldehyde_ext"),EXACT(A8,"H2O"),EXACT(A8,"H2O2_ext"),EXACT(A8,"H2S_ext"),EXACT(A8,"kg_biomass_EXT"),EXACT(A8,"Maintenance_leak"),EXACT(A8,"NH3_ext"),EXACT(A8,"O2_out"),EXACT(A8,"Phosphate_out"),EXACT(A8,"proton_external"),EXACT(A8,"Sulfate_ext"),EXACT(A8,"Sulfite_ext"),EXACT(A8,"Sulfur_ext"),EXACT(A8,"tetrathionate_ext"),EXACT(A8,"Thiosulfate_ext")),1,0) -> 0 | F8: C6H9O4 | G8: 6 | H8: 9 | J8: 4 | M8: =IF(G8=0,N8,N8*G8) -> 26 | N8: =IF(G8=0,(4*G8+H8-2*J8-3*I8+5*K8-2*L8-R8),(4*G8+H8-2*J8-3*I8+5*K8-2*L8-R8)/G8) -> 4.3333333 | O8: CC(C(CC)(O)C(=O)[O-])=O | P8: =SUM(LEN($O8)-LEN(SUBSTITUTE($O8,"-","")))/LEN("-") -> 1 | Q8: =SUM(LEN($O8)-LEN(SUBSTITUTE($O8,"+","")))/LEN("+") -> 0 | R8: =Q8-P8 -> -1
A9: 2-Hydroxyethyl-ThPP | B9: 2-Hydroxyethyl-ThPP | C9: 0 | D9: =IF(OR(EXACT(A9,"CO2_out"),EXACT(A9,"Fe_II_ext"),EXACT(A9,"Fe_III_ext"),EXACT(A9,"formate_ext"),EXACT(A9,"formaldehyde_ext"),EXACT(A9,"H2O"),EXACT(A9,"H2O2_ext"),EXACT(A9,"H2S_ext"),EXACT(A9,"kg_biomass_EXT"),EXACT(A9,"Maintenance_leak"),EXACT(A9,"NH3_ext"),EXACT(A9,"O2_out"),EXACT(A9,"Phosphate_out"),EXACT(A9,"proton_external"),EXACT(A9,"Sulfate_ext"),EXACT(A9,"Sulfite_ext"),EXACT(A9,"Sulfur_ext"),EXACT(A9,"tetrathionate_ext"),EXACT(A9,"Thiosulfate_ext")),1,0) -> 0 | F9: C14H20N4O8P2S | G9: 14 | H9: 20 | I9: 4 | J9: 8 | K9: 2 | L9: 1 | M9: =IF(G9=0,N9,N9*G9) -> 58 | N9: =IF(G9=0,(4*G9+H9-2*J9-3*I9+5*K9-2*L9-R9),(4*G9+H9-2*J9-3*I9+5*K9-2*L9-R9)/G9) -> 4.1428571 | O9: CC2(=C(SC(C(C)O)=[N+](CC1(C=NC(C)=NC(N)=1))2)CCOP(=O)([O-])OP(=O)([O-])[O-]) | P9: =SUM(LEN($O9)-LEN(SUBSTITUTE($O9,"-","")))/LEN("-") -> 3 | Q9: =SUM(LEN($O9)-LEN(SUBSTITUTE($O9,"+","")))/LEN("+") -> 1 | R9: =Q9-P9 -> -2
A10: 2-isopropyl-3-oxosuccinate | B10: 2-isopropyl-3-oxosuccinate | C10: 0 | D10: =IF(OR(EXACT(A10,"CO2_out"),EXACT(A10,"Fe_II_ext"),EXACT(A10,"Fe_III_ext"),EXACT(A10,"formate_ext"),EXACT(A10,"formaldehyde_ext"),EXACT(A10,"H2O"),EXACT(A10,"H2O2_ext"),EXACT(A10,"H2S_ext"),EXACT(A10,"kg_biomass_EXT"),EXACT(A10,"Maintenance_leak"),EXACT(A10,"NH3_ext"),EXACT(A10,"O2_out"),EXACT(A10,"Phosphate_out"),EXACT(A10,"proton_external"),EXACT(A10,"Sulfate_ext"),EXACT(A10,"Sulfite_ext"),EXACT(A10,"Sulfur_ext"),EXACT(A10,"tetrathionate_ext"),EXACT(A10,"Thiosulfate_ext")),1,0) -> 0 | F10: C7H8O5 | G10: 7 | H10: 8 | J10: 5 | M10: =IF(G10=0,N10,N10*G10) -> 28 | N10: =IF(G10=0,(4*G10+H10-2*J10-3*I10+5*K10-2*L10-R10),(4*G10+H10-2*J10-3*I10+5*K10-2*L10-R10)/G10) -> 4 | O10: C(=O)([O-])C(C(C)C)C(=O)C(=O)[O-] | P10: =SUM(LEN($O10)-LEN(SUBSTITUTE($O10,"-","")))/LEN("-") -> 2 | Q10: =SUM(LEN($O10)-LEN(SUBSTITUTE($O10,"+","")))/LEN("+") -> 0 | R10: =Q10-P10 -> -2
A11: 2-Isopropylmalate | B11: 2-Isopropylmalate | C11: 0 | D11: =IF(OR(EXACT(A11,"CO2_out"),EXACT(A11,"Fe_II_ext"),EXACT(A11,"Fe_III_ext"),EXACT(A11,"formate_ext"),EXACT(A11,"formaldehyde_ext"),EXACT(A11,"H2O"),EXACT(A11,"H2O2_ext"),EXACT(A11,"H2S_ext"),EXACT(A11,"kg_biomass_EXT"),EXACT(A11,"Maintenance_leak"),EXACT(A11,"NH3_ext"),EXACT(A11,"O2_out"),EXACT(A11,"Phosphate_out"),EXACT(A11,"proton_external"),EXACT(A11,"Sulfate_ext"),EXACT(A11,"Sulfite_ext"),EXACT(A11,"Sulfur_ext"),EXACT(A11,"tetrathionate_ext"),EXACT(A11,"Thiosulfate_ext")),1,0) -> 0 | F11: C7H10O5 | G11: 7 | H11: 10 | J11: 5 | M11: =IF(G11=0,N11,N11*G11) -> 30 | N11: =IF(G11=0,(4*G11+H11-2*J11-3*I11+5*K11-2*L11-R11),(4*G11+H11-2*J11-3*I11+5*K11-2*L11-R11)/G11) -> 4.2857143 | O11: CC(C(O)(CC(=O)[O-])C([O-])=O)C | P11: =SUM(LEN($O11)-LEN(SUBSTITUTE($O11,"-","")))/LEN("-") -> 2 | Q11: =SUM(LEN($O11)-LEN(SUBSTITUTE($O11,"+","")))/LEN("+") -> 0 | R11: =Q11-P11 -> -2
A12: 2-Isopropylmaleate | B12: 2-Isopropylmaleate | C12: 0 | D12: =IF(OR(EXACT(A12,"CO2_out"),EXACT(A12,"Fe_II_ext"),EXACT(A12,"Fe_III_ext"),EXACT(A12,"formate_ext"),EXACT(A12,"formaldehyde_ext"),EXACT(A12,"H2O"),EXACT(A12,"H2O2_ext"),EXACT(A12,"H2S_ext"),EXACT(A12,"kg_biomass_EXT"),EXACT(A12,"Maintenance_leak"),EXACT(A12,"NH3_ext"),EXACT(A12,"O2_out"),EXACT(A12,"Phosphate_out"),EXACT(A12,"proton_external"),EXACT(A12,"Sulfate_ext"),EXACT(A12,"Sulfite_ext"),EXACT(A12,"Sulfur_ext"),EXACT(A12,"tetrathionate_ext"),EXACT(A12,"Thiosulfate_ext")),1,0) -> 0 | F12: C7H8O4 | G12: 7 | H12: 8 | J12: 4 | M12: =IF(G12=0,N12,N12*G12) -> 30 | N12: =IF(G12=0,(4*G12+H12-2*J12-3*I12+5*K12-2*L12-R12),(4*G12+H12-2*J12-3*I12+5*K12-2*L12-R12)/G12) -> 4.2857143 | O12: CC(C(C(=O)[O-])=CC(=O)[O-])C | P12: =SUM(LEN($O12)-LEN(SUBSTITUTE($O12,"-","")))/LEN("-") -> 2 | Q12: =SUM(LEN($O12)-LEN(SUBSTITUTE($O12,"+","")))/LEN("+") -> 0 | R12: =Q12-P12 -> -2
A13: 2-Oxobutyrate | B13: 2-Oxobutyrate | C13: 0 | D13: =IF(OR(EXACT(A13,"CO2_out"),EXACT(A13,"Fe_II_ext"),EXACT(A13,"Fe_III_ext"),EXACT(A13,"formate_ext"),EXACT(A13,"formaldehyde_ext"),EXACT(A13,"H2O"),EXACT(A13,"H2O2_ext"),EXACT(A13,"H2S_ext"),EXACT(A13,"kg_biomass_EXT"),EXACT(A13,"Maintenance_leak"),EXACT(A13,"NH3_ext"),EXACT(A13,"O2_out"),EXACT(A13,"Phosphate_out"),EXACT(A13,"proton_external"),EXACT(A13,"Sulfate_ext"),EXACT(A13,"Sulfite_ext"),EXACT(A13,"Sulfur_ext"),EXACT(A13,"tetrathionate_ext"),EXACT(A13,"Thiosulfate_ext")),1,0) -> 0 | F13: C4H5O3 | G13: 4 | H13: 5 | J13: 3 | M13: =IF(G13=0,N13,N13*G13) -> 16 | N13: =IF(G13=0,(4*G13+H13-2*J13-3*I13+5*K13-2*L13-R13),(4*G13+H13-2*J13-3*I13+5*K13-2*L13-R13)/G13) -> 4 | O13: C(C(CC)=O)([O-])=O | P13: =SUM(LEN($O13)-LEN(SUBSTITUTE($O13,"-","")))/LEN("-") -> 1 | Q13: =SUM(LEN($O13)-LEN(SUBSTITUTE($O13,"+","")))/LEN("+") -> 0 | R13: =Q13-P13 -> -1
